BEGIN:VCALENDAR
VERSION:2.0
PRODID:-//Acelera Pymes COIIAOC Cádiz - ECPv6.15.15//NONSGML v1.0//EN
CALSCALE:GREGORIAN
METHOD:PUBLISH
X-ORIGINAL-URL:https://acelerapymecoiiaocsevilla.com
X-WR-CALDESC:Eventos para Acelera Pymes COIIAOC Cádiz
REFRESH-INTERVAL;VALUE=DURATION:PT1H
X-Robots-Tag:noindex
X-PUBLISHED-TTL:PT1H
BEGIN:VTIMEZONE
TZID:Europe/Madrid
BEGIN:DAYLIGHT
TZOFFSETFROM:+0100
TZOFFSETTO:+0200
TZNAME:CEST
DTSTART:20220327T010000
END:DAYLIGHT
BEGIN:STANDARD
TZOFFSETFROM:+0200
TZOFFSETTO:+0100
TZNAME:CET
DTSTART:20221030T010000
END:STANDARD
BEGIN:DAYLIGHT
TZOFFSETFROM:+0100
TZOFFSETTO:+0200
TZNAME:CEST
DTSTART:20230326T010000
END:DAYLIGHT
BEGIN:STANDARD
TZOFFSETFROM:+0200
TZOFFSETTO:+0100
TZNAME:CET
DTSTART:20231029T010000
END:STANDARD
BEGIN:DAYLIGHT
TZOFFSETFROM:+0100
TZOFFSETTO:+0200
TZNAME:CEST
DTSTART:20240331T010000
END:DAYLIGHT
BEGIN:STANDARD
TZOFFSETFROM:+0200
TZOFFSETTO:+0100
TZNAME:CET
DTSTART:20241027T010000
END:STANDARD
END:VTIMEZONE
BEGIN:VEVENT
DTSTART;TZID=Europe/Madrid:20231030T140000
DTEND;TZID=Europe/Madrid:20231030T140000
DTSTAMP:20260420T224144
CREATED:20231011T093218Z
LAST-MODIFIED:20231011T093218Z
UID:18735-1698674400-1698674400@acelerapymecoiiaocsevilla.com
SUMMARY:PRESENTACIÓN PROGRAMA ACELERA PYME "ACTUALIZACIÓN DIGITAL" EN VISO DEL ALCOR
DESCRIPTION:Inscribirse aquí\nEl próximo 30 de octubre\, a las 14 horas\, Acelera Pyme Coiiaoc celebra un evento imperdible en el Centro Cultural Convento del Corpus Christi\, en Visor del Alcor (C. Convento\, 6). El evento consta de dos partes: \nEn primer lugar a las 14 horas se llevará a cabo la presentación de programa Acelera Pyme. Esta presentación se titula “Programa Acelera Pyme: Actualización Digital” y será presentado por Luis Lanne-Lenne. Aquí\, los asistentes podrán conocer de primera mano todo lo que el programa Acelera Pyme les ofrece para la digitalización de sus negocios gracias al Kit Digital y Red.es. \nA partir de las 15 horas\, continuaremos con una charla muy interesante titulada “Redes Sociales y Whatsapp Business”\, con dos expertas en el campo: Susana Macías y Laura Guerrero. Ellas compartirán consejos y trucos para sacar el máximo provecho de las redes sociales y Whatsapp Business en la transformación digital de tu negocio. \nEste evento está diseñado para autónomos\, pequeñas y medianas empresas\, así como empresarios que deseen mejorar su presencia en línea y optimizar sus operaciones. \nLo mejor es que la inscripción es gratuita\, pero los lugares son limitados. Así que\, si estás interesado\, te recomendamo que te registres pronto. \nNo dejes pasar esta oportunidad para impulsar tu negocio en la era digital. ¡Únete a nosotros el 30 de octubre y sé parte de esta emocionante jornada de aprendizaje y networking! \nSi deseas más información o registrarte pincha aquí \n¡Te esperamos en este evento que promete ser enriquecedor y lleno de oportunidades! \nAcelera Pyme Coiiaoc se dedica a apoyar a pequeñas y medianas empresas en su proceso de digitalización. Contamos con una red de expertos y recursos para ayudarte en tu camino hacia el éxito en la era digital.
URL:https://acelerapymecoiiaocsevilla.com/eventos/presentacion-programa-acelera-pyme-actualizacion-digital-en-viso-del-alcor/
LOCATION:Centro Cultural Convento del Corpus Christi\, C. Convento\, 6\, Viso del Alcor
END:VEVENT
BEGIN:VEVENT
DTSTART;TZID=Europe/Madrid:20231030T150000
DTEND;TZID=Europe/Madrid:20231030T150000
DTSTAMP:20260420T224144
CREATED:20231011T095106Z
LAST-MODIFIED:20231011T095106Z
UID:18742-1698678000-1698678000@acelerapymecoiiaocsevilla.com
SUMMARY:JORNADA "IMPULSA TU MARCA. WHATSAPP BUSINESS Y RRSS\, ESTRATEGIAS DE VANGUARDIA PARA TU EMPRESA"
DESCRIPTION:Inscribirse aquí\nEl próximo 30 de octubre\, a las 14 horas\, Acelera Pyme Coiiaoc celebra un evento imperdible en el Centro Cultural Convento del Corpus Christi\, en Visor del Alcor (C. Convento\, 6). El evento consta de dos partes: \nEn primer lugar a las 14 horas se llevará a cabo la presentación de programa Acelera Pyme. Esta presentación se titula “Programa Acelera Pyme: Actualización Digital” y será presentado por Luis Lanne-Lenne. Aquí\, los asistentes podrán conocer de primera mano todo lo que el programa Acelera Pyme les ofrece para la digitalización de sus negocios gracias al Kit Digital y Red.es. \nA partir de las 15 horas\, continuaremos con una charla muy interesante titulada “Redes Sociales y Whatsapp Business”\, con dos expertas en el campo: Susana Macías y Laura Guerrero. Ellas compartirán consejos y trucos para sacar el máximo provecho de las redes sociales y Whatsapp Business en la transformación digital de tu negocio. \nEste evento está diseñado para autónomos\, pequeñas y medianas empresas\, así como empresarios que deseen mejorar su presencia en línea y optimizar sus operaciones. \nLo mejor es que la inscripción es gratuita\, pero los lugares son limitados. Así que\, si estás interesado\, te recomendamo que te registres pronto. \nNo dejes pasar esta oportunidad para impulsar tu negocio en la era digital. ¡Únete a nosotros el 30 de octubre y sé parte de esta emocionante jornada de aprendizaje y networking! \nSi deseas más información o registrarte pincha aquí \n¡Te esperamos en este evento que promete ser enriquecedor y lleno de oportunidades! \nAcelera Pyme Coiiaoc se dedica a apoyar a pequeñas y medianas empresas en su proceso de digitalización. Contamos con una red de expertos y recursos para ayudarte en tu camino hacia el éxito en la era digital.
URL:https://acelerapymecoiiaocsevilla.com/eventos/jornada-impulsa-tu-marca-whatsapp-business-y-rrss-estrategias-de-vanguardia-para-tu-empresa/
LOCATION:Centro Cultural Convento del Corpus Christi\, C. Convento\, 6\, Viso del Alcor
END:VEVENT
END:VCALENDAR