BEGIN:VCALENDAR
VERSION:2.0
PRODID:-//Acelera Pymes COIIAOC Cádiz - ECPv6.15.15//NONSGML v1.0//EN
CALSCALE:GREGORIAN
METHOD:PUBLISH
X-WR-CALNAME:Acelera Pymes COIIAOC Cádiz
X-ORIGINAL-URL:https://acelerapymecoiiaocsevilla.com
X-WR-CALDESC:Eventos para Acelera Pymes COIIAOC Cádiz
REFRESH-INTERVAL;VALUE=DURATION:PT1H
X-Robots-Tag:noindex
X-PUBLISHED-TTL:PT1H
BEGIN:VTIMEZONE
TZID:Europe/Madrid
BEGIN:DAYLIGHT
TZOFFSETFROM:+0100
TZOFFSETTO:+0200
TZNAME:CEST
DTSTART:20220327T010000
END:DAYLIGHT
BEGIN:STANDARD
TZOFFSETFROM:+0200
TZOFFSETTO:+0100
TZNAME:CET
DTSTART:20221030T010000
END:STANDARD
BEGIN:DAYLIGHT
TZOFFSETFROM:+0100
TZOFFSETTO:+0200
TZNAME:CEST
DTSTART:20230326T010000
END:DAYLIGHT
BEGIN:STANDARD
TZOFFSETFROM:+0200
TZOFFSETTO:+0100
TZNAME:CET
DTSTART:20231029T010000
END:STANDARD
BEGIN:DAYLIGHT
TZOFFSETFROM:+0100
TZOFFSETTO:+0200
TZNAME:CEST
DTSTART:20240331T010000
END:DAYLIGHT
BEGIN:STANDARD
TZOFFSETFROM:+0200
TZOFFSETTO:+0100
TZNAME:CET
DTSTART:20241027T010000
END:STANDARD
END:VTIMEZONE
BEGIN:VEVENT
DTSTART;VALUE=DATE:20231108
DTEND;VALUE=DATE:20231109
DTSTAMP:20260420T223852
CREATED:20231025T105929Z
LAST-MODIFIED:20231025T105929Z
UID:18813-1699401600-1699487999@acelerapymecoiiaocsevilla.com
SUMMARY:PRESENTACIÓN PROGRAMA ACELERA PYME “ACTUALIZACIÓN DIGITAL” EN ESPARTINAS
DESCRIPTION:  \nInscribirse aquí\n  \nEn Acelera Pyme Coiiaoc\, estamos entusiasmados por anunciar un evento que promete ser una verdadera inyección de conocimiento y creatividad para todos los emprendedores y dueños de pequeñas y medianas empresas en la región. El próximo encuentro\, que tendrá lugar en Espartinas\, será una jornada en dos partes\, diseñada para ayudarte a optimizar tu negocio en la era digital y mejorar la imagen de tu marca sin afectar tu presupuesto. \nPrimero tendrá lugar la presentación del programa Acelera “Actualización Digital” a las 13:00 h en la Sala Dolores Abril del Centro Cultura Casa de las Monjas. \n¿Estás listo para sumergirte en el mundo de la digitalización? La primera parte de nuestro evento\, “Actualización Digital”\, te llevará a un viaje emocionante hacia el futuro de los negocios en línea. Luis Lanne-Lenne estará al frente de esta presentación en la Sala Dolores Abril a partir de la 1 de la tarde. Aprenderás todo lo que necesitas saber sobre cómo el programa Acelera Pyme puede ser tu aliado en la transformación digital de tu negocio. Desde el Kit Digital hasta Red.es\, descubrirás las herramientas esenciales que te ayudarán a destacar en el competitivo mundo en línea. \nLa segunda parte del evento será la jornada “Canva y Cap Cut: Haz que tu Negocio Destaque con Bajo Presupuesto” y tendrá lugar a las 16:00 h en el Centro Cultural Casa de las Monjas en la sala Alambique bajo \nSi has soñado alguna vez con crear diseños impactantes y videos cautivadores para tu negocio sin gastar una fortuna ¡Estás de suerte! A las 4 de la tarde\, en el Centro Cultural Casa de las Monjas\, Sandra Aparicio te guiará a través de una emocionante charla titulada “Canva y Cap Cut: Haz que tu Negocio Destaque con Bajo Presupuesto”. Descubrirás cómo estas dos herramientas pueden ser tus aliadas para mejorar la imagen de tu marca y promocionar tus productos o servicios sin romper el banco. \nComo hemos anunciado al principio nuestro evento tendrá lugar en dos ubicaciones impresionantes en Espartinas: la Sala Dolores Abril y la sala Alambique Bajo ambas en el Centro Cultural Casa de las Monjas. Dos momentos de aprendizaje que no querrás perderte. \nEstamos comprometidos en apoyar a emprendedores y pequeñas empresas en su viaje hacia el éxito en la era digital. La inscripción es gratuita\, pero los cupos son limitados\, así que asegúrate de registrarte con anticipación. \nSigue atento a nuestra página web y redes sociales para obtener más detalles sobre este emocionante evento. ¡Esperamos verte allí para un día lleno de aprendizaje y oportunidades!
URL:https://acelerapymecoiiaocsevilla.com/eventos/presentacion-programa-acelera-pyme-actualizacion-digital-en-espartinas/
LOCATION:Centro Cultural Casa de Las Monjas\, Sala dolores abril
END:VEVENT
BEGIN:VEVENT
DTSTART;VALUE=DATE:20231108
DTEND;VALUE=DATE:20231109
DTSTAMP:20260420T223852
CREATED:20231025T111633Z
LAST-MODIFIED:20231025T111633Z
UID:18821-1699401600-1699487999@acelerapymecoiiaocsevilla.com
SUMMARY:CANVA Y CAPCUT “HAZ QUE TU NEGOCIO DESTAQUE CON BAJO PRESUPUESTO“
DESCRIPTION:  \nInscribirse aquí\n  \nEn Acelera Pyme Coiiaoc\, estamos entusiasmados por anunciar un evento que promete ser una verdadera inyección de conocimiento y creatividad para todos los emprendedores y dueños de pequeñas y medianas empresas en la región. El próximo encuentro\, que tendrá lugar en Espartinas\, será una jornada en dos partes\, diseñada para ayudarte a optimizar tu negocio en la era digital y mejorar la imagen de tu marca sin afectar tu presupuesto. \nPrimero tendrá lugar la presentación del programa Acelera “Actualización Digital” a las 13:00 h en la Sala Dolores Abril del Centro Cultura Casa de las Monjas. \n¿Estás listo para sumergirte en el mundo de la digitalización? La primera parte de nuestro evento\, “Actualización Digital”\, te llevará a un viaje emocionante hacia el futuro de los negocios en línea. Luis Lanne-Lenne estará al frente de esta presentación en la Sala Dolores Abril a partir de la 1 de la tarde. Aprenderás todo lo que necesitas saber sobre cómo el programa Acelera Pyme puede ser tu aliado en la transformación digital de tu negocio. Desde el Kit Digital hasta Red.es\, descubrirás las herramientas esenciales que te ayudarán a destacar en el competitivo mundo en línea. \nLa segunda parte del evento será la jornada “Canva y Cap Cut: Haz que tu Negocio Destaque con Bajo Presupuesto” y tendrá lugar a las 16:00 h en el Centro Cultural Casa de las Monjas en la sala Alambique bajo \nSi has soñado alguna vez con crear diseños impactantes y videos cautivadores para tu negocio sin gastar una fortuna ¡Estás de suerte! A las 4 de la tarde\, en el Centro Cultural Casa de las Monjas\, Sandra Aparicio te guiará a través de una emocionante charla titulada “Canva y Cap Cut: Haz que tu Negocio Destaque con Bajo Presupuesto”. Descubrirás cómo estas dos herramientas pueden ser tus aliadas para mejorar la imagen de tu marca y promocionar tus productos o servicios sin romper el banco. \nComo hemos anunciado al principio nuestro evento tendrá lugar en dos ubicaciones impresionantes en Espartinas: la Sala Dolores Abril y la sala Alambique Bajo ambas en el Centro Cultural Casa de las Monjas. Dos momentos de aprendizaje que no querrás perderte. \nEstamos comprometidos en apoyar a emprendedores y pequeñas empresas en su viaje hacia el éxito en la era digital. La inscripción es gratuita\, pero los cupos son limitados\, así que asegúrate de registrarte con anticipación. \nSigue atento a nuestra página web y redes sociales para obtener más detalles sobre este emocionante evento. ¡Esperamos verte allí para un día lleno de aprendizaje y oportunidades!
URL:https://acelerapymecoiiaocsevilla.com/eventos/canva-y-capcut-haz-que-tu-negocio-destaque-con-bajo-presupuesto/
LOCATION:Centro Cultural Casa de Las Monjas\, Sala Alambique Bajo
END:VEVENT
END:VCALENDAR