BEGIN:VCALENDAR
VERSION:2.0
PRODID:-//Acelera Pymes COIIAOC Cádiz - ECPv6.15.15//NONSGML v1.0//EN
CALSCALE:GREGORIAN
METHOD:PUBLISH
X-ORIGINAL-URL:https://acelerapymecoiiaocsevilla.com
X-WR-CALDESC:Eventos para Acelera Pymes COIIAOC Cádiz
REFRESH-INTERVAL;VALUE=DURATION:PT1H
X-Robots-Tag:noindex
X-PUBLISHED-TTL:PT1H
BEGIN:VTIMEZONE
TZID:Europe/Madrid
BEGIN:DAYLIGHT
TZOFFSETFROM:+0100
TZOFFSETTO:+0200
TZNAME:CEST
DTSTART:20220327T010000
END:DAYLIGHT
BEGIN:STANDARD
TZOFFSETFROM:+0200
TZOFFSETTO:+0100
TZNAME:CET
DTSTART:20221030T010000
END:STANDARD
BEGIN:DAYLIGHT
TZOFFSETFROM:+0100
TZOFFSETTO:+0200
TZNAME:CEST
DTSTART:20230326T010000
END:DAYLIGHT
BEGIN:STANDARD
TZOFFSETFROM:+0200
TZOFFSETTO:+0100
TZNAME:CET
DTSTART:20231029T010000
END:STANDARD
BEGIN:DAYLIGHT
TZOFFSETFROM:+0100
TZOFFSETTO:+0200
TZNAME:CEST
DTSTART:20240331T010000
END:DAYLIGHT
BEGIN:STANDARD
TZOFFSETFROM:+0200
TZOFFSETTO:+0100
TZNAME:CET
DTSTART:20241027T010000
END:STANDARD
END:VTIMEZONE
BEGIN:VEVENT
DTSTART;TZID=Europe/Madrid:20231121T160000
DTEND;TZID=Europe/Madrid:20231121T180000
DTSTAMP:20260420T224320
CREATED:20231113T122959Z
LAST-MODIFIED:20231113T122959Z
UID:18914-1700582400-1700589600@acelerapymecoiiaocsevilla.com
SUMMARY:"DESCUBRE CÓMO TRANSFORMAR DIGITALMENTE TU EMPRESA: Ejemplos prácticos cercanos en 2023"
DESCRIPTION:  \nInscribirse aquí\nTe invitamos a nuestro próximo evento que se llevará a cabo el 21 de noviembre de 2023\, a las 16:00 horas\, en la Casa de la Juventud de Sanlúcar de Barrameda. El título del evento es Descubre cómo transformar digitalmente tu empresa: Ejemplos prácticos cercanos en 2023. Y estará a cargo de Luis Lanne-Lenne\, del Colegio de Ingenieros Industriales de Andalucía Occidental y por Regla María Gómez\, gerente de Kazoku Comunicación. \n¿Qué puedes esperar de esta presentación? \nLa transformación digital es esencial en el panorama empresarial actual\, y en este evento\, exploraremos cómo puedes implementar cambios significativos en tu empresa para adaptarte a la era digital. Luis Lanne-Lenne y Regla Gómez presentarán: \n1. Ejemplos prácticos del 2023: \n\nSumérgete en ejemplos reales y actuales de empresas que han abrazado la transformación digital con éxito.\nAprende cómo aplicar estas lecciones a tu propia empresa para mejorar la eficiencia y la competitividad.\n\n2. Estrategias de transformación digital: \n\nDescubre las estrategias clave para iniciar y gestionar la transformación digital en tu empresa.\nConoce las herramientas y tecnologías más relevantes en el contexto actual.\n\n3. Presentación de la oficina Acelera Pyme COIIAOC: \n\nObtén una visión detallada de cómo la Oficina Acelera Pyme puede ser tu aliado en este proceso.\nConoce los servicios y recursos disponibles para apoyar la digitalización de tu empresa.\n\nEste evento es una oportunidad única para obtener información práctica\, hacer preguntas directas a expertos en transformación digital y conectarte con otros profesionales locales. La entrada es gratuita\, pero dada la limitación de plazas\, te recomendamos que asegures tu participación registrándote con anticipación. \nMantente atento a nuestras redes sociales y sitio web para obtener detalles adicionales sobre la ubicación y cómo reservar tu lugar. ¡Únete a nosotros en Sanlúcar de Barrameda y prepárate para llevar tu empresa al siguiente nivel con Acelera Pyme!
URL:https://acelerapymecoiiaocsevilla.com/eventos/descubre-como-transformar-digitalmente-tu-empresa-ejemplos-practicos-cercanos-en-2023/
LOCATION:CASA DE LA JUVENTUD DE SANLÚCAR DE BDA\, Avda. de Bajo de Guía\, Sanlúcar de Barrameda\, Cádiz\, 11540\, España
END:VEVENT
BEGIN:VEVENT
DTSTART;TZID=Europe/Madrid:20231121T170000
DTEND;TZID=Europe/Madrid:20231121T170000
DTSTAMP:20260420T224320
CREATED:20231121T090734Z
LAST-MODIFIED:20240226T171531Z
UID:18910-1700586000-1700586000@acelerapymecoiiaocsevilla.com
SUMMARY:FACTURA ELECTRÓNICA: Gestiones con futuro
DESCRIPTION:  \nInscribirse aquí\nQueremos anunciar nuestro próximo evento que promete arrojar luz sobre la eficacia y simplicidad de la Factura Electrónica. Este encuentro está programado para el 21 de noviembre de 2023\, de 17:00 a 19:00\, en la sala de formación del Edificio Impúlsame en Mairena del Alcor. \nComo parte de nuestro compromiso continuo de ofrecer conocimientos que sirvan a empresarios y emprendedores\, hemos invitado a Susana Macías\, una experta en el ámbito de la Factura Electrónica\, para compartir su experiencia y brindar una visión integral de cómo esta herramienta puede transformar los procesos administrativos. \n¿Qué puedes esperar aprender en este evento? \nLa Factura Electrónica es mucho más que un simple cambio en la forma de emitir facturas. Es una herramienta clave para simplificar y agilizar los procesos administrativos en tu empresa. Susana Macías guiará a los participantes a través de los siguientes aspectos: \n1. Implementación Práctica: \n\nDescubrir el paso a paso para integrar la Factura Electrónica en el sistema.\nAprender a adaptar los procesos actuales para maximizar la eficiencia.\n\n2. Beneficios Estratégicos: \n\nExplorar los beneficios tangibles\, desde el ahorro de costos hasta la reducción de errores.\nComprender cómo la Factura Electrónica puede mejorar la gestión financiera de una empresa.\n\n3. Consejos para una transición sin problemas: \n\nObtener consejos prácticos para facilitar una transición suave y exitosa.\nConocer las mejores prácticas para garantizar la adopción exitosa en los equipos.\n\nEste evento es una oportunidad única para conectar con otros profesionales\, hacer preguntas directas a una experta en la materia y descubrir cómo la Factura Electrónica puede ser un activo transformador para un negocio. \nLa entrada es gratuita\, pero dado que las plazas son limitadas\, te recomendamos que reserves tu lugar con anticipación. Mantente atento a nuestras redes sociales y sitio web para obtener más detalles  ¡No te pierdas esta oportunidad de impulsar la eficiencia de tu negocio con Acelera Pyme en Mairena del Alcor!
URL:https://acelerapymecoiiaocsevilla.com/eventos/factura-electronica-gestiones-con-futuro/
LOCATION:Edificio Impúlsame\, sala de formación\, C. los Herreros\, 33\, Mairena del Alcor\, Sevilla\, 41510\, España
END:VEVENT
END:VCALENDAR