BEGIN:VCALENDAR
VERSION:2.0
PRODID:-//Acelera Pymes COIIAOC Cádiz - ECPv6.15.15//NONSGML v1.0//EN
CALSCALE:GREGORIAN
METHOD:PUBLISH
X-ORIGINAL-URL:https://acelerapymecoiiaocsevilla.com
X-WR-CALDESC:Eventos para Acelera Pymes COIIAOC Cádiz
REFRESH-INTERVAL;VALUE=DURATION:PT1H
X-Robots-Tag:noindex
X-PUBLISHED-TTL:PT1H
BEGIN:VTIMEZONE
TZID:Europe/Madrid
BEGIN:DAYLIGHT
TZOFFSETFROM:+0100
TZOFFSETTO:+0200
TZNAME:CEST
DTSTART:20220327T010000
END:DAYLIGHT
BEGIN:STANDARD
TZOFFSETFROM:+0200
TZOFFSETTO:+0100
TZNAME:CET
DTSTART:20221030T010000
END:STANDARD
BEGIN:DAYLIGHT
TZOFFSETFROM:+0100
TZOFFSETTO:+0200
TZNAME:CEST
DTSTART:20230326T010000
END:DAYLIGHT
BEGIN:STANDARD
TZOFFSETFROM:+0200
TZOFFSETTO:+0100
TZNAME:CET
DTSTART:20231029T010000
END:STANDARD
BEGIN:DAYLIGHT
TZOFFSETFROM:+0100
TZOFFSETTO:+0200
TZNAME:CEST
DTSTART:20240331T010000
END:DAYLIGHT
BEGIN:STANDARD
TZOFFSETFROM:+0200
TZOFFSETTO:+0100
TZNAME:CET
DTSTART:20241027T010000
END:STANDARD
END:VTIMEZONE
BEGIN:VEVENT
DTSTART;VALUE=DATE:20231127
DTEND;VALUE=DATE:20231128
DTSTAMP:20260420T211934
CREATED:20231117T120208Z
LAST-MODIFIED:20231117T120542Z
UID:18944-1701043200-1701129599@acelerapymecoiiaocsevilla.com
SUMMARY:CANVA Y CAPCUT. HERRAMIENTAS DE IMAGEN Y VIDEOS QUE OPTIMIZAN TU MARCA
DESCRIPTION:Inscribirse aquí\n¡Estamos emocionados de invitarte a nuestra próxima jornada de aprendizaje y creatividad! El lunes 27 de noviembre a las 17:00 horas\, nos reuniremos en el Viso del Alcor\, para sumergirnos en el fascinante universo de Canva y Cap Cut. \nLas ponentes de esta emocionante jornada serán Laura Guerrero y Rosa Belloso\, expertas de Vórtice Formación\, quienes compartirán sus conocimientos y secretos para aprovechar al máximo estas poderosas herramientas de diseño y edición de video. \n¿Qué puedes esperar de este evento? \n\nExplora la creatividad con Canva: Descubre cómo utilizar Canva para crear diseños visuales impactantes\, desde publicaciones en redes sociales hasta presentaciones profesionales. Aprende a aprovechar las plantillas\, las herramientas de diseño y los recursos disponibles para destacar en cualquier proyecto.\nEdición de video con Cap Cut: Sumérgete en el mundo de la edición de video con Cap Cut. Rosa Belloso y Laura Guerrero te guiará a través de los conceptos básicos y avanzados de esta aplicación\, desde la importación de material hasta la aplicación de efectos y transiciones. Obtén las habilidades necesarias para crear contenido visualmente atractivo y cautivador.\nConsejos y trucos de expertos: Laura y Rosa compartirán sus mejores consejos y trucos\, basados en su experiencia en el ámbito de la formación y la creatividad digital. Aprende atajos\, técnicas eficientes y estrategias para mejorar tu flujo de trabajo y obtener resultados sorprendentes.\n\nDetalles del Evento: \n\nFecha y Hora: Lunes\, 27 de noviembre\, 17:00 horas.\nLugar: Centro Cultural Convento del Corpus Christi\, Viso del Alcor\n\nEste evento es perfecto para emprendedores\, profesionales creativos\, estudiantes y cualquier persona interesada en potenciar sus habilidades digitales. \nNo te pierdas esta oportunidad de aprender\, inspirarte y conectar con otros entusiastas de la creatividad. ¡Te esperamos para una tarde llena de descubrimientos y crecimiento!
URL:https://acelerapymecoiiaocsevilla.com/eventos/canva-y-capcut-herramientas-de-imagen-y-videos-que-optimizan-tu-marca-2/
LOCATION:Centro Cultural Convento del Corpus Christi\, C. Convento\, 6\, Viso del Alcor
END:VEVENT
END:VCALENDAR