BEGIN:VCALENDAR
VERSION:2.0
PRODID:-//Acelera Pymes COIIAOC Cádiz - ECPv6.15.15//NONSGML v1.0//EN
CALSCALE:GREGORIAN
METHOD:PUBLISH
X-WR-CALNAME:Acelera Pymes COIIAOC Cádiz
X-ORIGINAL-URL:https://acelerapymecoiiaocsevilla.com
X-WR-CALDESC:Eventos para Acelera Pymes COIIAOC Cádiz
REFRESH-INTERVAL;VALUE=DURATION:PT1H
X-Robots-Tag:noindex
X-PUBLISHED-TTL:PT1H
BEGIN:VTIMEZONE
TZID:Europe/Madrid
BEGIN:DAYLIGHT
TZOFFSETFROM:+0100
TZOFFSETTO:+0200
TZNAME:CEST
DTSTART:20220327T010000
END:DAYLIGHT
BEGIN:STANDARD
TZOFFSETFROM:+0200
TZOFFSETTO:+0100
TZNAME:CET
DTSTART:20221030T010000
END:STANDARD
BEGIN:DAYLIGHT
TZOFFSETFROM:+0100
TZOFFSETTO:+0200
TZNAME:CEST
DTSTART:20230326T010000
END:DAYLIGHT
BEGIN:STANDARD
TZOFFSETFROM:+0200
TZOFFSETTO:+0100
TZNAME:CET
DTSTART:20231029T010000
END:STANDARD
BEGIN:DAYLIGHT
TZOFFSETFROM:+0100
TZOFFSETTO:+0200
TZNAME:CEST
DTSTART:20240331T010000
END:DAYLIGHT
BEGIN:STANDARD
TZOFFSETFROM:+0200
TZOFFSETTO:+0100
TZNAME:CET
DTSTART:20241027T010000
END:STANDARD
END:VTIMEZONE
BEGIN:VEVENT
DTSTART;TZID=Europe/Madrid:20231130T080000
DTEND;TZID=Europe/Madrid:20231130T183000
DTSTAMP:20260420T210745
CREATED:20231124T110525Z
LAST-MODIFIED:20240226T170344Z
UID:18981-1701331200-1701369000@acelerapymecoiiaocsevilla.com
SUMMARY:PRESENTACIÓN PROGRAMA ACELERA PYME "ACTUALIZACIÓN DIGITAL" EN CASTILLEJA DE LA CUESTA
DESCRIPTION:  \nInscribirse aquí\n  \nEn el vibrante mundo empresarial actual\, mantenerse al día con la tecnología es clave para el éxito de tu negocio. ¡Por eso\, Acelera Pyme trae para ti el evento “Presentación Programa Acelera Pyme: Actualización Digital” con Luis Lanne-Lenne\, gerente del Colegio de Ingenieros Industriales de Andalucía Occidental. \n¿Qué puedes esperar de este evento? \n\nEjemplos Reales: Aprenderás con casos prácticos de empresas que la están rompiendo en el mundo digital.\nHerramientas Top: Descubrirás las herramientas más modernas para potenciar tu negocio.\n¡Impacto a lo Grande!: Conocerás cómo esta actualización puede darle un empujón a tu empresa.\n\n¿Por Qué Asistir? Este evento es para aquellos que quieren mejorar su negocio usando la magia de la tecnología. Aprende\, conecta y ¡prepárate para llevar tu empresa al siguiente nivel! \nLa entrada es gratis\, pero las plazas vuelan. ¡Regístrate ahora mismo para no quedarte afuera de esta experiencia! \n¡Sigue nuestras redes para más detalles y sorpresas! ¡Te esperamos en Castilleja de la Cuesta para una tarde de aprendizaje y transformación digital! \nRecuerda: \n\nTítulo: Presentación Programa Acelera Pyme “Actualización Digital”\nFecha y Hora: Jueves\, 30 de noviembre\, a las 18:30h\nLugar: Centro Cívico y Social Nueva Sevilla\, Castilleja de la Cuesta
URL:https://acelerapymecoiiaocsevilla.com/eventos/presentacion-programa-acelera-pyme-actualizacion-digital-en-castilleja-de-la-cuesta/
LOCATION:Centro Cívico y Social Nueva Sevilla\, Avda. Juan Carlos I s/n
END:VEVENT
END:VCALENDAR