BEGIN:VCALENDAR
VERSION:2.0
PRODID:-//Acelera Pymes COIIAOC Cádiz - ECPv6.15.15//NONSGML v1.0//EN
CALSCALE:GREGORIAN
METHOD:PUBLISH
X-WR-CALNAME:Acelera Pymes COIIAOC Cádiz
X-ORIGINAL-URL:https://acelerapymecoiiaocsevilla.com
X-WR-CALDESC:Eventos para Acelera Pymes COIIAOC Cádiz
REFRESH-INTERVAL;VALUE=DURATION:PT1H
X-Robots-Tag:noindex
X-PUBLISHED-TTL:PT1H
BEGIN:VTIMEZONE
TZID:Europe/Madrid
BEGIN:DAYLIGHT
TZOFFSETFROM:+0100
TZOFFSETTO:+0200
TZNAME:CEST
DTSTART:20230326T010000
END:DAYLIGHT
BEGIN:STANDARD
TZOFFSETFROM:+0200
TZOFFSETTO:+0100
TZNAME:CET
DTSTART:20231029T010000
END:STANDARD
BEGIN:DAYLIGHT
TZOFFSETFROM:+0100
TZOFFSETTO:+0200
TZNAME:CEST
DTSTART:20240331T010000
END:DAYLIGHT
BEGIN:STANDARD
TZOFFSETFROM:+0200
TZOFFSETTO:+0100
TZNAME:CET
DTSTART:20241027T010000
END:STANDARD
BEGIN:DAYLIGHT
TZOFFSETFROM:+0100
TZOFFSETTO:+0200
TZNAME:CEST
DTSTART:20250330T010000
END:DAYLIGHT
BEGIN:STANDARD
TZOFFSETFROM:+0200
TZOFFSETTO:+0100
TZNAME:CET
DTSTART:20251026T010000
END:STANDARD
END:VTIMEZONE
BEGIN:VEVENT
DTSTART;TZID=Europe/Madrid:20240205T170000
DTEND;TZID=Europe/Madrid:20240205T170000
DTSTAMP:20260420T180154
CREATED:20240126T104614Z
LAST-MODIFIED:20240126T104614Z
UID:19126-1707152400-1707152400@acelerapymecoiiaocsevilla.com
SUMMARY:REDES SOCIALES Y WS BUSINESS . ESTRATEGIAS DE VANGUARDIA PARA TU NEGOCIO
DESCRIPTION:Inscribirse aquí\nSi quieres adentrarte en el mundo de las estrategias digitales no te puedes perder nuestro próximo evento: “Redes Sociales y WhatsApp Business\, estrategias de Vanguardia para tu Negocio”. La jornada se llevará a cabo el lunes 5 de febrero a las 17:00 de la tarde en la sede Thermomix\, Avenida España 109\, Dos Hermanas.  \nLas ponentes\, Laura Guerrero y Rosa Belloso de Vórtice Formación\, te guiarán a través de las últimas tendencias y prácticas efectivas en el mundo de las redes sociales y la plataforma de negocios de WhatsApp. Estas profesionales compartirán su experiencia y conocimientos para ayudarte a aprovechar al máximo estas herramientas y transformar la presencia digital de tu negocio. \n¿Qué puedes esperar en este evento? \n\nEstrategias de Redes Sociales: Descubre cómo destacar en plataformas como Facebook e Instagram. Aprende a crear contenido atractivo\, a interactuar con tu audiencia y a potenciar tu marca en el competitivo mundo digital.\nWhatsApp Business para empresas: Sumérgete en el uso efectivo de WhatsApp Business. Conoce cómo esta poderosa herramienta puede mejorar la comunicación con tus clientes\, agilizar procesos y fortalecer la relación con tu audiencia.\nCasos de éxito y consejos prácticos: Laura y Rosa compartirán casos reales de éxito\, así como consejos prácticos basados en su experiencia. Obtén ideas innovadoras para implementar en tu estrategia digital.\n\nEste evento es esencial para emprendedores\, empresarios y profesionales que buscan maximizar su presencia on line y aprovechar al máximo las redes sociales y WhatsApp Business. La entrada es gratuita\, pero las plazas son limitadas. ¡Regístrate ahora y prepárate para llevar tu negocio al siguiente nivel digital! \nRecuerda\, el próximo lunes 5 de febrero\, tienes una cita a las 17:00 de la tarde en Dos Hermanas con Laura Guerrero y Rosa Belloso para poner a punto las redes sociales de tu negocio y sacarle el máximo partido a Whatsapp Business. \n 
URL:https://acelerapymecoiiaocsevilla.com/eventos/redes-sociales-y-ws-business-estrategias-de-vanguardia-para-tu-negocio/
LOCATION:Sede Thermomix\, Avda. de España\, 109\, DOS HERMANAS\, SEVILLA\, 41700\, España
END:VEVENT
END:VCALENDAR