BEGIN:VCALENDAR
VERSION:2.0
PRODID:-//Acelera Pymes COIIAOC Cádiz - ECPv6.15.15//NONSGML v1.0//EN
CALSCALE:GREGORIAN
METHOD:PUBLISH
X-WR-CALNAME:Acelera Pymes COIIAOC Cádiz
X-ORIGINAL-URL:https://acelerapymecoiiaocsevilla.com
X-WR-CALDESC:Eventos para Acelera Pymes COIIAOC Cádiz
REFRESH-INTERVAL;VALUE=DURATION:PT1H
X-Robots-Tag:noindex
X-PUBLISHED-TTL:PT1H
BEGIN:VTIMEZONE
TZID:Europe/Madrid
BEGIN:DAYLIGHT
TZOFFSETFROM:+0100
TZOFFSETTO:+0200
TZNAME:CEST
DTSTART:20230326T010000
END:DAYLIGHT
BEGIN:STANDARD
TZOFFSETFROM:+0200
TZOFFSETTO:+0100
TZNAME:CET
DTSTART:20231029T010000
END:STANDARD
BEGIN:DAYLIGHT
TZOFFSETFROM:+0100
TZOFFSETTO:+0200
TZNAME:CEST
DTSTART:20240331T010000
END:DAYLIGHT
BEGIN:STANDARD
TZOFFSETFROM:+0200
TZOFFSETTO:+0100
TZNAME:CET
DTSTART:20241027T010000
END:STANDARD
BEGIN:DAYLIGHT
TZOFFSETFROM:+0100
TZOFFSETTO:+0200
TZNAME:CEST
DTSTART:20250330T010000
END:DAYLIGHT
BEGIN:STANDARD
TZOFFSETFROM:+0200
TZOFFSETTO:+0100
TZNAME:CET
DTSTART:20251026T010000
END:STANDARD
END:VTIMEZONE
BEGIN:VEVENT
DTSTART;TZID=Europe/Madrid:20240208T180000
DTEND;TZID=Europe/Madrid:20240208T180000
DTSTAMP:20260420T180132
CREATED:20240129T100425Z
LAST-MODIFIED:20240129T103307Z
UID:19133-1707415200-1707415200@acelerapymecoiiaocsevilla.com
SUMMARY:FACTURA ELECTRÓNICA. Tu relación con la Administración Pública: simplificando trámites y agilizando procesos
DESCRIPTION:Inscribirse aquí\n¿Estás harto/a de tener todo siempre lleno de facturas que no sabes ni dónde guardar? ¿Quieres dar el salto a la factura electrónica pero aún no sabes cómo? Pues tenemos un evento que no te puedes perder ¡Te invitamos a participar en nuestras jornadas tituladas! “Factura electrónica: tu relación con la administración pública”\, que se llevará a cabo el jueves 8 de febrero a las 17:30 horas en la Biblioteca Pública\, planta sótano\, en Utrera. \nLa factura electrónica ha revolucionado la manera en que las empresas interactúan con la administración pública\, ofreciendo eficiencia y agilidad en los procesos administrativos. En este evento\, la experta Susana Macías compartirá conocimientos clave sobre cómo la factura electrónica puede simplificar trámites y agilizar procesos\, transformando tu relación con la administración. \n¿Qué podrás descubrir en este evento? \n\nDescubre cómo la factura electrónica puede simplificar y agilizar tus procesos administrativos\, reduciendo errores y optimizando el tiempo dedicado a trámites.\nSusana Macías te guiará a través de los requisitos legales y normativas asociadas a la factura electrónica\, asegurando que tu empresa cumple con las obligaciones fiscales y administrativas.\nConoce cómo la factura electrónica puede ayudarte a reducir costos relacionados con la impresión y almacenamiento de documentos físicos.\n\nEste evento es fundamental para propietarios de empresas\, autónomos y profesionales que buscan simplificar su relación con la administración pública y mejorar la eficiencia en sus procesos. El evento es gratuito pero puedes asegurar tu plaza porque son limitadas\, así que apúntate en nuestra web! \nLa entrada es gratuita\, pero las plazas son limitadas. ¡Regístrate ahora y prepárate para optimizar tus trámites y agilizar tu relación con la administración! \nSigue nuestras redes sociales para obtener más detalles y actualizaciones sobre este evento y todos los que tenemos preparados. ¡Te esperamos para que empieces a dar el paso de llevar a tu negocio a la digitalización!
URL:https://acelerapymecoiiaocsevilla.com/eventos/factura-electronica-tu-relacion-con-la-administracion-publica-simplificando-tramites-y-agilizando-procesos-2/
LOCATION:Biblioteca Pública Utrera – Planta Sótano\, Alvarez Quintero \, 39\, utrera
END:VEVENT
END:VCALENDAR