BEGIN:VCALENDAR
VERSION:2.0
PRODID:-//Acelera Pymes COIIAOC Cádiz - ECPv6.15.15//NONSGML v1.0//EN
CALSCALE:GREGORIAN
METHOD:PUBLISH
X-ORIGINAL-URL:https://acelerapymecoiiaocsevilla.com
X-WR-CALDESC:Eventos para Acelera Pymes COIIAOC Cádiz
REFRESH-INTERVAL;VALUE=DURATION:PT1H
X-Robots-Tag:noindex
X-PUBLISHED-TTL:PT1H
BEGIN:VTIMEZONE
TZID:Europe/Madrid
BEGIN:DAYLIGHT
TZOFFSETFROM:+0100
TZOFFSETTO:+0200
TZNAME:CEST
DTSTART:20230326T010000
END:DAYLIGHT
BEGIN:STANDARD
TZOFFSETFROM:+0200
TZOFFSETTO:+0100
TZNAME:CET
DTSTART:20231029T010000
END:STANDARD
BEGIN:DAYLIGHT
TZOFFSETFROM:+0100
TZOFFSETTO:+0200
TZNAME:CEST
DTSTART:20240331T010000
END:DAYLIGHT
BEGIN:STANDARD
TZOFFSETFROM:+0200
TZOFFSETTO:+0100
TZNAME:CET
DTSTART:20241027T010000
END:STANDARD
BEGIN:DAYLIGHT
TZOFFSETFROM:+0100
TZOFFSETTO:+0200
TZNAME:CEST
DTSTART:20250330T010000
END:DAYLIGHT
BEGIN:STANDARD
TZOFFSETFROM:+0200
TZOFFSETTO:+0100
TZNAME:CET
DTSTART:20251026T010000
END:STANDARD
END:VTIMEZONE
BEGIN:VEVENT
DTSTART;VALUE=DATE:20240219
DTEND;VALUE=DATE:20240220
DTSTAMP:20260420T180422
CREATED:20240212T120904Z
LAST-MODIFIED:20240212T120904Z
UID:19177-1708300800-1708387199@acelerapymecoiiaocsevilla.com
SUMMARY:INTELIGENCIA ARTIFICIAL. UNA HERRAMIENTA PARA TU NEGOCIO
DESCRIPTION:Inscribirse aquí\n  \nDescubre el potencial de la inteligencia artificial para impulsar tu negocio en nuestro próximo evento: “Inteligencia Artificial: Una Herramienta para tu Negocio”. Únete a nosotros el lunes 19 de febrero a las 17:00h de la mañana en el Centro Cultural Casa de las Monjas\, específicamente en la Sala Dolores Abril\, en Espartinas. \nLa inteligencia artificial (IA) se ha convertido en una pieza clave en la transformación digital de las empresas. En esta jornada\, Marina Escobar Planas\, te guiará a través de las oportunidades y aplicaciones prácticas de esta tecnología revolucionaria. \n¿Qué podrás descubrir en este evento? \n\nAplicaciones prácticas de la IA: Marina compartirá ejemplos concretos de cómo la inteligencia artificial puede mejorar procesos empresariales\, optimizar la toma de decisiones y aumentar la eficiencia operativa.\nImpacto en diferentes sectores: Exploraremos cómo la IA está transformando industrias como la salud\, la manufactura\, el comercio y más. Descubre cómo tu negocio puede beneficiarse de estas innovaciones.\nHerramientas disponibles: Conoce las herramientas y plataformas de IA accesibles para empresas de todos los tamaños. Marina te proporcionará información práctica para integrar la inteligencia artificial en tu estrategia empresarial.\n\nEste evento es fundamental para empresarios\, emprendedores y profesionales que buscan mantenerse a la vanguardia de la innovación y aprovechar al máximo las oportunidades que ofrece la inteligencia artificial. \n¡La entrada es gratuita\, pero las plazas son limitadas! Regístrate ahora y prepárate para explorar cómo la inteligencia artificial puede potenciar tu negocio. Puedes apuntarte aquí \nMantente atento a nuestras redes sociales para obtener más detalles y actualizaciones sobre este evento y otros que tenemos preparados. ¡Te esperamos para una mañana de aprendizaje e inspiración en Espartinas!
URL:https://acelerapymecoiiaocsevilla.com/eventos/inteligencia-artificial-una-herramienta-para-tu-negocio/
LOCATION:Centro Cultural Casa de Las Monjas\, Sala dolores abril
END:VEVENT
END:VCALENDAR