BEGIN:VCALENDAR
VERSION:2.0
PRODID:-//Acelera Pymes COIIAOC Cádiz - ECPv6.15.15//NONSGML v1.0//EN
CALSCALE:GREGORIAN
METHOD:PUBLISH
X-ORIGINAL-URL:https://acelerapymecoiiaocsevilla.com
X-WR-CALDESC:Eventos para Acelera Pymes COIIAOC Cádiz
REFRESH-INTERVAL;VALUE=DURATION:PT1H
X-Robots-Tag:noindex
X-PUBLISHED-TTL:PT1H
BEGIN:VTIMEZONE
TZID:Europe/Madrid
BEGIN:DAYLIGHT
TZOFFSETFROM:+0100
TZOFFSETTO:+0200
TZNAME:CEST
DTSTART:20230326T010000
END:DAYLIGHT
BEGIN:STANDARD
TZOFFSETFROM:+0200
TZOFFSETTO:+0100
TZNAME:CET
DTSTART:20231029T010000
END:STANDARD
BEGIN:DAYLIGHT
TZOFFSETFROM:+0100
TZOFFSETTO:+0200
TZNAME:CEST
DTSTART:20240331T010000
END:DAYLIGHT
BEGIN:STANDARD
TZOFFSETFROM:+0200
TZOFFSETTO:+0100
TZNAME:CET
DTSTART:20241027T010000
END:STANDARD
BEGIN:DAYLIGHT
TZOFFSETFROM:+0100
TZOFFSETTO:+0200
TZNAME:CEST
DTSTART:20250330T010000
END:DAYLIGHT
BEGIN:STANDARD
TZOFFSETFROM:+0200
TZOFFSETTO:+0100
TZNAME:CET
DTSTART:20251026T010000
END:STANDARD
END:VTIMEZONE
BEGIN:VEVENT
DTSTART;VALUE=DATE:20240227
DTEND;VALUE=DATE:20240228
DTSTAMP:20260420T180403
CREATED:20240220T100400Z
LAST-MODIFIED:20240220T100400Z
UID:19206-1708992000-1709078399@acelerapymecoiiaocsevilla.com
SUMMARY:JORNADA DE SEM\, SEO y GOOGLE ANALYTICS PARA EMPRESAS
DESCRIPTION:Inscribirse aquí\n  \n¡Potencia la visibilidad de tu empresa en la web! 🌐 Únete a nosotros el martes 27 de febrero a las 17:00 en CALLE INOVACIÓN\, N6\, SALA DE CONFERENCIAS. POLÍGONO PISA\, Mairena del Aljarafe\, para nuestro evento “SEO\, SEM y Google Analytics para empresas”. La tarde estará liderada por Carlos Muñoz de Digitalketing\, quien compartirá estrategias sobre SEO y SEM\, herramientas fundamentales para destacar en la era digital. \nCarlos Muñoz profundizará en: \n\nSEO vs. SEM: Descubre las diferencias entre estas poderosas herramientas y cómo pueden potenciar tu presencia online.\nHerramientas accesibles: Aprende a utilizar herramientas prácticas al alcance de los empresarios para mejorar el posicionamiento.\nGoogle Analytics: Sumérgete en el mundo de las métricas y obtén información clave para tomar decisiones informadas en tu estrategia digital.\nEstrategia cruzada con Redes Sociales: Descubre cómo integrar de manera efectiva el SEO con las Redes Sociales para potenciar aún más tu presencia online.\n\nEste evento es esencial para empresarios\, emprendedores y profesionales que buscan maximizar la visibilidad y el rendimiento en línea de sus negocios. La entrada es gratuita\, pero las plazas son limitadas. ¡Regístrate ahora y prepárate para impulsar tu presencia en internet con las últimas estrategias de SEO y SEM! \nSigue nuestras redes sociales para obtener más detalles y actualizaciones sobre este evento y otros que tenemos preparados. ¡Te esperamos para una tarde de aprendizaje y crecimiento empresarial!
URL:https://acelerapymecoiiaocsevilla.com/eventos/jornada-de-sem-seo-y-google-analytics-para-empresas/
LOCATION:Calle Innovación n6\, Parque Empresarial PISA. Mairena del Aljarafe
END:VEVENT
END:VCALENDAR