BEGIN:VCALENDAR
VERSION:2.0
PRODID:-//Acelera Pymes COIIAOC Cádiz - ECPv6.15.15//NONSGML v1.0//EN
CALSCALE:GREGORIAN
METHOD:PUBLISH
X-WR-CALNAME:Acelera Pymes COIIAOC Cádiz
X-ORIGINAL-URL:https://acelerapymecoiiaocsevilla.com
X-WR-CALDESC:Eventos para Acelera Pymes COIIAOC Cádiz
REFRESH-INTERVAL;VALUE=DURATION:PT1H
X-Robots-Tag:noindex
X-PUBLISHED-TTL:PT1H
BEGIN:VTIMEZONE
TZID:Europe/Madrid
BEGIN:DAYLIGHT
TZOFFSETFROM:+0100
TZOFFSETTO:+0200
TZNAME:CEST
DTSTART:20230326T010000
END:DAYLIGHT
BEGIN:STANDARD
TZOFFSETFROM:+0200
TZOFFSETTO:+0100
TZNAME:CET
DTSTART:20231029T010000
END:STANDARD
BEGIN:DAYLIGHT
TZOFFSETFROM:+0100
TZOFFSETTO:+0200
TZNAME:CEST
DTSTART:20240331T010000
END:DAYLIGHT
BEGIN:STANDARD
TZOFFSETFROM:+0200
TZOFFSETTO:+0100
TZNAME:CET
DTSTART:20241027T010000
END:STANDARD
BEGIN:DAYLIGHT
TZOFFSETFROM:+0100
TZOFFSETTO:+0200
TZNAME:CEST
DTSTART:20250330T010000
END:DAYLIGHT
BEGIN:STANDARD
TZOFFSETFROM:+0200
TZOFFSETTO:+0100
TZNAME:CET
DTSTART:20251026T010000
END:STANDARD
END:VTIMEZONE
BEGIN:VEVENT
DTSTART;TZID=Europe/Madrid:20240304T150000
DTEND;TZID=Europe/Madrid:20240304T150000
DTSTAMP:20260420T163228
CREATED:20240226T102457Z
LAST-MODIFIED:20240226T102457Z
UID:19220-1709564400-1709564400@acelerapymecoiiaocsevilla.com
SUMMARY:CANVA Y CAPCUT\, Herramientas de imagen y videos que optimizan tu marca
DESCRIPTION:Inscribirse aquí\n¡Prepárate para potenciar tu marca con las herramientas más creativas! Queremos invitarte a nuestro evento “Canva y CapCut: Herramientas de imagen y videos que optimizan tu marca”\, una jornada llena de aprendizaje y creatividad que se llevará a cabo en la Sede Thermomix de Jerez de la Frontera. \nLaura Guerrero y Rosa Belloso de Vórtice Formación serán las guías en este viaje\, compartiendo su experiencia en el uso efectivo de Canva y CapCut. Estas herramientas no solo simplifican el diseño y la edición de videos\, sino que también elevan la presencia de tu marca. \n¿Qué puedes esperar de Rosa y Laura en estas jornadas? \n\nEn estas jornadas podrás descubrir cómo crear gráficos atractivos\, logotipos y materiales visuales de manera sencilla y efectiva con Canva los cuáles harán que la imagen de tu negocio o marca mejore y suba de nivel.\nTambién podrás descubrir cómo utilizar la herramienta más efectiva para editar tus videos en la actualidad: la aplicación CapCut con la que podrás editar videos de manera fácil pero profesional\, agregando efectos que cautivarán a tu audiencia y le darán a tu negocio o marca una imagen más profesional.\n\nEste evento es esencial para emprendedores\, empresarios y profesionales que desean destacar en el mundo digital o darle un giro a su negocio en el mundo digital. La entrada es gratuita\, pero las plazas son limitadas. ¡Regístrate ahora y únete a nosotros para una tarde de creatividad y crecimiento empresarial! Puedes asistir de manera presencial o a través de videoconferencia. \n 
URL:https://acelerapymecoiiaocsevilla.com/eventos/https-acelerapymecoiiaocandalucia-com-descubre-el-poder-creativo-de-canva-y-capcut-en-nuestro-proximo-evento-en-jerez-de-la-frontera/
LOCATION:Sede Thermomix\, Avda. de España\, 109\, DOS HERMANAS\, SEVILLA\, 41700\, España
END:VEVENT
END:VCALENDAR