BEGIN:VCALENDAR
VERSION:2.0
PRODID:-//Acelera Pymes COIIAOC Cádiz - ECPv6.15.15//NONSGML v1.0//EN
CALSCALE:GREGORIAN
METHOD:PUBLISH
X-ORIGINAL-URL:https://acelerapymecoiiaocsevilla.com
X-WR-CALDESC:Eventos para Acelera Pymes COIIAOC Cádiz
REFRESH-INTERVAL;VALUE=DURATION:PT1H
X-Robots-Tag:noindex
X-PUBLISHED-TTL:PT1H
BEGIN:VTIMEZONE
TZID:Europe/Madrid
BEGIN:DAYLIGHT
TZOFFSETFROM:+0100
TZOFFSETTO:+0200
TZNAME:CEST
DTSTART:20230326T010000
END:DAYLIGHT
BEGIN:STANDARD
TZOFFSETFROM:+0200
TZOFFSETTO:+0100
TZNAME:CET
DTSTART:20231029T010000
END:STANDARD
BEGIN:DAYLIGHT
TZOFFSETFROM:+0100
TZOFFSETTO:+0200
TZNAME:CEST
DTSTART:20240331T010000
END:DAYLIGHT
BEGIN:STANDARD
TZOFFSETFROM:+0200
TZOFFSETTO:+0100
TZNAME:CET
DTSTART:20241027T010000
END:STANDARD
BEGIN:DAYLIGHT
TZOFFSETFROM:+0100
TZOFFSETTO:+0200
TZNAME:CEST
DTSTART:20250330T010000
END:DAYLIGHT
BEGIN:STANDARD
TZOFFSETFROM:+0200
TZOFFSETTO:+0100
TZNAME:CET
DTSTART:20251026T010000
END:STANDARD
END:VTIMEZONE
BEGIN:VEVENT
DTSTART;TZID=Europe/Madrid:20240402T160000
DTEND;TZID=Europe/Madrid:20240402T160000
DTSTAMP:20260420T163437
CREATED:20240322T101801Z
LAST-MODIFIED:20240322T101801Z
UID:19336-1712073600-1712073600@acelerapymecoiiaocsevilla.com
SUMMARY:MARKETING DIGITAL . ESTRATEGIAS PARA TRIUNFAR EN INTERNET
DESCRIPTION:Inscribirse aquí\nPrepárate para llevar tu negocio al siguiente nivel en el mundo digital! Queremos invitar a empresarios\, emprendedores y profesionales a nuestro próximo evento: “Marketing digital: estrategias para triunfar en internet”. \nEl evento se llevará a cabo el martes 2 de abril a las 16:00 de la tarde en Estepa\, Sevilla\, específicamente en el Edificio Guadalinfo\, ubicado en la plaza de la Coracha. Contaremos con Julia Iriarte\, experta en marketing digital que compartirá valiosas estrategias y consejos para impulsar tu presencia en línea y alcanzar el éxito en internet. \nDurante esta jornada informativa y práctica\, Julia Iriarte guiará a los asistentes a través de las claves fundamentales del marketing digital. Desde la creación de contenido atractivo hasta la gestión efectiva de redes sociales\, aprenderás cómo destacar en el competitivo mundo digital y captar la atención de tu audiencia. \nExploraremos las últimas tendencias y herramientas en marketing digital que te ayudarán a aumentar la visibilidad de tu negocio\, generar leads de calidad y convertirlos en clientes fieles. Además\, analizaremos casos de éxito inspiradores que te mostrarán cómo aplicar estas estrategias de manera efectiva en tu propia empresa. \nEste evento es una oportunidad única para aquellos que desean aprovechar al máximo el potencial de internet para hacer crecer su negocio. La entrada es gratuita\, pero las plazas son limitadas\, así que no pierdas la oportunidad de registrarte ahora y asegurar tu lugar en esta emocionante jornada de aprendizaje y networking. \nMantente conectado a nuestras redes sociales para obtener más detalles y actualizaciones sobre este evento y otras iniciativas que estamos preparando para ti. ¡Te esperamos para una tarde llena de conocimiento y oportunidades para triunfar en el mundo digital! \n 
URL:https://acelerapymecoiiaocsevilla.com/eventos/marketing-digital-estrategias-para-triunfar-en-internet/
LOCATION:Espacio Guadalinfo\, Pza de la Coracha\, ESTEPA
END:VEVENT
END:VCALENDAR