BEGIN:VCALENDAR
VERSION:2.0
PRODID:-//Acelera Pymes COIIAOC Cádiz - ECPv6.15.15//NONSGML v1.0//EN
CALSCALE:GREGORIAN
METHOD:PUBLISH
X-ORIGINAL-URL:https://acelerapymecoiiaocsevilla.com
X-WR-CALDESC:Eventos para Acelera Pymes COIIAOC Cádiz
REFRESH-INTERVAL;VALUE=DURATION:PT1H
X-Robots-Tag:noindex
X-PUBLISHED-TTL:PT1H
BEGIN:VTIMEZONE
TZID:Europe/Madrid
BEGIN:DAYLIGHT
TZOFFSETFROM:+0100
TZOFFSETTO:+0200
TZNAME:CEST
DTSTART:20230326T010000
END:DAYLIGHT
BEGIN:STANDARD
TZOFFSETFROM:+0200
TZOFFSETTO:+0100
TZNAME:CET
DTSTART:20231029T010000
END:STANDARD
BEGIN:DAYLIGHT
TZOFFSETFROM:+0100
TZOFFSETTO:+0200
TZNAME:CEST
DTSTART:20240331T010000
END:DAYLIGHT
BEGIN:STANDARD
TZOFFSETFROM:+0200
TZOFFSETTO:+0100
TZNAME:CET
DTSTART:20241027T010000
END:STANDARD
BEGIN:DAYLIGHT
TZOFFSETFROM:+0100
TZOFFSETTO:+0200
TZNAME:CEST
DTSTART:20250330T010000
END:DAYLIGHT
BEGIN:STANDARD
TZOFFSETFROM:+0200
TZOFFSETTO:+0100
TZNAME:CET
DTSTART:20251026T010000
END:STANDARD
END:VTIMEZONE
BEGIN:VEVENT
DTSTART;VALUE=DATE:20240508
DTEND;VALUE=DATE:20240509
DTSTAMP:20260420T130243
CREATED:20240429T092519Z
LAST-MODIFIED:20240429T092519Z
UID:19450-1715126400-1715212799@acelerapymecoiiaocsevilla.com
SUMMARY:Redes Sociales y Whatsapp Business: Estrategias de vanguardia para tu negocio
DESCRIPTION:Inscribirse aquí\n¡Prepárate para llevar tu negocio al siguiente nivel en el mundo digital con nuestro próximo evento! \nQueremos contar contigo en nuestro próximo evento titulado “Redes Sociales y Whatsapp Business: Estrategias de vanguardia para tu negocio”\, una oportunidad única para aprender las mejores prácticas y estrategias en el uso de las redes sociales y Whatsapp Business para impulsar tu empresa. \n📅 La cita es el próximo miércoles 8 de mayo de 2024\, a partir de las 10:00 de la mañana\, en el Centro Municipal de Formación Integral de Carmona\, Sevilla. Un lugar idóneo para sumergirnos en el mundo digital y explorar nuevas oportunidades para tu negocio. \nPara esta jornada\, contaremos con la experiencia y conocimiento de dos destacadas ponentes de Vórtice Formación: Laura Guerrero y Susana Macías. Con su amplia trayectoria en el ámbito del marketing digital\, te guiarán a través de las últimas tendencias y estrategias en el uso de las redes sociales y Whatsapp Business. \nDurante el evento\, aprenderás cómo aprovechar al máximo estas poderosas herramientas para conectar con tu audiencia\, aumentar la visibilidad de tu marca y generar engagement con tus clientes. Desde la creación de contenido atractivo hasta la gestión efectiva de mensajes en Whatsapp Business\, descubrirás cómo optimizar tu presencia en línea y potenciar el crecimiento de tu negocio. \nLaura Guerrero y Susana Macías compartirán valiosos consejos prácticos\, ejemplos inspiradores y casos de éxito que te brindarán una visión clara de cómo implementar estas estrategias en tu empresa y alcanzar tus objetivos digitales. \nYa seas un emprendedor que recién comienza\, un empresario consolidado o un profesional en busca de mejorar su estrategia digital\, este evento está diseñado para ti. Obtendrás conocimientos\, establecerás conexiones con otros profesionales del sector y te inspirarás para llevar tu negocio al siguiente nivel en el mundo digital. \n¡No te pierdas esta oportunidad única de aprender y crecer junto a nosotros! ¡Inscríbete ahora y asegura tu lugar en esta jornada de aprendizaje y networking! \n  \n\n\n\n\n\n\n\nLas oficinas Acelera Pyme puestas en marcha en toda España por Red.es\, entidad pública adscrita al Ministerio para la Transformación Digital y de la Función Pública a través de la Secretaria del Estado de Digitalización e Inteligencia Artificial\, cuentan en su segunda convocatoria 2022 con un importe de ayuda concedida de 11.830.851\,68€ siendo el importe de la ayuda máxima el 80% del presupuesto subvencionable . El beneficiario cofinanciará el porcentaje restante. Las actuaciones están financiadas con cargo al Programa Operativo de Crecimiento Inteligente\, Fondos Europeos de Desarrollo Regional (FEDER) del periodo de programación 2021-2027.\n\n\n\n\n\n\n\n\n\n\n\n\n\n\n\n\nY si tienes dudas o necesitas más información puedes ponerte en contacto con cualquiera de nuestras técnicas: \n\n\n\n\n\n\n\n\n 
URL:https://acelerapymecoiiaocsevilla.com/eventos/redes-sociales-y-whatsapp-business-estrategias-de-vanguardia-para-tu-negocio/
LOCATION:Centro Municipal de Formación Integral\, c/Carmen Llorca\, Carmona
END:VEVENT
END:VCALENDAR