BEGIN:VCALENDAR
VERSION:2.0
PRODID:-//Acelera Pymes COIIAOC Cádiz - ECPv6.15.15//NONSGML v1.0//EN
CALSCALE:GREGORIAN
METHOD:PUBLISH
X-ORIGINAL-URL:https://acelerapymecoiiaocsevilla.com
X-WR-CALDESC:Eventos para Acelera Pymes COIIAOC Cádiz
REFRESH-INTERVAL;VALUE=DURATION:PT1H
X-Robots-Tag:noindex
X-PUBLISHED-TTL:PT1H
BEGIN:VTIMEZONE
TZID:Europe/Madrid
BEGIN:DAYLIGHT
TZOFFSETFROM:+0100
TZOFFSETTO:+0200
TZNAME:CEST
DTSTART:20230326T010000
END:DAYLIGHT
BEGIN:STANDARD
TZOFFSETFROM:+0200
TZOFFSETTO:+0100
TZNAME:CET
DTSTART:20231029T010000
END:STANDARD
BEGIN:DAYLIGHT
TZOFFSETFROM:+0100
TZOFFSETTO:+0200
TZNAME:CEST
DTSTART:20240331T010000
END:DAYLIGHT
BEGIN:STANDARD
TZOFFSETFROM:+0200
TZOFFSETTO:+0100
TZNAME:CET
DTSTART:20241027T010000
END:STANDARD
BEGIN:DAYLIGHT
TZOFFSETFROM:+0100
TZOFFSETTO:+0200
TZNAME:CEST
DTSTART:20250330T010000
END:DAYLIGHT
BEGIN:STANDARD
TZOFFSETFROM:+0200
TZOFFSETTO:+0100
TZNAME:CET
DTSTART:20251026T010000
END:STANDARD
END:VTIMEZONE
BEGIN:VEVENT
DTSTART;TZID=Europe/Madrid:20240619T163000
DTEND;TZID=Europe/Madrid:20240619T163000
DTSTAMP:20260420T111840
CREATED:20240611T085952Z
LAST-MODIFIED:20240611T085952Z
UID:19563-1718814600-1718814600@acelerapymecoiiaocsevilla.com
SUMMARY:REDES SOCIALES Y WHATSAPP BUSINESS. Estrategias y  Herramientas para tu negocio.
DESCRIPTION:Inscribirse aquí\nEn Acelera Pyme estamos emocionados de anunciar nuestro próximo evento titulado “Redes Sociales y WhatsApp Business: Estrategias y herramientas para tu negocio”. Este evento se llevará a cabo el miércoles 19 de junio a las 16:30 de la tarde en la Casa de la Juventud de Lebrija\, y estará dirigido por Lucía Parejo\, una destacada experta en marketing digital y comunicación. \nDurante esta jornada\, Lucía compartirá su conocimiento para que puedas sacar el máximo provecho de las redes sociales y WhatsApp Business en tu negocio. Este taller está diseñado para empresarios\, emprendedores y profesionales que buscan fortalecer su presencia digital y mejorar su interacción con los clientes. La jornada cubrirá una variedad de temas esenciales que te permitirán desarrollar una estrategia digital efectiva y eficiente: \nEstrategias de Marketing en Redes Sociales\nLucía te guiará en la creación de estrategias de marketing adaptadas a plataformas como Facebook\, Instagram\, Twitter y LinkedIn. Aprenderás a identificar tu audiencia objetivo\, diseñar contenido que resuene con tus seguidores y utilizar herramientas publicitarias para maximizar tu alcance. \nUso de WhatsApp Business\nWhatsApp Business es una herramienta poderosa para la comunicación directa y personalizada con tus clientes. Lucía te enseñará cómo configurar y utilizar esta aplicación para manejar consultas\, realizar ventas y ofrecer soporte de manera rápida y eficiente. Aprenderás a utilizar las funcionalidades avanzadas de WhatsApp Business para mejorar la experiencia del cliente. \nCreación de contenido atractivo\nEl contenido es clave en cualquier estrategia de marketing digital. Lucía te mostrará cómo crear contenido visual y escrito que no solo informe\, sino que también inspire y motive a tu audiencia a interactuar con tu marca. Conoce las mejores prácticas para diseñar publicaciones que capturen la atención y generen engagement. \nGestión de campañas publicitarias\nAprende a planificar y ejecutar campañas publicitarias exitosas en redes sociales y WhatsApp Business. Descubre cómo segmentar tu audiencia\, establecer presupuestos y medir el rendimiento de tus anuncios para obtener el máximo retorno de inversión. \nAnálisis de resultados\nEntender los resultados de tus estrategias es crucial para mejorar continuamente. Lucía te enseñará a utilizar herramientas analíticas para evaluar el éxito de tus campañas\, interpretar los datos y ajustar tus tácticas para lograr mejores resultados. \nNo importa tu nivel de experiencia en marketing digital\, este taller te proporcionará herramientas prácticas y conocimientos valiosos para llevar tu negocio al siguiente nivel. ¡No pierdas la oportunidad de aprender de una experta en el campo del marketing digital y de mejorar tus estrategias de comunicación y ventas! \nReserva tu lugar ahora mismo y únete a nosotros el miércoles 19 de junio a las 16:30 en la Casa de la Juventud de Lebrija. ¡Te esperamos para una tarde de aprendizaje\, inspiración y crecimiento profesional! \nPuedes apuntarte en el siguiente enlace \nLas oficinas Acelera Pyme puestas en marcha en toda España por Red.es\, entidad pública adscrita al Ministerio para la Transformación Digital y de la Función Pública a través de la Secretaria del Estado de Digitalización e Inteligencia Artificial\, cuentan en su segunda convocatoria 2022 con un importe de ayuda concedida de 11.830.851\,68€ siendo el importe de la ayuda máxima el 80% del presupuesto subvencionable . El beneficiario cofinanciará el porcentaje restante. Las actuaciones están financiadas con cargo al Programa Operativo de Crecimiento Inteligente\, Fondos Europeos de Desarrollo Regional (FEDER) del periodo de programación 2021-2027. \n\n\n\n\n\n\n\n\n\nY si tienes dudas o necesitas más información puedes ponerte en contacto con cualquiera de nuestras técnicas: \ncadizacelerapyme@coiiaoc.com  (Eva) \ncdgacelerapyme@coiiaoc.com (Vanesa) \nsevilla1acelerapyme@coiiaoc.com (Setefilla) \nsevilla2acelerapyme@coiiaoc.com (Matilde) \n\n\n\n\n\n\n\n\n 
URL:https://acelerapymecoiiaocsevilla.com/eventos/redes-sociales-y-whatsapp-business-estrategias-y-herramientas-para-tu-negocio/
LOCATION:CASA DE LA JUVENTUD – LEBRIJA
END:VEVENT
END:VCALENDAR