BEGIN:VCALENDAR
VERSION:2.0
PRODID:-//Acelera Pymes COIIAOC Cádiz - ECPv6.15.15//NONSGML v1.0//EN
CALSCALE:GREGORIAN
METHOD:PUBLISH
X-ORIGINAL-URL:https://acelerapymecoiiaocsevilla.com
X-WR-CALDESC:Eventos para Acelera Pymes COIIAOC Cádiz
REFRESH-INTERVAL;VALUE=DURATION:PT1H
X-Robots-Tag:noindex
X-PUBLISHED-TTL:PT1H
BEGIN:VTIMEZONE
TZID:Europe/Madrid
BEGIN:DAYLIGHT
TZOFFSETFROM:+0100
TZOFFSETTO:+0200
TZNAME:CEST
DTSTART:20230326T010000
END:DAYLIGHT
BEGIN:STANDARD
TZOFFSETFROM:+0200
TZOFFSETTO:+0100
TZNAME:CET
DTSTART:20231029T010000
END:STANDARD
BEGIN:DAYLIGHT
TZOFFSETFROM:+0100
TZOFFSETTO:+0200
TZNAME:CEST
DTSTART:20240331T010000
END:DAYLIGHT
BEGIN:STANDARD
TZOFFSETFROM:+0200
TZOFFSETTO:+0100
TZNAME:CET
DTSTART:20241027T010000
END:STANDARD
BEGIN:DAYLIGHT
TZOFFSETFROM:+0100
TZOFFSETTO:+0200
TZNAME:CEST
DTSTART:20250330T010000
END:DAYLIGHT
BEGIN:STANDARD
TZOFFSETFROM:+0200
TZOFFSETTO:+0100
TZNAME:CET
DTSTART:20251026T010000
END:STANDARD
END:VTIMEZONE
BEGIN:VEVENT
DTSTART;TZID=Europe/Madrid:20240620T090000
DTEND;TZID=Europe/Madrid:20240620T090000
DTSTAMP:20260420T111803
CREATED:20240612T091235Z
LAST-MODIFIED:20240612T091235Z
UID:19578-1718874000-1718874000@acelerapymecoiiaocsevilla.com
SUMMARY:CANVA Y CAPCUT Herramientas de Imagen y Videos que optimizan tu marca.
DESCRIPTION:Inscribirse aquí\nAcelera Pyme se complace en anunciar su próximo evento titulado “Canva y CapCut: Herramientas de imagen y videos que optimizan tu marca”. Esta jornada se llevará a cabo el jueves 22 de junio a las 17:00 horas en la Planta Sótano de la Biblioteca Pública de Utrera. Dirigido por las expertas Laura Guerrero y Rosa Belloso de Vórtice Formación\, este taller está diseñado para ayudar a empresarios\, emprendedores y profesionales del marketing a mejorar su presencia digital a través de herramientas visuales potentes y accesibles. \nEn el entorno digital actual\, la calidad del contenido visual es crucial para captar la atención del público y transmitir el mensaje de tu marca de manera efectiva. Canva y CapCut son dos herramientas esenciales que facilitan la creación de contenido visual impresionante sin necesidad de tener conocimientos avanzados en diseño gráfico o edición de video. \nCanva es una plataforma de diseño gráfico que permite crear diseños atractivos para redes sociales\, presentaciones\, materiales de marketing y mucho más. Con su interfaz intuitiva y su vasta colección de plantillas\, cualquier persona puede crear contenido visual profesional en cuestión de minutos. Laura Guerrero\, con su amplia experiencia en marketing digital\, te guiará a través de las mejores prácticas para sacar el máximo provecho de esta herramienta. \nCapCut\, por otro lado\, es una aplicación de edición de video que ofrece una amplia gama de funciones avanzadas\, desde edición básica hasta efectos especiales y transiciones. Rosa Belloso\, experta en comunicación visual\, te enseñará a utilizar CapCut para producir videos de alta calidad que resuenen con tu audiencia y mejoren la presencia en línea de tu marca. \nDurante el taller\, se abordarán los siguientes temas clave: \n\nEstrategias de diseño gráfico con Canva: Aprende a utilizar plantillas y herramientas para crear diseños impactantes que refuercen la identidad de tu marca.\nEdición de video con CapCut: Descubre cómo editar y mejorar tus videos para captar la atención de tu audiencia y transmitir tu mensaje de manera efectiva.\nIntegración de contenido visual en tus estrategias de marketing: Aprende a combinar imágenes y videos de manera cohesiva en tus campañas para maximizar el impacto.\nConsejos y trucos prácticos: Laura y Rosa compartirán sus mejores consejos para optimizar tu tiempo y esfuerzo en la creación de contenido visual.\n\nAdemás de las demostraciones prácticas\, habrá sesiones interactivas donde los participantes podrán aplicar lo aprendido y recibir retroalimentación en tiempo real. Este evento no solo te proporcionará habilidades técnicas\, sino también estrategias efectivas para integrar el contenido visual en tu plan de marketing. \nNo pierdas la oportunidad de aprender de dos expertas en el campo y de mejorar tus habilidades en la creación de contenido visual. Reserva tu lugar ahora y únete a nosotros en la Planta Sótano de la Biblioteca Pública de Utrera para una tarde de aprendizaje\, creatividad y crecimiento profesional. ¡Te esperamos! \nLas oficinas Acelera Pyme puestas en marcha en toda España por Red.es\, entidad pública adscrita al Ministerio para la Transformación Digital y de la Función Pública a través de la Secretaria del Estado de Digitalización e Inteligencia Artificial\, cuentan en su segunda convocatoria 2022 con un importe de ayuda concedida de 11.830.851\,68€ siendo el importe de la ayuda máxima el 80% del presupuesto subvencionable . El beneficiario cofinanciará el porcentaje restante. Las actuaciones están financiadas con cargo al Programa Operativo de Crecimiento Inteligente\, Fondos Europeos de Desarrollo Regional (FEDER) del periodo de programación 2021-2027. \nY si tienes dudas o necesitas más información puedes ponerte en contacto con cualquiera de nuestras técnicas:\n\n\n\n\n\n\n\n\ncadizacelerapyme@coiiaoc.com  (Eva) \ncdgacelerapyme@coiiaoc.com (Vanesa) \nsevilla1acelerapyme@coiiaoc.com (Setefilla) \nsevilla2acelerapyme@coiiaoc.com (Matilde)
URL:https://acelerapymecoiiaocsevilla.com/eventos/canva-y-capcut-herramientas-de-imagen-y-videos-que-optimizan-tu-marca-5/
LOCATION:Biblioteca Pública Utrera – Planta Sótano\, Alvarez Quintero \, 39\, utrera
END:VEVENT
END:VCALENDAR