BEGIN:VCALENDAR
VERSION:2.0
PRODID:-//Acelera Pymes COIIAOC Cádiz - ECPv6.15.15//NONSGML v1.0//EN
CALSCALE:GREGORIAN
METHOD:PUBLISH
X-ORIGINAL-URL:https://acelerapymecoiiaocsevilla.com
X-WR-CALDESC:Eventos para Acelera Pymes COIIAOC Cádiz
REFRESH-INTERVAL;VALUE=DURATION:PT1H
X-Robots-Tag:noindex
X-PUBLISHED-TTL:PT1H
BEGIN:VTIMEZONE
TZID:Europe/Madrid
BEGIN:DAYLIGHT
TZOFFSETFROM:+0100
TZOFFSETTO:+0200
TZNAME:CEST
DTSTART:20230326T010000
END:DAYLIGHT
BEGIN:STANDARD
TZOFFSETFROM:+0200
TZOFFSETTO:+0100
TZNAME:CET
DTSTART:20231029T010000
END:STANDARD
BEGIN:DAYLIGHT
TZOFFSETFROM:+0100
TZOFFSETTO:+0200
TZNAME:CEST
DTSTART:20240331T010000
END:DAYLIGHT
BEGIN:STANDARD
TZOFFSETFROM:+0200
TZOFFSETTO:+0100
TZNAME:CET
DTSTART:20241027T010000
END:STANDARD
BEGIN:DAYLIGHT
TZOFFSETFROM:+0100
TZOFFSETTO:+0200
TZNAME:CEST
DTSTART:20250330T010000
END:DAYLIGHT
BEGIN:STANDARD
TZOFFSETFROM:+0200
TZOFFSETTO:+0100
TZNAME:CET
DTSTART:20251026T010000
END:STANDARD
END:VTIMEZONE
BEGIN:VEVENT
DTSTART;VALUE=DATE:20240709
DTEND;VALUE=DATE:20240710
DTSTAMP:20260420T093740
CREATED:20240628T100610Z
LAST-MODIFIED:20240702T083203Z
UID:19600-1720483200-1720569599@acelerapymecoiiaocsevilla.com
SUMMARY:Sesión informativa del Programa de Ayudas de Red.es
DESCRIPTION:Inscribirse aquí\n  \nSesión informativa del Programa de Ayudas de Red.es sobre KIT CONSULTING  \n  \nDesde Oficina AceleraPyme\, del Colegio de Ingenieros Industriales de Sevilla\, te ofrecemos esta píldora informativa para que conozcas la recién abierta convocatoria de ayudas KIT CONSULTING\, el encargado de llevar a cabo esta ponencia será Luis Lanne-Lenne\, gerente del Colegio de Ingenieros. \nUn programa de Red.es enfocado a Bonos de Asesoramientos Digitales\, que las pymes deberán emplear en la contratación de uno o varios de los servicios de asesoramiento\, mediante la cual éstas tendrán acceso a entre 6.000€ y 18.000€ de ayudas.  \nEn esta jornada se les informará de qué es el Kit Consulting\, qué es un servicio de bono\, quién hace el asesoramiento digital y sus plazos.  \nDía: 9 de julio \nHorario: 9.30h-10.15h \nWebinar
URL:https://acelerapymecoiiaocsevilla.com/eventos/sesion-informativa-del-programa-de-ayudas-de-red-es/
LOCATION:Sevilla
END:VEVENT
END:VCALENDAR