BEGIN:VCALENDAR
VERSION:2.0
PRODID:-//Acelera Pymes COIIAOC Cádiz - ECPv6.15.15//NONSGML v1.0//EN
CALSCALE:GREGORIAN
METHOD:PUBLISH
X-WR-CALNAME:Acelera Pymes COIIAOC Cádiz
X-ORIGINAL-URL:https://acelerapymecoiiaocsevilla.com
X-WR-CALDESC:Eventos para Acelera Pymes COIIAOC Cádiz
REFRESH-INTERVAL;VALUE=DURATION:PT1H
X-Robots-Tag:noindex
X-PUBLISHED-TTL:PT1H
BEGIN:VTIMEZONE
TZID:Europe/Madrid
BEGIN:DAYLIGHT
TZOFFSETFROM:+0100
TZOFFSETTO:+0200
TZNAME:CEST
DTSTART:20230326T010000
END:DAYLIGHT
BEGIN:STANDARD
TZOFFSETFROM:+0200
TZOFFSETTO:+0100
TZNAME:CET
DTSTART:20231029T010000
END:STANDARD
BEGIN:DAYLIGHT
TZOFFSETFROM:+0100
TZOFFSETTO:+0200
TZNAME:CEST
DTSTART:20240331T010000
END:DAYLIGHT
BEGIN:STANDARD
TZOFFSETFROM:+0200
TZOFFSETTO:+0100
TZNAME:CET
DTSTART:20241027T010000
END:STANDARD
BEGIN:DAYLIGHT
TZOFFSETFROM:+0100
TZOFFSETTO:+0200
TZNAME:CEST
DTSTART:20250330T010000
END:DAYLIGHT
BEGIN:STANDARD
TZOFFSETFROM:+0200
TZOFFSETTO:+0100
TZNAME:CET
DTSTART:20251026T010000
END:STANDARD
END:VTIMEZONE
BEGIN:VEVENT
DTSTART;TZID=Europe/Madrid:20241007T163000
DTEND;TZID=Europe/Madrid:20241007T183000
DTSTAMP:20260420T080036
CREATED:20240924T132003Z
LAST-MODIFIED:20240925T041250Z
UID:19657-1728318600-1728325800@acelerapymecoiiaocsevilla.com
SUMMARY:Canva y CapCut: Herramientas de imagen y videos que optimizan tu marca
DESCRIPTION:Inscribirse aquí\n¡En Acelera Pyme seguimos trabajando para ofrecerte las mejores herramientas para potenciar tu marca y presencia digital! Por eso\, te invitamos a nuestro próximo evento titulado “Canva y CapCut: Herramientas de imagen y videos que optimizan tu marca”\, que se celebrará el lunes 7 de octubre a las 16:30 horas en Sevilla\, en la sede de Thermomix\, ubicada en Calle Luis Montoto\, 14. \nEsta jornada estará dirigido por dos expertas en formación digital\, Rosa Belloso y Laura Guerrero de Vórtice Formación\, quienes cuentan con una amplia experiencia en la creación de contenido visual y en el uso de herramientas digitales. A lo largo de la jornada\, Rosa y Laura compartirán contigo las claves\, trucos y mejores prácticas para aprovechar al máximo dos de las herramientas más populares en el mundo del diseño y la edición de video: Canva y CapCut. \nEn esta sesión aprenderás a utilizar Canva\, una plataforma intuitiva que permite a cualquier persona\, sin necesidad de tener conocimientos avanzados en diseño gráfico\, crear imágenes profesionales para redes sociales\, campañas publicitarias\, presentaciones y mucho más. Gracias a Canva\, podrás generar contenido visual atractivo que impulse la identidad de tu marca y capte la atención de tu audiencia. \nAdemás\, también profundizaremos en el uso de CapCut\, una aplicación de edición de video muy accesible\, que te permitirá crear videos dinámicos y de alta calidad con facilidad. Desde efectos visuales hasta transiciones y ajustes avanzados\, CapCut ofrece todas las herramientas necesarias para que tus videos se conviertan en una pieza clave de tu estrategia de marketing digital. \nEste evento es ideal para empresarios\, emprendedores y autónomos que buscan mejorar su presencia digital y optimizar sus estrategias de contenido visual en redes sociales. No importa si eres principiante o tienes experiencia previa\, saldrás con nuevas ideas y técnicas que te ayudarán a mejorar la imagen de tu marca. \n¡Te esperamos el 7 de octubre a las 16:30 en Sevilla para una jornada llena de creatividad y aprendizaje práctico!
URL:https://acelerapymecoiiaocsevilla.com/eventos/canva-y-capcut-herramientas-de-imagen-y-videos-que-optimizan-tu-marca-6/
LOCATION:sede thermomix\, Sevilla\, Calle Luis Montoto\, 14\, Sevilla\, España
END:VEVENT
END:VCALENDAR