BEGIN:VCALENDAR
VERSION:2.0
PRODID:-//Acelera Pymes COIIAOC Cádiz - ECPv6.15.15//NONSGML v1.0//EN
CALSCALE:GREGORIAN
METHOD:PUBLISH
X-WR-CALNAME:Acelera Pymes COIIAOC Cádiz
X-ORIGINAL-URL:https://acelerapymecoiiaocsevilla.com
X-WR-CALDESC:Eventos para Acelera Pymes COIIAOC Cádiz
REFRESH-INTERVAL;VALUE=DURATION:PT1H
X-Robots-Tag:noindex
X-PUBLISHED-TTL:PT1H
BEGIN:VTIMEZONE
TZID:Europe/Madrid
BEGIN:DAYLIGHT
TZOFFSETFROM:+0100
TZOFFSETTO:+0200
TZNAME:CEST
DTSTART:20230326T010000
END:DAYLIGHT
BEGIN:STANDARD
TZOFFSETFROM:+0200
TZOFFSETTO:+0100
TZNAME:CET
DTSTART:20231029T010000
END:STANDARD
BEGIN:DAYLIGHT
TZOFFSETFROM:+0100
TZOFFSETTO:+0200
TZNAME:CEST
DTSTART:20240331T010000
END:DAYLIGHT
BEGIN:STANDARD
TZOFFSETFROM:+0200
TZOFFSETTO:+0100
TZNAME:CET
DTSTART:20241027T010000
END:STANDARD
BEGIN:DAYLIGHT
TZOFFSETFROM:+0100
TZOFFSETTO:+0200
TZNAME:CEST
DTSTART:20250330T010000
END:DAYLIGHT
BEGIN:STANDARD
TZOFFSETFROM:+0200
TZOFFSETTO:+0100
TZNAME:CET
DTSTART:20251026T010000
END:STANDARD
END:VTIMEZONE
BEGIN:VEVENT
DTSTART;TZID=Europe/Madrid:20241015T163000
DTEND;TZID=Europe/Madrid:20241015T183000
DTSTAMP:20260420T080158
CREATED:20241003T102701Z
LAST-MODIFIED:20241003T105655Z
UID:19670-1729009800-1729017000@acelerapymecoiiaocsevilla.com
SUMMARY:Taller Canva y CapCut: Herramientas de imagen y videos que optimizan tu marca
DESCRIPTION:Inscribirse aquí\nEn Acelera Pyme seguimos comprometidos en ofrecerte las mejores herramientas para optimizar la presencia digital de tu negocio. Por eso\, te invitamos a nuestro próximo taller titulado «Canva y CapCut: Herramientas de imagen y videos que optimizan tu marca»\, que se celebrará el próximo martes 15 de octubre a las 16:30 horas en la sede de ASEPEVI en Los Palacios y Villafranca. \nEsta jornada estará dirigida por Laura Guerrero y Rosa Belloso\, expertas en formación digital y ponentes de Vórtice Formación. Ambas cuentan con una sólida trayectoria en el mundo del marketing digital y la creación de contenido visual\, y te enseñarán cómo aprovechar al máximo dos de las herramientas más populares del momento: Canva y CapCut. \nDurante esta sesión práctica\, aprenderás a dominar Canva\, una plataforma de diseño gráfico que permite crear imágenes profesionales de manera intuitiva. Tanto si tienes conocimientos previos como si no\, descubrirás cómo generar contenido visual de alta calidad para tus redes sociales\, presentaciones y campañas publicitarias\, que ayude a mejorar la visibilidad de tu marca y captar la atención de tu audiencia. \nPor otro lado\, profundizaremos en CapCut\, una aplicación de edición de video que está revolucionando la forma en que las empresas crean contenido audiovisual. CapCut te permitirá producir videos dinámicos\, con efectos visuales\, transiciones y ajustes avanzados\, sin necesidad de ser un experto en edición. En un entorno digital cada vez más visual\, los videos son una herramienta clave para destacar y conectar con tu público\, y esta aplicación hará que su creación sea accesible y efectiva. \nEste evento está diseñado para empresarios\, emprendedores y autónomos que buscan mejorar su presencia digital y optimizar sus estrategias de contenido visual en redes sociales. Tanto si eres principiante como si tienes experiencia\, saldrás de este taller con nuevos conocimientos y técnicas que potenciarán la imagen de tu marca. \n¡Te esperamos el 15 de octubre a las 16:30 en la sede de ASEPEVI para un taller lleno de creatividad y aprendizaje práctico!
URL:https://acelerapymecoiiaocsevilla.com/eventos/canva-y-capcut-herramientas-de-imagen-y-videos-que-optimizan-tu-marca-7/
LOCATION:SEDE ASEPAVI Los Palacios y Villafranca\, Calle Santiago las Heras\, 3\, Los Palacios y Villafranca\, Sevilla\, España
END:VEVENT
END:VCALENDAR