BEGIN:VCALENDAR
VERSION:2.0
PRODID:-//Acelera Pymes COIIAOC Cádiz - ECPv6.15.15//NONSGML v1.0//EN
CALSCALE:GREGORIAN
METHOD:PUBLISH
X-ORIGINAL-URL:https://acelerapymecoiiaocsevilla.com
X-WR-CALDESC:Eventos para Acelera Pymes COIIAOC Cádiz
REFRESH-INTERVAL;VALUE=DURATION:PT1H
X-Robots-Tag:noindex
X-PUBLISHED-TTL:PT1H
BEGIN:VTIMEZONE
TZID:Europe/Madrid
BEGIN:DAYLIGHT
TZOFFSETFROM:+0100
TZOFFSETTO:+0200
TZNAME:CEST
DTSTART:20230326T010000
END:DAYLIGHT
BEGIN:STANDARD
TZOFFSETFROM:+0200
TZOFFSETTO:+0100
TZNAME:CET
DTSTART:20231029T010000
END:STANDARD
BEGIN:DAYLIGHT
TZOFFSETFROM:+0100
TZOFFSETTO:+0200
TZNAME:CEST
DTSTART:20240331T010000
END:DAYLIGHT
BEGIN:STANDARD
TZOFFSETFROM:+0200
TZOFFSETTO:+0100
TZNAME:CET
DTSTART:20241027T010000
END:STANDARD
BEGIN:DAYLIGHT
TZOFFSETFROM:+0100
TZOFFSETTO:+0200
TZNAME:CEST
DTSTART:20250330T010000
END:DAYLIGHT
BEGIN:STANDARD
TZOFFSETFROM:+0200
TZOFFSETTO:+0100
TZNAME:CET
DTSTART:20251026T010000
END:STANDARD
END:VTIMEZONE
BEGIN:VEVENT
DTSTART;TZID=Europe/Madrid:20241024T103000
DTEND;TZID=Europe/Madrid:20241024T123000
DTSTAMP:20260420T080300
CREATED:20241014T112136Z
LAST-MODIFIED:20241014T112136Z
UID:19708-1729765800-1729773000@acelerapymecoiiaocsevilla.com
SUMMARY:La clave del éxito de tu negocio en redes ¡Estrategia!
DESCRIPTION:Inscribirse aquí\nEn el vertiginoso mundo digital actual\, tener una presencia sólida en redes sociales es más importante que nunca para cualquier negocio. Con esto en mente\, en Acelera Pyme te invitamos a participar en nuestra próxima jornada titulada “La clave del éxito de tu negocio en redes: ¡Estrategia!”. Este evento\, que se llevará a cabo el jueves 24 de octubre a las 10:30 de la mañana en el CADE de Sanlúcar de Barrameda\, será una excelente oportunidad para aprender cómo diseñar e implementar una estrategia efectiva en redes sociales. \nLa ponente será Concha Rosano\, experta en marketing digital y fundadora de Rosano Marketing. Concha tiene una amplia experiencia ayudando a empresas de diferentes sectores a construir su presencia digital y a maximizar su impacto en las redes sociales. Durante la jornada\, compartirá sus conocimientos y herramientas prácticas que te permitirán llevar la comunicación de tu negocio al siguiente nivel. \nEn esta sesión presencial\, aprenderás a identificar las redes sociales más adecuadas para tu negocio\, así como las mejores prácticas para crear contenido que resuene con tu audiencia. También se abordarán temas como la segmentación de tu público objetivo\, la planificación de contenidos y la medición de resultados. La estrategia es la clave para destacar en un entorno digital saturado\, y Concha te guiará en este proceso de manera clara y accesible. \nNo importa si eres un emprendedor que está empezando o si ya tienes un negocio establecido\, esta jornada te proporcionará nuevas perspectivas y herramientas para optimizar tu presencia en redes sociales. La interacción será fundamental\, así que no dudes en traer tus preguntas y experiencias para compartir con el grupo. \n¡No te pierdas esta oportunidad de aprender y hacer crecer tu negocio! Te esperamos el 24 de octubre a las 10:30 en el CADE de Sanlúcar de Barrameda. ¡Tu éxito en redes comienza aquí! \nLas oficinas Acelera Pyme puestas en marcha en toda España por Red.es\, entidad pública adscrita al Ministerio para la Transformación Digital y de la Función Pública a través de la Secretaria del Estado de Digitalización e Inteligencia Artificial\, cuentan en su segunda convocatoria 2022 con un importe de ayuda concedida de 11.830.851\,68€ siendo el importe de la ayuda máxima el 80% del presupuesto subvencionable . El beneficiario cofinanciará el porcentaje restante. Las actuaciones están financiadas con cargo al Programa Operativo de Crecimiento Inteligente\, Fondos Europeos de Desarrollo Regional (FEDER) del periodo de programación 2021-2027. \nY si tienes dudas o necesitas más información puedes ponerte en contacto con cualquiera de nuestras técnicas:\n\n\n\n\n\n\n\n\ncadizacelerapyme@coiiaoc.com  (Eva) \ncdgacelerapyme@coiiaoc.com (Vanesa) \nsevilla1acelerapyme@coiiaoc.com (Setefilla) \nsevilla2acelerapyme@coiiaoc.com (Matilde) \n\n\n\n\n\n\n\n\n 
URL:https://acelerapymecoiiaocsevilla.com/eventos/la-clave-del-exito-de-tu-negocio-en-redes-estrategia/
LOCATION:CADE Sanlúcar de Barrameda\, Plaza de los mayores S/N (La Dehesilla)\, Sanlúcar de Barrameda
END:VEVENT
END:VCALENDAR