BEGIN:VCALENDAR
VERSION:2.0
PRODID:-//Acelera Pymes COIIAOC Cádiz - ECPv6.15.15//NONSGML v1.0//EN
CALSCALE:GREGORIAN
METHOD:PUBLISH
X-ORIGINAL-URL:https://acelerapymecoiiaocsevilla.com
X-WR-CALDESC:Eventos para Acelera Pymes COIIAOC Cádiz
REFRESH-INTERVAL;VALUE=DURATION:PT1H
X-Robots-Tag:noindex
X-PUBLISHED-TTL:PT1H
BEGIN:VTIMEZONE
TZID:Europe/Madrid
BEGIN:DAYLIGHT
TZOFFSETFROM:+0100
TZOFFSETTO:+0200
TZNAME:CEST
DTSTART:20230326T010000
END:DAYLIGHT
BEGIN:STANDARD
TZOFFSETFROM:+0200
TZOFFSETTO:+0100
TZNAME:CET
DTSTART:20231029T010000
END:STANDARD
BEGIN:DAYLIGHT
TZOFFSETFROM:+0100
TZOFFSETTO:+0200
TZNAME:CEST
DTSTART:20240331T010000
END:DAYLIGHT
BEGIN:STANDARD
TZOFFSETFROM:+0200
TZOFFSETTO:+0100
TZNAME:CET
DTSTART:20241027T010000
END:STANDARD
BEGIN:DAYLIGHT
TZOFFSETFROM:+0100
TZOFFSETTO:+0200
TZNAME:CEST
DTSTART:20250330T010000
END:DAYLIGHT
BEGIN:STANDARD
TZOFFSETFROM:+0200
TZOFFSETTO:+0100
TZNAME:CET
DTSTART:20251026T010000
END:STANDARD
END:VTIMEZONE
BEGIN:VEVENT
DTSTART;TZID=Europe/Madrid:20241029T083000
DTEND;TZID=Europe/Madrid:20241029T103000
DTSTAMP:20260420T033439
CREATED:20241016T091223Z
LAST-MODIFIED:20241016T091223Z
UID:19718-1730190600-1730197800@acelerapymecoiiaocsevilla.com
SUMMARY:Marketing digital: Tus estrategias para triunfar en internet
DESCRIPTION:Inscribirse aquí\nEn Acelera Pyme seguimos comprometidos en ofrecerte las herramientas necesarias para potenciar tu negocio en el mundo digital. Por eso\, te invitamos a nuestra próxima jornada titulada “Marketing Digital: tus estrategias para triunfar en internet”\, que se celebrará el martes 29 de octubre a las 8:30 de la mañana en la sede de ASEPAVI en Los Palacios y Villafranca. \nEste evento estará dirigido por Laura Guerrero y Rosa Belloso de Vórtice Formación\, dos profesionales con amplia experiencia en marketing digital y en el desarrollo de estrategias de contenido efectivo. Durante la sesión\, compartirán contigo sus mejores trucos y consejos para que puedas destacar en internet\, sin importar si estás comenzando o ya tienes recorrido en el ámbito digital. \n¿Qué aprenderás en esta jornada?\nA lo largo de la mañana\, Laura y Rosa abordarán los elementos esenciales del marketing digital que toda empresa\, autónomo o emprendedor debería conocer para triunfar en un entorno cada vez más competitivo. \nSe hablará de: \n\nCreación de contenido de valor que conecte con tu audiencia.\nGestión efectiva de redes sociales para mejorar la visibilidad de tu marca.\nClaves para mejorar tu posicionamiento SEO y atraer más tráfico a tu web.\n\nAdemás\, las ponentes compartirán ejemplos prácticos y casos de éxito reales\, ofreciendo una visión clara y accesible de cómo implementar estas técnicas en tu negocio. \nNo importa si eres empresario\, emprendedor o autónomo: en esta jornada encontrarás nuevas ideas y herramientas para llevar tu presencia digital al siguiente nivel. \nTe esperamos el 29 de octubre a las 8:30 en ASEPAVI para una mañana llena de aprendizaje práctico y oportunidades para mejorar tu estrategia digital. ¡No faltes! \nLas oficinas Acelera Pyme puestas en marcha en toda España por Red.es\, entidad pública adscrita al Ministerio para la Transformación Digital y de la Función Pública a través de la Secretaria del Estado de Digitalización e Inteligencia Artificial\, cuentan en su segunda convocatoria 2022 con un importe de ayuda concedida de 11.830.851\,68€ siendo el importe de la ayuda máxima el 80% del presupuesto subvencionable . El beneficiario cofinanciará el porcentaje restante. Las actuaciones están financiadas con cargo al Programa Operativo de Crecimiento Inteligente\, Fondos Europeos de Desarrollo Regional (FEDER) del periodo de programación 2021-2027. \nY si tienes dudas o necesitas más información puedes ponerte en contacto con cualquiera de nuestras técnicas:\n\n\n\n\n\n\n\n\ncadizacelerapyme@coiiaoc.com  (Eva) \ncdgacelerapyme@coiiaoc.com (Vanesa) \nsevilla1acelerapyme@coiiaoc.com (Setefilla) \nsevilla2acelerapyme@coiiaoc.com (Matilde) \n\n\n\n\n\n\n\n\n 
URL:https://acelerapymecoiiaocsevilla.com/eventos/marketing-digital-tus-estrategias-para-triunfar-en-internet-3/
LOCATION:SEDE ASEPAVI Los Palacios y Villafranca\, Calle Santiago las Heras\, 3\, Los Palacios y Villafranca\, Sevilla\, España
END:VEVENT
BEGIN:VEVENT
DTSTART;TZID=Europe/Madrid:20241029T170000
DTEND;TZID=Europe/Madrid:20241029T200000
DTSTAMP:20260420T033439
CREATED:20241009T090008Z
LAST-MODIFIED:20241009T090008Z
UID:19699-1730221200-1730232000@acelerapymecoiiaocsevilla.com
SUMMARY:Videomarketing para principiantes: Canva y CapCut
DESCRIPTION:Inscribirse aquí\nEl próximo 29 de octubre a las 17:00\, nos reunimos en la sede del COIIAOC en Cádiz para explorar dos de las herramientas más potentes y accesibles del mundo digital: Canva y CapCut con la jornada titulada Videomarketing para principiantes: Canva y CapCut. Si estás empezando en el mundo del videomarketing y quieres mejorar tu presencia online\, este es el momento perfecto para lanzarte. \nLa jornada estará dirigida por Amparo Bou\, de Sin Límites Comunicación\, quien nos enseñará cómo crear contenido visual atractivo y profesional de manera sencilla. Tanto Canva como CapCut son herramientas que están revolucionando la forma en que creamos y compartimos contenido\, y lo mejor de todo es que no necesitas ser un experto para sacarles el máximo provecho. \nCanva es ideal para diseñar imágenes y videos con resultados increíbles en cuestión de minutos. No importa si no tienes experiencia previa\, aprenderás a crear contenido que potencie tu marca y conecte con tu audiencia en redes sociales. \nPor otro lado\, con CapCut\, podrás editar videos de forma rápida y efectiva. Desde transiciones hasta efectos visuales\, esta aplicación te permitirá dar ese toque profesional a tus videos\, sin complicaciones. \nEste evento está pensado para principiantes que quieran empezar a crear contenido visual o para aquellos autónomos\, emprendedores y pequeños empresarios que quieren mejorar la presencia de su marca en el mundo digital. No importa si nunca has usado estas herramientas antes\, ¡te irás con ideas y trucos que te ayudarán a destacar online! \nNos vemos el 29 de octubre a las 17:00 en Cádiz. ¡No te lo pierdas! \n  \nLas oficinas Acelera Pyme puestas en marcha en toda España por Red.es\, entidad pública adscrita al Ministerio para la Transformación Digital y de la Función Pública a través de la Secretaria del Estado de Digitalización e Inteligencia Artificial\, cuentan en su segunda convocatoria 2022 con un importe de ayuda concedida de 11.830.851\,68€ siendo el importe de la ayuda máxima el 80% del presupuesto subvencionable . El beneficiario cofinanciará el porcentaje restante. Las actuaciones están financiadas con cargo al Programa Operativo de Crecimiento Inteligente\, Fondos Europeos de Desarrollo Regional (FEDER) del periodo de programación 2021-2027. \nY si tienes dudas o necesitas más información puedes ponerte en contacto con cualquiera de nuestras técnicas:\n\n\n\n\n\n\n\n\ncadizacelerapyme@coiiaoc.com  (Eva) \ncdgacelerapyme@coiiaoc.com (Vanesa) \nsevilla1acelerapyme@coiiaoc.com (Setefilla) \nsevilla2acelerapyme@coiiaoc.com (Matilde)
URL:https://acelerapymecoiiaocsevilla.com/eventos/videomarketing-para-principiantes-canva-y-capcut/
LOCATION:Colegio Industrial de Ingenieros de Cádiz\, Calle Acacias número 25\, Cádiz\, Cádiz\, España
END:VEVENT
END:VCALENDAR