BEGIN:VCALENDAR
VERSION:2.0
PRODID:-//Acelera Pymes COIIAOC Cádiz - ECPv6.15.15//NONSGML v1.0//EN
CALSCALE:GREGORIAN
METHOD:PUBLISH
X-WR-CALNAME:Acelera Pymes COIIAOC Cádiz
X-ORIGINAL-URL:https://acelerapymecoiiaocsevilla.com
X-WR-CALDESC:Eventos para Acelera Pymes COIIAOC Cádiz
REFRESH-INTERVAL;VALUE=DURATION:PT1H
X-Robots-Tag:noindex
X-PUBLISHED-TTL:PT1H
BEGIN:VTIMEZONE
TZID:Europe/Madrid
BEGIN:DAYLIGHT
TZOFFSETFROM:+0100
TZOFFSETTO:+0200
TZNAME:CEST
DTSTART:20230326T010000
END:DAYLIGHT
BEGIN:STANDARD
TZOFFSETFROM:+0200
TZOFFSETTO:+0100
TZNAME:CET
DTSTART:20231029T010000
END:STANDARD
BEGIN:DAYLIGHT
TZOFFSETFROM:+0100
TZOFFSETTO:+0200
TZNAME:CEST
DTSTART:20240331T010000
END:DAYLIGHT
BEGIN:STANDARD
TZOFFSETFROM:+0200
TZOFFSETTO:+0100
TZNAME:CET
DTSTART:20241027T010000
END:STANDARD
BEGIN:DAYLIGHT
TZOFFSETFROM:+0100
TZOFFSETTO:+0200
TZNAME:CEST
DTSTART:20250330T010000
END:DAYLIGHT
BEGIN:STANDARD
TZOFFSETFROM:+0200
TZOFFSETTO:+0100
TZNAME:CET
DTSTART:20251026T010000
END:STANDARD
END:VTIMEZONE
BEGIN:VEVENT
DTSTART;TZID=Europe/Madrid:20241128T100000
DTEND;TZID=Europe/Madrid:20241128T120000
DTSTAMP:20260420T015507
CREATED:20241113T094927Z
LAST-MODIFIED:20241113T094927Z
UID:19796-1732788000-1732795200@acelerapymecoiiaocsevilla.com
SUMMARY:Todo lo que necesitas saber sobre la factura electrónica
DESCRIPTION:Inscribirse aquí\nAcelera Pyme te invita a un nuevo evento enfocado en uno de los cambios más importantes para empresas y autónomos en el ámbito de la facturación: la transición a la factura electrónica. Este taller\, titulado «Todo lo que necesitas saber sobre la factura electrónica»\, se celebrará el próximo jueves 28 de noviembre a las 10:00 am en el CADE de Huelva. Contará con la participación de Lucía Parejo\, quien se encargará de guiar a los asistentes en los aspectos clave de este nuevo modelo de facturación. \nLa entrada en vigor de la normativa que obliga a gran parte de las empresas a implementar la factura electrónica supone un desafío\, pero también una oportunidad para mejorar la eficiencia y transparencia en los procesos financieros. Durante esta jornada\, los asistentes podrán entender en profundidad la nueva normativa\, los plazos de aplicación y los beneficios asociados a la digitalización de facturas\, así como las herramientas disponibles para implementar este cambio de manera efectiva y sencilla. \nTemas que se abordarán en la jornada: \n\nAspectos legales de la factura electrónica: normativa vigente y plazos para adaptarse.\nBeneficios de la factura electrónica para mejorar la gestión financiera y reducir errores.\nHerramientas y software disponibles para facilitar la emisión de facturas electrónicas.\nConsejos prácticos y pasos para migrar de la facturación en papel a la facturación digital.\n\nEl evento está dirigido a empresarios\, autónomos y cualquier profesional que desee conocer el impacto de la factura electrónica en su actividad diaria y aprender a adaptarse a esta nueva exigencia legal de forma rápida y eficaz. Además\, los asistentes tendrán la oportunidad de resolver dudas y compartir inquietudes sobre este proceso de digitalización en un ambiente de aprendizaje práctico y accesible. \nNo pierdas esta oportunidad de avanzar en la digitalización de tu negocio. ¡Te esperamos el 28 de noviembre en el CADE de Huelva para ayudarte a dar el siguiente paso hacia la gestión empresarial del futuro! \nLas oficinas Acelera Pyme puestas en marcha en toda España por Red.es\, entidad pública adscrita al Ministerio para la Transformación Digital y de la Función Pública a través de la Secretaria del Estado de Digitalización e Inteligencia Artificial\, cuentan en su segunda convocatoria 2022 con un importe de ayuda concedida de 11.830.851\,68€ siendo el importe de la ayuda máxima el 80% del presupuesto subvencionable . El beneficiario cofinanciará el porcentaje restante. Las actuaciones están financiadas con cargo al Programa Operativo de Crecimiento Inteligente\, Fondos Europeos de Desarrollo Regional (FEDER) del periodo de programación 2021-2027. \nY si tienes dudas o necesitas más información puedes ponerte en contacto con cualquiera de nuestras técnicas:\n\n\n\n\n\n\n\n\ncadizacelerapyme@coiiaoc.com \ncdgacelerapyme@coiiaoc.com (Vanesa) \nsevilla1acelerapyme@coiiaoc.com (Setefilla) \nsevilla2acelerapyme@coiiaoc.com (Matilde)
URL:https://acelerapymecoiiaocsevilla.com/eventos/todo-lo-que-necesitas-saber-sobre-la-factura-electronica/
LOCATION:CADE HUELVA\, Avd\, Villa de Madrid\, 17\, local A\, Huelva\, Huelva\, España
END:VEVENT
BEGIN:VEVENT
DTSTART;TZID=Europe/Madrid:20241128T170000
DTEND;TZID=Europe/Madrid:20241128T190000
DTSTAMP:20260420T015507
CREATED:20241114T132114Z
LAST-MODIFIED:20241114T132114Z
UID:19804-1732813200-1732820400@acelerapymecoiiaocsevilla.com
SUMMARY:Tecnología al alcance de todos\, sin ser ingeniero
DESCRIPTION:Inscribirse aquí\nLa digitalización avanza rápidamente y transforma la forma en que gestionamos negocios\, nos comunicamos y accedemos a la información. Conscientes de esta realidad\, Acelera Pyme presenta un evento diseñado para hacer que la tecnología sea accesible para todos\, sin importar el nivel de experiencia técnica. Bajo el título «Tecnología al alcance de todos\, sin ser ingeniero»\, esta jornada está dirigida a empresarios\, autónomos y cualquier profesional que desee comprender y aprovechar las herramientas tecnológicas más relevantes en la actualidad. \nEl evento se celebrará el próximo jueves 28 de noviembre a las 17:00 en el Centro de Iniciativas Juveniles BOX en Chiclana de la Frontera. La jornada cubrirá cuatro áreas fundamentales para optimizar el rendimiento de cualquier empresa o proyecto en el ámbito digital: iCloud\, ciberseguridad\, inteligencia artificial y Martech. \nTemas principales que se abordarán: \n\niCloud y almacenamiento en la nube: Exploraremos los beneficios y funcionalidades del almacenamiento en la nube\, desde la gestión y acceso a documentos de manera segura hasta la colaboración en tiempo real. Aprenderás cómo esta herramienta puede mejorar la eficiencia y accesibilidad de tu trabajo diario.\nCiberseguridad básica: En la era digital\, proteger la información es esencial. Conocerás las medidas básicas para mantener tus datos y dispositivos seguros\, así como técnicas preventivas para evitar amenazas y ataques cibernéticos.\nInteligencia Artificial (IA): La IA es una herramienta poderosa para optimizar tareas y personalizar la experiencia del cliente. Descubre aplicaciones prácticas de la IA que pueden ayudarte a mejorar procesos y tomar decisiones más informadas.\nMartech: Exploraremos el concepto de “marketing technology” y cómo integrar herramientas tecnológicas en tus estrategias de marketing\, desde la automatización hasta el análisis de datos para alcanzar a tu audiencia de manera efectiva.\n\nEste evento está diseñado para todos aquellos que quieren potenciar su empresa o marca utilizando herramientas tecnológicas de vanguardia\, sin la necesidad de ser un experto en informática o ingeniería. Con un enfoque práctico y accesible\, se ofrecerán consejos\, estrategias y aplicaciones que podrás aplicar de inmediato para optimizar tu negocio y adaptarlo a las demandas de la economía digital actual. \n¡No pierdas la oportunidad de dar un paso hacia el futuro! Te esperamos el 28 de noviembre en Chiclana de la Frontera para una tarde de aprendizaje y transformación digital. \n  \nLas oficinas Acelera Pyme puestas en marcha en toda España por Red.es\, entidad pública adscrita al Ministerio para la Transformación Digital y de la Función Pública a través de la Secretaria del Estado de Digitalización e Inteligencia Artificial\, cuentan en su segunda convocatoria 2022 con un importe de ayuda concedida de 11.830.851\,68€ siendo el importe de la ayuda máxima el 80% del presupuesto subvencionable . El beneficiario cofinanciará el porcentaje restante. Las actuaciones están financiadas con cargo al Programa Operativo de Crecimiento Inteligente\, Fondos Europeos de Desarrollo Regional (FEDER) del periodo de programación 2021-2027. \nY si tienes dudas o necesitas más información puedes ponerte en contacto con cualquiera de nuestras técnicas:\n\n\n\n\n\n\n\n\ncadizacelerapyme@coiiaoc.com \ncdgacelerapyme@coiiaoc.com (Vanesa) \nsevilla1acelerapyme@coiiaoc.com (Setefilla) \nsevilla2acelerapyme@coiiaoc.com (Matilde)
URL:https://acelerapymecoiiaocsevilla.com/eventos/tecnologia-al-alcance-de-todos-sin-ser-ingeniero/
LOCATION:Centro de iniciativas juveniles BOX\, Calle Severo Ochoa S/N\, Chiclana de la Frontera\, España
END:VEVENT
END:VCALENDAR