BEGIN:VCALENDAR
VERSION:2.0
PRODID:-//Acelera Pymes COIIAOC Cádiz - ECPv6.15.15//NONSGML v1.0//EN
CALSCALE:GREGORIAN
METHOD:PUBLISH
X-WR-CALNAME:Acelera Pymes COIIAOC Cádiz
X-ORIGINAL-URL:https://acelerapymecoiiaocsevilla.com
X-WR-CALDESC:Eventos para Acelera Pymes COIIAOC Cádiz
REFRESH-INTERVAL;VALUE=DURATION:PT1H
X-Robots-Tag:noindex
X-PUBLISHED-TTL:PT1H
BEGIN:VTIMEZONE
TZID:Europe/Madrid
BEGIN:DAYLIGHT
TZOFFSETFROM:+0100
TZOFFSETTO:+0200
TZNAME:CEST
DTSTART:20230326T010000
END:DAYLIGHT
BEGIN:STANDARD
TZOFFSETFROM:+0200
TZOFFSETTO:+0100
TZNAME:CET
DTSTART:20231029T010000
END:STANDARD
BEGIN:DAYLIGHT
TZOFFSETFROM:+0100
TZOFFSETTO:+0200
TZNAME:CEST
DTSTART:20240331T010000
END:DAYLIGHT
BEGIN:STANDARD
TZOFFSETFROM:+0200
TZOFFSETTO:+0100
TZNAME:CET
DTSTART:20241027T010000
END:STANDARD
BEGIN:DAYLIGHT
TZOFFSETFROM:+0100
TZOFFSETTO:+0200
TZNAME:CEST
DTSTART:20250330T010000
END:DAYLIGHT
BEGIN:STANDARD
TZOFFSETFROM:+0200
TZOFFSETTO:+0100
TZNAME:CET
DTSTART:20251026T010000
END:STANDARD
END:VTIMEZONE
BEGIN:VEVENT
DTSTART;TZID=Europe/Madrid:20241203T100000
DTEND;TZID=Europe/Madrid:20241203T120000
DTSTAMP:20260420T015528
CREATED:20241126T103250Z
LAST-MODIFIED:20241126T104603Z
UID:19832-1733220000-1733227200@acelerapymecoiiaocsevilla.com
SUMMARY:Todo lo que necesitas saber sobre la factura electrónica
DESCRIPTION:Inscribirse aquí\nLa digitalización no solo es una tendencia\, sino una necesidad en el mundo empresarial actual. Con la reciente entrada en vigor de nuevas normativas sobre facturación electrónica\, adaptarse a este cambio se ha convertido en un paso esencial para garantizar la competitividad y el cumplimiento legal de empresas y profesionales. Por ello\, Acelera Pyme Coiiaoc\, en colaboración con el CADE de Rociana del Condado\, Huelva\, te invita a participar en la jornada “Todo lo que necesitas saber sobre la factura electrónica”\, que se llevará a cabo el próximo martes 3 de diciembre a las 10:00 de la mañana de forma exclusivamente online. \nLa encargada de liderar esta sesión será Lucía Parejo\, una experta con amplia experiencia en procesos de digitalización y asesoramiento empresarial. A través de esta ponencia\, los asistentes obtendrán una comprensión integral sobre cómo implementar y gestionar la factura electrónica de manera sencilla y eficiente\, cumpliendo con las exigencias legales y optimizando sus procesos administrativos. \n¿Qué puedes esperar de este evento? \n\nNormativa vigente: Conoce las claves del marco legal actual\, los plazos establecidos y a quién afecta la obligatoriedad de la factura electrónica.\nBeneficios de la facturación digital: Descubre cómo esta herramienta mejora la eficiencia\, reduce los errores y aporta transparencia a tus operaciones financieras.\nHerramientas prácticas: Aprende a elegir las plataformas y software adecuados para emitir y gestionar facturas electrónicas de manera efectiva.\nConsejos prácticos: Lucía Parejo ofrecerá un paso a paso claro para facilitar la transición desde los sistemas tradicionales al modelo digital.\n\nEste evento está diseñado para empresarios\, autónomos y pymes que buscan adaptarse a las exigencias digitales actuales y aprovechar las ventajas de la facturación electrónica. \n¡No pierdas la oportunidad de estar al día y mejorar la gestión de tu negocio! Te esperamos el 3 de diciembre en el CADE de Rociana del Condado. \nLas oficinas Acelera Pyme puestas en marcha en toda España por Red.es\, entidad pública adscrita al Ministerio para la Transformación Digital y de la Función Pública a través de la Secretaria del Estado de Digitalización e Inteligencia Artificial\, cuentan en su segunda convocatoria 2022 con un importe de ayuda concedida de 11.830.851\,68€ siendo el importe de la ayuda máxima el 80% del presupuesto subvencionable . El beneficiario cofinanciará el porcentaje restante. Las actuaciones están financiadas con cargo al Programa Operativo de Crecimiento Inteligente\, Fondos Europeos de Desarrollo Regional (FEDER) del periodo de programación 2021-2027. \nY si tienes dudas o necesitas más información puedes ponerte en contacto con cualquiera de nuestras técnicas:\n\n\n\n\n\n\n\n\ncadizacelerapyme@coiiaoc.com \ncdgacelerapyme@coiiaoc.com (Vanesa) \nsevilla1acelerapyme@coiiaoc.com (Setefilla) \nsevilla2acelerapyme@coiiaoc.com (Matilde)
URL:https://acelerapymecoiiaocsevilla.com/eventos/todo-lo-que-necesitas-saber-sobre-la-factura-electronica-2/
LOCATION:ONLINE
END:VEVENT
BEGIN:VEVENT
DTSTART;TZID=Europe/Madrid:20241203T160000
DTEND;TZID=Europe/Madrid:20241203T180000
DTSTAMP:20260420T015528
CREATED:20241121T054548Z
LAST-MODIFIED:20241121T054613Z
UID:19819-1733241600-1733248800@acelerapymecoiiaocsevilla.com
SUMMARY:Factura Electrónica: Simplificando Trámites
DESCRIPTION:Inscribirse aquí\nAdaptarse a las nuevas normativas y herramientas es fundamental para garantizar la competitividad de empresas y profesionales. Por ello\, Acelera Pyme organiza una nueva jornada titulada “Factura Electrónica: Simplificando Trámites”\, diseñada para proporcionar a empresarios\, autónomos y pymes las claves para implementar y gestionar la factura electrónica de manera eficiente. \n🗓 Fecha: Martes 3 de diciembre\n🕓 Hora: 16:00\n📍 Lugar: Sede ASEPAVI\, Los Palacios y Villafranca \nLa encargada de liderar esta sesión será Susana Macías\, experta de Vórtice Formación con una sólida trayectoria en la formación digital y en el uso de herramientas tecnológicas. Susana guiará a los asistentes a través de los aspectos esenciales de la factura electrónica\, una herramienta que\, además de cumplir con las exigencias legales\, ofrece importantes ventajas en la gestión financiera de cualquier negocio. \n¿Qué aprenderás en este evento?\n1️⃣ Normativa vigente: Descubre los detalles clave del marco legal que regula la factura electrónica y los plazos para adaptarse a esta obligación.\n2️⃣ Beneficios de la factura electrónica: Aprende cómo este sistema puede mejorar la eficiencia\, reducir errores y aumentar la transparencia en tus procesos administrativos.\n3️⃣ Herramientas digitales: Conoce las plataformas y software más utilizados para emitir y gestionar facturas electrónicas\, y cómo elegir la más adecuada para tu negocio.\n4️⃣ Pasos prácticos: Recibe consejos y un paso a paso para migrar de los sistemas tradicionales al modelo digital con confianza y seguridad. \nEste evento está diseñado tanto para quienes están dando sus primeros pasos en la facturación digital como para aquellos que buscan optimizar su uso. \n💡 ¡No pierdas esta oportunidad de estar al día con las nuevas exigencias digitales y dar un salto hacia la eficiencia! \nReserva tu plaza y acompáñanos el 3 de diciembre en Los Palacios y Villafranca. ¡Te esperamos! \nLas oficinas Acelera Pyme puestas en marcha en toda España por Red.es\, entidad pública adscrita al Ministerio para la Transformación Digital y de la Función Pública a través de la Secretaria del Estado de Digitalización e Inteligencia Artificial\, cuentan en su segunda convocatoria 2022 con un importe de ayuda concedida de 11.830.851\,68€ siendo el importe de la ayuda máxima el 80% del presupuesto subvencionable . El beneficiario cofinanciará el porcentaje restante. Las actuaciones están financiadas con cargo al Programa Operativo de Crecimiento Inteligente\, Fondos Europeos de Desarrollo Regional (FEDER) del periodo de programación 2021-2027. \nY si tienes dudas o necesitas más información puedes ponerte en contacto con cualquiera de nuestras técnicas:\n\n\n\n\n\n\n\n\ncadizacelerapyme@coiiaoc.com \ncdgacelerapyme@coiiaoc.com (Vanesa) \nsevilla1acelerapyme@coiiaoc.com (Setefilla) \nsevilla2acelerapyme@coiiaoc.com (Matilde)
URL:https://acelerapymecoiiaocsevilla.com/eventos/factura-electronica-simplificando-tramites/
LOCATION:Sevilla
END:VEVENT
END:VCALENDAR