BEGIN:VCALENDAR
VERSION:2.0
PRODID:-//Acelera Pymes COIIAOC Cádiz - ECPv6.15.15//NONSGML v1.0//EN
CALSCALE:GREGORIAN
METHOD:PUBLISH
X-ORIGINAL-URL:https://acelerapymecoiiaocsevilla.com
X-WR-CALDESC:Eventos para Acelera Pymes COIIAOC Cádiz
REFRESH-INTERVAL;VALUE=DURATION:PT1H
X-Robots-Tag:noindex
X-PUBLISHED-TTL:PT1H
BEGIN:VTIMEZONE
TZID:Europe/Madrid
BEGIN:DAYLIGHT
TZOFFSETFROM:+0100
TZOFFSETTO:+0200
TZNAME:CEST
DTSTART:20230326T010000
END:DAYLIGHT
BEGIN:STANDARD
TZOFFSETFROM:+0200
TZOFFSETTO:+0100
TZNAME:CET
DTSTART:20231029T010000
END:STANDARD
BEGIN:DAYLIGHT
TZOFFSETFROM:+0100
TZOFFSETTO:+0200
TZNAME:CEST
DTSTART:20240331T010000
END:DAYLIGHT
BEGIN:STANDARD
TZOFFSETFROM:+0200
TZOFFSETTO:+0100
TZNAME:CET
DTSTART:20241027T010000
END:STANDARD
BEGIN:DAYLIGHT
TZOFFSETFROM:+0100
TZOFFSETTO:+0200
TZNAME:CEST
DTSTART:20250330T010000
END:DAYLIGHT
BEGIN:STANDARD
TZOFFSETFROM:+0200
TZOFFSETTO:+0100
TZNAME:CET
DTSTART:20251026T010000
END:STANDARD
END:VTIMEZONE
BEGIN:VEVENT
DTSTART;TZID=Europe/Madrid:20241211T170000
DTEND;TZID=Europe/Madrid:20241211T190000
DTSTAMP:20260420T015649
CREATED:20241202T092748Z
LAST-MODIFIED:20241202T092748Z
UID:19848-1733936400-1733943600@acelerapymecoiiaocsevilla.com
SUMMARY:La Semana de la digitalización llega a Casares: Pon a punto las redes sociales para tu negocio en 2025
DESCRIPTION:Inscribirse aquí\nAcelera Pyme presenta una oportunidad única para transformar la manera en que tu negocio se relaciona con el mundo digital. Durante los días 11 y 12 de diciembre\, se llevará a cabo La Semana de la Digitalización en Casares\, un evento diseñado para empresarios\, autónomos y profesionales que desean optimizar su presencia en redes sociales y prepararse para las tendencias que dominarán en 2025. \n📍 Fechas y lugares \n\n11 de diciembre a las 17:00 en el Edificio Camachas\, Casares Pueblo.\n12 de diciembre a las 17:00 en la Tenencia de Alcaldía\, Secadero.\n\nCada jornada está cuidadosamente diseñada para maximizar el aprendizaje\, dividiendo los contenidos en dos días de formación práctica y aplicada. \n¿Qué aprenderás?\nGuiados por María García Moreno\, de Comunicación Al Dente\, los asistentes descubrirán las claves para destacar en redes sociales y conectar con su audiencia de manera efectiva. \n\nTendencias 2025: Explora qué dominará el ámbito digital y cómo adaptarte para destacar frente a la competencia.\nCreación de contenido efectivo: Desde tips para videos cortos hasta técnicas para publicaciones visualmente impactantes\, aprenderás a captar la atención de tu audiencia.\nInteligencia Artificial (IA): Descubre cómo la IA puede automatizar procesos y optimizar tu estrategia en redes.\nMeta Business Suite y Google: Aprende a programar publicaciones\, planificar estrategias y organizar tu agenda con herramientas gratuitas.\nWhatsApp Business: Conoce cómo aprovechar esta plataforma para conectar directamente con tus clientes.\n\nPor qué asistir\nEsta jornada es más que un taller\, es una puerta abierta hacia la digitalización estratégica. Diseñarás un feed atractivo\, entenderás el poder del storytelling y conocerás casos de éxito reales. \nNo pierdas la oportunidad de aprender a gestionar tus redes sociales como un profesional. ¡Te esperamos en Casares para transformar tu negocio y destacar en 2025! \nLas oficinas Acelera Pyme puestas en marcha en toda España por Red.es\, entidad pública adscrita al Ministerio para la Transformación Digital y de la Función Pública a través de la Secretaria del Estado de Digitalización e Inteligencia Artificial\, cuentan en su segunda convocatoria 2022 con un importe de ayuda concedida de 11.830.851\,68€ siendo el importe de la ayuda máxima el 80% del presupuesto subvencionable . El beneficiario cofinanciará el porcentaje restante. Las actuaciones están financiadas con cargo al Programa Operativo de Crecimiento Inteligente\, Fondos Europeos de Desarrollo Regional (FEDER) del periodo de programación 2021-2027. \nY si tienes dudas o necesitas más información puedes ponerte en contacto con cualquiera de nuestras técnicas:\n\n\n\n\n\n\n\n\ncadizacelerapyme@coiiaoc.com \ncdgacelerapyme@coiiaoc.com (Vanesa) \nsevilla1acelerapyme@coiiaoc.com (Setefilla) \nsevilla2acelerapyme@coiiaoc.com (Matilde)
URL:https://acelerapymecoiiaocsevilla.com/eventos/la-semana-de-la-digitalizacion-llega-a-casares-pon-a-punto-las-redes-sociales-para-tu-negocio-en-2025/
LOCATION:Edificio Camachas\, Calle Camachas\, Casares\, Málaga\, España
END:VEVENT
END:VCALENDAR