BEGIN:VCALENDAR
VERSION:2.0
PRODID:-//Acelera Pymes COIIAOC Cádiz - ECPv6.15.15//NONSGML v1.0//EN
CALSCALE:GREGORIAN
METHOD:PUBLISH
X-WR-CALNAME:Acelera Pymes COIIAOC Cádiz
X-ORIGINAL-URL:https://acelerapymecoiiaocsevilla.com
X-WR-CALDESC:Eventos para Acelera Pymes COIIAOC Cádiz
REFRESH-INTERVAL;VALUE=DURATION:PT1H
X-Robots-Tag:noindex
X-PUBLISHED-TTL:PT1H
BEGIN:VTIMEZONE
TZID:Europe/Madrid
BEGIN:DAYLIGHT
TZOFFSETFROM:+0100
TZOFFSETTO:+0200
TZNAME:CEST
DTSTART:20240331T010000
END:DAYLIGHT
BEGIN:STANDARD
TZOFFSETFROM:+0200
TZOFFSETTO:+0100
TZNAME:CET
DTSTART:20241027T010000
END:STANDARD
BEGIN:DAYLIGHT
TZOFFSETFROM:+0100
TZOFFSETTO:+0200
TZNAME:CEST
DTSTART:20250330T010000
END:DAYLIGHT
BEGIN:STANDARD
TZOFFSETFROM:+0200
TZOFFSETTO:+0100
TZNAME:CET
DTSTART:20251026T010000
END:STANDARD
BEGIN:DAYLIGHT
TZOFFSETFROM:+0100
TZOFFSETTO:+0200
TZNAME:CEST
DTSTART:20260329T010000
END:DAYLIGHT
BEGIN:STANDARD
TZOFFSETFROM:+0200
TZOFFSETTO:+0100
TZNAME:CET
DTSTART:20261025T010000
END:STANDARD
END:VTIMEZONE
BEGIN:VEVENT
DTSTART;TZID=Europe/Madrid:20250219T163000
DTEND;TZID=Europe/Madrid:20250219T183000
DTSTAMP:20260419T212730
CREATED:20250123T214629Z
LAST-MODIFIED:20250123T214629Z
UID:19962-1739982600-1739989800@acelerapymecoiiaocsevilla.com
SUMMARY:Factura electrónica: Todo lo que necesitas saber
DESCRIPTION:Inscribirse aquí\nAcelera Pyme te invita a participar en una jornada esencial para entender y adoptar la facturación electrónica en tu negocio. El evento\, titulado “Factura electrónica: Todo lo que necesitas saber”\, tendrá lugar el próximo miércoles 19 de febrero a las 16:30 horas\, en la Casa de la Juventud de Lebrija\, ubicada en la Plaza Rector Merina\, 2\, frente a la Parroquia de la Oliva. \nLa encargada de liderar esta jornada será Lucía Parejo\, especialista en digitalización y herramientas empresariales\, quien ofrecerá una visión clara y práctica sobre cómo implementar la facturación electrónica y aprovechar sus ventajas para optimizar la gestión administrativa de las empresas. \nLa factura electrónica no solo se ha convertido en una obligación legal para muchas empresas\, sino también en una herramienta clave para la eficiencia\, la transparencia y el ahorro de recursos. Esta jornada está especialmente diseñada para empresarios\, autónomos y gestores de pequeñas y medianas empresas interesados en actualizarse y adaptarse a la nueva era digital de manera sencilla y efectiva. \n¿Qué aprenderás en esta jornada? \n\nNormativa actual: Conoce las leyes y plazos que regulan la obligatoriedad de la facturación electrónica en España.\nVentajas para tu negocio: Aprende cómo este sistema puede mejorar la eficiencia\, reducir errores y optimizar la transparencia en tu gestión financiera.\nHerramientas prácticas: Familiarízate con los softwares y plataformas más utilizados para emitir y gestionar facturas electrónicas.\nImplementación paso a paso: Descubre cómo migrar de los sistemas tradicionales al modelo digital sin complicaciones.\n\nNo pierdas esta oportunidad de preparar tu negocio para el futuro y cumplir con la normativa vigente de manera eficiente. La entrada es gratuita\, pero las plazas son limitadas\, ¡no te quedes fuera! \nTe esperamos en Lebrija para una jornada llena de aprendizaje y soluciones prácticas para tu empresa. \nLas oficinas Acelera Pyme puestas en marcha en toda España por Red.es\, entidad pública adscrita al Ministerio para la Transformación Digital y de la Función Pública a través de la Secretaria del Estado de Digitalización e Inteligencia Artificial\, cuentan en su segunda convocatoria 2022 con un importe de ayuda concedida de 11.830.851\,68€ siendo el importe de la ayuda máxima el 80% del presupuesto subvencionable . El beneficiario cofinanciará el porcentaje restante. Las actuaciones están financiadas con cargo al Programa Operativo de Crecimiento Inteligente\, Fondos Europeos de Desarrollo Regional (FEDER) del periodo de programación 2021-2027. \nY si tienes dudas o necesitas más información puedes ponerte en contacto con cualquiera de nuestras técnicas:\n\n\n\n\n\n\n\n\ncadizacelerapyme@coiiaoc.com \ncdgacelerapyme@coiiaoc.com (Vanesa) \nsevilla1acelerapyme@coiiaoc.com (Setefilla) \nsevilla2acelerapyme@coiiaoc.com (Matilde)
URL:https://acelerapymecoiiaocsevilla.com/eventos/factura-electronica-todo-lo-que-necesitas-saber/
LOCATION:CASA DE LA JUVENTUD – LEBRIJA
END:VEVENT
END:VCALENDAR