BEGIN:VCALENDAR
VERSION:2.0
PRODID:-//Acelera Pymes COIIAOC Cádiz - ECPv6.15.15//NONSGML v1.0//EN
CALSCALE:GREGORIAN
METHOD:PUBLISH
X-ORIGINAL-URL:https://acelerapymecoiiaocsevilla.com
X-WR-CALDESC:Eventos para Acelera Pymes COIIAOC Cádiz
REFRESH-INTERVAL;VALUE=DURATION:PT1H
X-Robots-Tag:noindex
X-PUBLISHED-TTL:PT1H
BEGIN:VTIMEZONE
TZID:Europe/Madrid
BEGIN:DAYLIGHT
TZOFFSETFROM:+0100
TZOFFSETTO:+0200
TZNAME:CEST
DTSTART:20240331T010000
END:DAYLIGHT
BEGIN:STANDARD
TZOFFSETFROM:+0200
TZOFFSETTO:+0100
TZNAME:CET
DTSTART:20241027T010000
END:STANDARD
BEGIN:DAYLIGHT
TZOFFSETFROM:+0100
TZOFFSETTO:+0200
TZNAME:CEST
DTSTART:20250330T010000
END:DAYLIGHT
BEGIN:STANDARD
TZOFFSETFROM:+0200
TZOFFSETTO:+0100
TZNAME:CET
DTSTART:20251026T010000
END:STANDARD
BEGIN:DAYLIGHT
TZOFFSETFROM:+0100
TZOFFSETTO:+0200
TZNAME:CEST
DTSTART:20260329T010000
END:DAYLIGHT
BEGIN:STANDARD
TZOFFSETFROM:+0200
TZOFFSETTO:+0100
TZNAME:CET
DTSTART:20261025T010000
END:STANDARD
END:VTIMEZONE
BEGIN:VEVENT
DTSTART;TZID=Europe/Madrid:20250220T103000
DTEND;TZID=Europe/Madrid:20250220T123000
DTSTAMP:20260419T212841
CREATED:20250127T102536Z
LAST-MODIFIED:20250127T102536Z
UID:19970-1740047400-1740054600@acelerapymecoiiaocsevilla.com
SUMMARY:Todo lo que debes saber sobre la factura electrónica
DESCRIPTION:Inscribirse aquí\nEn un entorno empresarial cada vez más digitalizado\, la factura electrónica se posiciona como una herramienta clave para optimizar la gestión administrativa y garantizar el cumplimiento de la normativa vigente. Por ello\, Acelera Pyme\, en colaboración con el CADE de Aracena\, organiza la jornada “Todo lo que necesitas saber sobre la factura electrónica”\, un evento imprescindible para empresarios\, autónomos y profesionales que buscan adaptarse al nuevo paradigma digital con éxito. \n📅 Fecha: Jueves\, 20 de febrero\n🕘 Hora: 10:30 de la mañana\n💻 Modalidad: Online \nLa sesión estará liderada por Lucía Parejo\, experta en digitalización y transformación empresarial\, quien compartirá su conocimiento y experiencia para ayudarte a comprender las claves de la factura electrónica y su implementación en tu negocio. \n¿Qué aprenderás en esta jornada? \n\nNormativa y obligaciones legales: Conoce las leyes que regulan la factura electrónica en España y cómo cumplir con ellas.\nVentajas de la digitalización: Descubre cómo este sistema puede ayudarte a ahorrar tiempo\, reducir errores y mejorar la eficiencia de tus procesos administrativos.\nHerramientas digitales: Familiarízate con las principales plataformas y softwares para emitir y gestionar facturas electrónicas de forma sencilla y segura.\nPasos para la implementación: Aprende cómo migrar de los métodos tradicionales a un sistema de facturación digital sin complicaciones.\nResolución de dudas en directo: Tendrás la oportunidad de interactuar con la ponente y obtener respuestas personalizadas a tus preguntas.\n\nEsta jornada está diseñada para ofrecerte conocimientos prácticos y aplicables que impulsarán la gestión de tu negocio hacia la digitalización. \nNo pierdas la oportunidad de prepararte para el futuro y optimizar la gestión de tu empresa. Inscríbete ahora y asegura tu plaza en esta jornada formativa gratuita! \nLas oficinas Acelera Pyme puestas en marcha en toda España por Red.es\, entidad pública adscrita al Ministerio para la Transformación Digital y de la Función Pública a través de la Secretaria del Estado de Digitalización e Inteligencia Artificial\, cuentan en su segunda convocatoria 2022 con un importe de ayuda concedida de 11.830.851\,68€ siendo el importe de la ayuda máxima el 80% del presupuesto subvencionable . El beneficiario cofinanciará el porcentaje restante. Las actuaciones están financiadas con cargo al Programa Operativo de Crecimiento Inteligente\, Fondos Europeos de Desarrollo Regional (FEDER) del periodo de programación 2021-2027. \nY si tienes dudas o necesitas más información puedes ponerte en contacto con cualquiera de nuestras técnicas:\n\n\n\n\n\n\n\n\ncadizacelerapyme@coiiaoc.com \ncdgacelerapyme@coiiaoc.com (Vanesa) \nsevilla1acelerapyme@coiiaoc.com (Setefilla) \nsevilla2acelerapyme@coiiaoc.com (Matilde)
URL:https://acelerapymecoiiaocsevilla.com/eventos/todo-lo-que-debes-saber-sobre-la-factura-electronica/
LOCATION:ONLINE
END:VEVENT
END:VCALENDAR