BEGIN:VCALENDAR
VERSION:2.0
PRODID:-//Acelera Pymes COIIAOC Cádiz - ECPv6.15.15//NONSGML v1.0//EN
CALSCALE:GREGORIAN
METHOD:PUBLISH
X-ORIGINAL-URL:https://acelerapymecoiiaocsevilla.com
X-WR-CALDESC:Eventos para Acelera Pymes COIIAOC Cádiz
REFRESH-INTERVAL;VALUE=DURATION:PT1H
X-Robots-Tag:noindex
X-PUBLISHED-TTL:PT1H
BEGIN:VTIMEZONE
TZID:Europe/Madrid
BEGIN:DAYLIGHT
TZOFFSETFROM:+0100
TZOFFSETTO:+0200
TZNAME:CEST
DTSTART:20240331T010000
END:DAYLIGHT
BEGIN:STANDARD
TZOFFSETFROM:+0200
TZOFFSETTO:+0100
TZNAME:CET
DTSTART:20241027T010000
END:STANDARD
BEGIN:DAYLIGHT
TZOFFSETFROM:+0100
TZOFFSETTO:+0200
TZNAME:CEST
DTSTART:20250330T010000
END:DAYLIGHT
BEGIN:STANDARD
TZOFFSETFROM:+0200
TZOFFSETTO:+0100
TZNAME:CET
DTSTART:20251026T010000
END:STANDARD
BEGIN:DAYLIGHT
TZOFFSETFROM:+0100
TZOFFSETTO:+0200
TZNAME:CEST
DTSTART:20260329T010000
END:DAYLIGHT
BEGIN:STANDARD
TZOFFSETFROM:+0200
TZOFFSETTO:+0100
TZNAME:CET
DTSTART:20261025T010000
END:STANDARD
END:VTIMEZONE
BEGIN:VEVENT
DTSTART;TZID=Europe/Madrid:20250306T163000
DTEND;TZID=Europe/Madrid:20250306T183000
DTSTAMP:20260419T195954
CREATED:20250219T104137Z
LAST-MODIFIED:20250219T104137Z
UID:19994-1741278600-1741285800@acelerapymecoiiaocsevilla.com
SUMMARY:Todo lo que debes saber sobre la factura electrónica
DESCRIPTION:Inscribirse aquí\nLa factura electrónica se ha convertido en un elemento imprescindible para empresas y autónomos. No solo es una exigencia legal que se está implementando progresivamente en España\, sino también una herramienta clave para mejorar la eficiencia\, reducir errores administrativos y optimizar la gestión financiera. \nPor ello\, Acelera Pyme te invita a participar en la jornada “Todo lo que necesitas saber sobre la factura electrónica”\, un evento diseñado para resolver todas tus dudas y ayudarte en la transición hacia este nuevo modelo digital. La sesión se llevará a cabo el jueves 6 de marzo a las 16:30\, en el Centro de Formación\, C/Bulería s/n\, en Valencina de la Concepción. \nLa jornada estará dirigida por Lucía Parejo\, experta en digitalización empresarial\, quien te guiará paso a paso en el proceso de implementación de la factura electrónica en tu negocio. \n¿Qué aprenderás en esta jornada?\n✔ Normativa vigente y plazos: conoce las obligaciones legales y las fechas clave para la adopción de la factura electrónica en España.✔ Ventajas para tu empresa: descubre cómo este sistema puede ayudarte a reducir costes\, mejorar la precisión y aumentar la transparencia en tu gestión financiera.✔ Herramientas digitales: familiarízate con las principales plataformas y softwares para emitir y gestionar facturas electrónicas de forma eficiente.✔ Cómo implementarla con éxito: aprende los pasos necesarios para hacer la transición de manera sencilla y sin complicaciones. \nEsta jornada está dirigida a empresarios\, autónomos y gestores de pequeñas y medianas empresas que desean optimizar su gestión administrativa y cumplir con la normativa vigente sin dificultades. \n📌 La asistencia es gratuita\, pero las plazas son limitadas. Inscríbete ahora y no te quedes fuera de esta oportunidad de aprender y digitalizar tu negocio. \nLas oficinas Acelera Pyme puestas en marcha en toda España por Red.es\, entidad pública adscrita al Ministerio para la Transformación Digital y de la Función Pública a través de la Secretaria del Estado de Digitalización e Inteligencia Artificial\, cuentan en su segunda convocatoria 2022 con un importe de ayuda concedida de 11.830.851\,68€ siendo el importe de la ayuda máxima el 80% del presupuesto subvencionable . El beneficiario cofinanciará el porcentaje restante. Las actuaciones están financiadas con cargo al Programa Operativo de Crecimiento Inteligente\, Fondos Europeos de Desarrollo Regional (FEDER) del periodo de programación 2021-2027. \nY si tienes dudas o necesitas más información puedes ponerte en contacto con cualquiera de nuestras técnicas:\n\n\n\n\n\n\n\n\nsevilla1acelerapyme@coiiaoc.com (Setefilla) \nsevilla2acelerapyme@coiiaoc.com (Matilde)
URL:https://acelerapymecoiiaocsevilla.com/eventos/todo-lo-que-debes-saber-sobre-la-factura-electronica-2/
LOCATION:Centro de Formación\, C/ Bulería\,1 Sala Punto Vuela Valencina
END:VEVENT
END:VCALENDAR