BEGIN:VCALENDAR
VERSION:2.0
PRODID:-//Acelera Pymes COIIAOC Cádiz - ECPv6.15.15//NONSGML v1.0//EN
CALSCALE:GREGORIAN
METHOD:PUBLISH
X-WR-CALNAME:Acelera Pymes COIIAOC Cádiz
X-ORIGINAL-URL:https://acelerapymecoiiaocsevilla.com
X-WR-CALDESC:Eventos para Acelera Pymes COIIAOC Cádiz
REFRESH-INTERVAL;VALUE=DURATION:PT1H
X-Robots-Tag:noindex
X-PUBLISHED-TTL:PT1H
BEGIN:VTIMEZONE
TZID:Europe/Madrid
BEGIN:DAYLIGHT
TZOFFSETFROM:+0100
TZOFFSETTO:+0200
TZNAME:CEST
DTSTART:20240331T010000
END:DAYLIGHT
BEGIN:STANDARD
TZOFFSETFROM:+0200
TZOFFSETTO:+0100
TZNAME:CET
DTSTART:20241027T010000
END:STANDARD
BEGIN:DAYLIGHT
TZOFFSETFROM:+0100
TZOFFSETTO:+0200
TZNAME:CEST
DTSTART:20250330T010000
END:DAYLIGHT
BEGIN:STANDARD
TZOFFSETFROM:+0200
TZOFFSETTO:+0100
TZNAME:CET
DTSTART:20251026T010000
END:STANDARD
BEGIN:DAYLIGHT
TZOFFSETFROM:+0100
TZOFFSETTO:+0200
TZNAME:CEST
DTSTART:20260329T010000
END:DAYLIGHT
BEGIN:STANDARD
TZOFFSETFROM:+0200
TZOFFSETTO:+0100
TZNAME:CET
DTSTART:20261025T010000
END:STANDARD
END:VTIMEZONE
BEGIN:VEVENT
DTSTART;TZID=Europe/Madrid:20250325T110000
DTEND;TZID=Europe/Madrid:20250325T130000
DTSTAMP:20260419T212721
CREATED:20250305T132836Z
LAST-MODIFIED:20250305T132836Z
UID:20017-1742900400-1742907600@acelerapymecoiiaocsevilla.com
SUMMARY:Jornada: Redes Sociales y Venta Online - Estrategias para tu negocio en Bollullos
DESCRIPTION:Inscribirse aquí\nEn un mundo cada vez más digitalizado\, la presencia en redes sociales y el comercio online se han convertido en pilares fundamentales para el crecimiento de cualquier negocio. Conscientes de esta realidad\, te invitamos a participar en la jornada «Redes Sociales y Venta Online: Estrategias para tu negocio»\, un evento formativo diseñado para empresarios\, autónomos y emprendedores que buscan mejorar su estrategia digital y optimizar sus ventas en línea. \n📅 Fecha: Martes 25 de marzo🕚 Hora: 11:00 h📍 Lugar: Biblioteca P. Municipal Cosmos\, Bollullos de la Mitación (Sevilla)💻 Modalidad: Mixta (presencial y online)🎙 Ponentes: Laura Guerrero y Rosa Belloso \nEn esta jornada\, especialistas en marketing digital compartirán herramientas y estrategias clave para impulsar la presencia de tu negocio en redes sociales y mejorar el rendimiento de tus ventas en línea. Aprenderás a crear contenido atractivo\, diseñar campañas efectivas y aprovechar las plataformas digitales para conectar con tu audiencia y aumentar conversiones. \n¿Qué aprenderás en esta jornada?\n✅ Importancia de las redes sociales en la venta online: Descubre cómo elegir las plataformas adecuadas para tu negocio y cómo utilizarlas para atraer clientes.✅ Estrategias de contenido: Aprende a crear publicaciones impactantes que generen interacción y fidelicen a tu audiencia.✅ Publicidad digital: Conoce las claves para lanzar campañas de pago en redes sociales y obtener mejores resultados con una inversión eficiente.✅ Técnicas de venta online: Desde la atención al cliente hasta el cierre de ventas\, optimiza cada paso del proceso para maximizar tus ingresos.✅ Herramientas digitales: Explora plataformas y recursos que facilitan la gestión de redes y la automatización de estrategias de marketing. \nSi tienes un negocio y quieres llevarlo al siguiente nivel en el mundo digital\, esta jornada es para ti. No pierdas la oportunidad de aprender de expertas en el sector y descubrir cómo mejorar tu estrategia en redes sociales y potenciar tus ventas online. \nInscríbete ahora y asegura tu plaza. ¡Te esperamos! \nLas oficinas Acelera Pyme puestas en marcha en toda España por Red.es\, entidad pública adscrita al Ministerio para la Transformación Digital y de la Función Pública a través de la Secretaria del Estado de Digitalización e Inteligencia Artificial\, cuentan en su segunda convocatoria 2022 con un importe de ayuda concedida de 11.830.851\,68€ siendo el importe de la ayuda máxima el 80% del presupuesto subvencionable . El beneficiario cofinanciará el porcentaje restante. Las actuaciones están financiadas con cargo al Programa Operativo de Crecimiento Inteligente\, Fondos Europeos de Desarrollo Regional (FEDER) del periodo de programación 2021-2027. \nY si tienes dudas o necesitas más información puedes ponerte en contacto con cualquiera de nuestras técnicas:\n\n\n\n\n\n\n\n\ncadizacelerapyme@coiiaoc.com \nsevilla1acelerapyme@coiiaoc.com (Setefilla) \nsevilla2acelerapyme@coiiaoc.com (Matilde)
URL:https://acelerapymecoiiaocsevilla.com/eventos/jornada-redes-sociales-y-venta-online-estrategias-para-tu-negocio-en-bollullos/
LOCATION:Biblioteca Publica Municipal Cosmos\, Bollullos de la Mitación\, Sevilla\, España
END:VEVENT
END:VCALENDAR