BEGIN:VCALENDAR
VERSION:2.0
PRODID:-//Acelera Pymes COIIAOC Cádiz - ECPv6.15.15//NONSGML v1.0//EN
CALSCALE:GREGORIAN
METHOD:PUBLISH
X-WR-CALNAME:Acelera Pymes COIIAOC Cádiz
X-ORIGINAL-URL:https://acelerapymecoiiaocsevilla.com
X-WR-CALDESC:Eventos para Acelera Pymes COIIAOC Cádiz
REFRESH-INTERVAL;VALUE=DURATION:PT1H
X-Robots-Tag:noindex
X-PUBLISHED-TTL:PT1H
BEGIN:VTIMEZONE
TZID:Europe/Madrid
BEGIN:DAYLIGHT
TZOFFSETFROM:+0100
TZOFFSETTO:+0200
TZNAME:CEST
DTSTART:20240331T010000
END:DAYLIGHT
BEGIN:STANDARD
TZOFFSETFROM:+0200
TZOFFSETTO:+0100
TZNAME:CET
DTSTART:20241027T010000
END:STANDARD
BEGIN:DAYLIGHT
TZOFFSETFROM:+0100
TZOFFSETTO:+0200
TZNAME:CEST
DTSTART:20250330T010000
END:DAYLIGHT
BEGIN:STANDARD
TZOFFSETFROM:+0200
TZOFFSETTO:+0100
TZNAME:CET
DTSTART:20251026T010000
END:STANDARD
BEGIN:DAYLIGHT
TZOFFSETFROM:+0100
TZOFFSETTO:+0200
TZNAME:CEST
DTSTART:20260329T010000
END:DAYLIGHT
BEGIN:STANDARD
TZOFFSETFROM:+0200
TZOFFSETTO:+0100
TZNAME:CET
DTSTART:20261025T010000
END:STANDARD
END:VTIMEZONE
BEGIN:VEVENT
DTSTART;TZID=Europe/Madrid:20250327T090000
DTEND;TZID=Europe/Madrid:20250327T110000
DTSTAMP:20260419T195912
CREATED:20250307T103708Z
LAST-MODIFIED:20250307T103708Z
UID:20029-1743066000-1743073200@acelerapymecoiiaocsevilla.com
SUMMARY:Canva y CapCut como herramientas clave
DESCRIPTION:Inscribirse aquí\n\n\nPotencia tu negocio con las mejores herramientas digitales\nEn un mundo donde la imagen y el contenido audiovisual marcan la diferencia\, aprender a utilizar herramientas como Canva y CapCut es esencial para cualquier emprendedor\, autónomo o pyme que quiera destacar en el entorno digital. \nPor eso\, desde Acelera Pyme Coiiaoc\, en colaboración con el CADE de Valverde del Camino\, te invitamos a nuestra próxima jornada “Canva y CapCut: como herramientas clave”. Un evento diseñado para que aprendas a crear contenido visual atractivo y profesional sin necesidad de conocimientos previos en diseño o edición. \nFecha y hora: Jueves\, 27 de marzo – 9:00hUbicación: CADE de Valverde\, Polígono Industrial y Tecnológico\, nave E06Modalidad: Presencial y onlinePonente: Lucía Parejo\, experta en digitalización y herramientas empresariales \n¿Qué aprenderás en esta jornada?\n\nIntroducción a Canva y CapCut: Descubre las funciones esenciales de estas herramientas y cómo pueden ayudarte en tu negocio.\nCreación de contenido visual: Aprende a diseñar gráficos\, publicaciones y presentaciones impactantes con Canva.\nEdición de video con CapCut: Domina la edición rápida y efectiva para redes sociales y campañas digitales.\nEstrategias de branding y comunicación visual: Usa estas herramientas para potenciar la identidad de tu marca.\n\nNo te pierdas esta oportunidad de mejorar tu presencia digital y aprender técnicas prácticas para hacer crecer tu negocio. \nLas oficinas Acelera Pyme puestas en marcha en toda España por Red.es\, entidad pública adscrita al Ministerio para la Transformación Digital y de la Función Pública a través de la Secretaria del Estado de Digitalización e Inteligencia Artificial\, cuentan en su segunda convocatoria 2022 con un importe de ayuda concedida de 11.830.851\,68€ siendo el importe de la ayuda máxima el 80% del presupuesto subvencionable . El beneficiario cofinanciará el porcentaje restante. Las actuaciones están financiadas con cargo al Programa Operativo de Crecimiento Inteligente\, Fondos Europeos de Desarrollo Regional (FEDER) del periodo de programación 2021-2027. \nY si tienes dudas o necesitas más información puedes ponerte en contacto con cualquiera de nuestras técnicas:\n\n\n\n\n\n\n\n\ncadizacelerapyme@coiiaoc.com \nsevilla1acelerapyme@coiiaoc.com (Setefilla) \nsevilla2acelerapyme@coiiaoc.com (Matilde)
URL:https://acelerapymecoiiaocsevilla.com/eventos/canva-y-capcut-como-herramientas-clave-2/
LOCATION:cade valverde del camino\, Polígono industrial y tecnológico\, Valverde del Camino\, Huelva\, España
END:VEVENT
END:VCALENDAR