BEGIN:VCALENDAR
VERSION:2.0
PRODID:-//Acelera Pymes COIIAOC Cádiz - ECPv6.15.15//NONSGML v1.0//EN
CALSCALE:GREGORIAN
METHOD:PUBLISH
X-WR-CALNAME:Acelera Pymes COIIAOC Cádiz
X-ORIGINAL-URL:https://acelerapymecoiiaocsevilla.com
X-WR-CALDESC:Eventos para Acelera Pymes COIIAOC Cádiz
REFRESH-INTERVAL;VALUE=DURATION:PT1H
X-Robots-Tag:noindex
X-PUBLISHED-TTL:PT1H
BEGIN:VTIMEZONE
TZID:Europe/Madrid
BEGIN:DAYLIGHT
TZOFFSETFROM:+0100
TZOFFSETTO:+0200
TZNAME:CEST
DTSTART:20240331T010000
END:DAYLIGHT
BEGIN:STANDARD
TZOFFSETFROM:+0200
TZOFFSETTO:+0100
TZNAME:CET
DTSTART:20241027T010000
END:STANDARD
BEGIN:DAYLIGHT
TZOFFSETFROM:+0100
TZOFFSETTO:+0200
TZNAME:CEST
DTSTART:20250330T010000
END:DAYLIGHT
BEGIN:STANDARD
TZOFFSETFROM:+0200
TZOFFSETTO:+0100
TZNAME:CET
DTSTART:20251026T010000
END:STANDARD
BEGIN:DAYLIGHT
TZOFFSETFROM:+0100
TZOFFSETTO:+0200
TZNAME:CEST
DTSTART:20260329T010000
END:DAYLIGHT
BEGIN:STANDARD
TZOFFSETFROM:+0200
TZOFFSETTO:+0100
TZNAME:CET
DTSTART:20261025T010000
END:STANDARD
END:VTIMEZONE
BEGIN:VEVENT
DTSTART;TZID=Europe/Madrid:20250423T120000
DTEND;TZID=Europe/Madrid:20250423T140000
DTSTAMP:20260419T183030
CREATED:20250403T043253Z
LAST-MODIFIED:20250421T094918Z
UID:20059-1745409600-1745416800@acelerapymecoiiaocsevilla.com
SUMMARY:Inteligencia artificial y marketing digital para tu empresa: estrategias de vanguardia para tu negocio
DESCRIPTION:Inscribirse aquí\n\n\n\n\nEstrategias de vanguardia para tu negocio \nEn un mundo cada vez más digitalizado\, la inteligencia artificial y el marketing digital se han convertido en herramientas esenciales para mejorar la competitividad y el crecimiento de cualquier empresa. Por ello\, desde la Oficina Acelera Pyme del Colegio Oficial de Ingenieros Industriales de Andalucía Occidental\, en colaboración con el Ayuntamiento de Aljaraque y la Junta de Andalucía\, te invitamos a participar en nuestra próxima jornada formativa: \n📅 Fecha: Miércoles 23 de abril🕛 Hora: 12:00 h📍 Lugar: Salón de Plenos del Ayuntamiento de Aljaraque – Huelva💻 Modalidad: Mixta (presencial y online)🎙 Ponentes: Laura Guerrero y Rosa Belloso \nEste evento está diseñado para ofrecerte una visión clara y práctica sobre cómo integrar la inteligencia artificial y las estrategias de marketing digital en tu negocio. A lo largo de la jornada\, expertos en digitalización te explicarán cómo aprovechar al máximo estas herramientas para mejorar la visibilidad de tu empresa\, automatizar procesos y aumentar tus oportunidades de venta. \n¿Qué aprenderás en esta jornada?\n✅ Uso de la inteligencia artificial en marketing digital: Cómo las herramientas de IA pueden ayudarte a personalizar la comunicación con tus clientes.✅ Estrategias de contenido automatizado: Aprende a crear publicaciones\, anuncios y campañas más efectivas con el uso de la IA.✅ Optimización de procesos de ventas y atención al cliente: Descubre cómo la automatización puede mejorar la experiencia de usuario y aumentar la fidelización.✅ Tendencias digitales para negocios: Conoce las estrategias más innovadoras para destacar en el mercado online. \nSi eres emprendedor\, autónomo o formas parte de una pyme y quieres estar al día con las últimas tendencias digitales\, no puedes perderte esta jornada. \n📢 ¡Inscríbete ahora y prepárate para llevar tu negocio al siguiente nivel! \n\n\n\n\n\n\nLas oficinas Acelera Pyme puestas en marcha en toda España por Red.es\, entidad pública adscrita al Ministerio para la Transformación Digital y de la Función Pública a través de la Secretaria del Estado de Digitalización e Inteligencia Artificial\, cuentan en su segunda convocatoria 2022 con un importe de ayuda concedida de 11.830.851\,68€ siendo el importe de la ayuda máxima el 80% del presupuesto subvencionable . El beneficiario cofinanciará el porcentaje restante. Las actuaciones están financiadas con cargo al Programa Operativo de Crecimiento Inteligente\, Fondos Europeos de Desarrollo Regional (FEDER) del periodo de programación 2021-2027. \nY si tienes dudas o necesitas más información puedes ponerte en contacto con cualquiera de nuestras técnicas:\n\n\n\n\n\n\n\n\ncadizacelerapyme@coiiaoc.com \nsevilla1acelerapyme@coiiaoc.com (Setefilla) \nsevilla2acelerapyme@coiiaoc.com (Matilde)
URL:https://acelerapymecoiiaocsevilla.com/eventos/inteligencia-artificial-y-marketing-digital-para-tu-empresa-estrategias-de-vanguardia-para-tu-negocio/
LOCATION:Sevilla
END:VEVENT
END:VCALENDAR