BEGIN:VCALENDAR
VERSION:2.0
PRODID:-//Acelera Pymes COIIAOC Cádiz - ECPv6.15.15//NONSGML v1.0//EN
CALSCALE:GREGORIAN
METHOD:PUBLISH
X-WR-CALNAME:Acelera Pymes COIIAOC Cádiz
X-ORIGINAL-URL:https://acelerapymecoiiaocsevilla.com
X-WR-CALDESC:Eventos para Acelera Pymes COIIAOC Cádiz
REFRESH-INTERVAL;VALUE=DURATION:PT1H
X-Robots-Tag:noindex
X-PUBLISHED-TTL:PT1H
BEGIN:VTIMEZONE
TZID:Europe/Madrid
BEGIN:DAYLIGHT
TZOFFSETFROM:+0100
TZOFFSETTO:+0200
TZNAME:CEST
DTSTART:20220327T010000
END:DAYLIGHT
BEGIN:STANDARD
TZOFFSETFROM:+0200
TZOFFSETTO:+0100
TZNAME:CET
DTSTART:20221030T010000
END:STANDARD
BEGIN:DAYLIGHT
TZOFFSETFROM:+0100
TZOFFSETTO:+0200
TZNAME:CEST
DTSTART:20230326T010000
END:DAYLIGHT
BEGIN:STANDARD
TZOFFSETFROM:+0200
TZOFFSETTO:+0100
TZNAME:CET
DTSTART:20231029T010000
END:STANDARD
BEGIN:DAYLIGHT
TZOFFSETFROM:+0100
TZOFFSETTO:+0200
TZNAME:CEST
DTSTART:20240331T010000
END:DAYLIGHT
BEGIN:STANDARD
TZOFFSETFROM:+0200
TZOFFSETTO:+0100
TZNAME:CET
DTSTART:20241027T010000
END:STANDARD
END:VTIMEZONE
BEGIN:VEVENT
DTSTART;TZID=Europe/Madrid:20231026T133000
DTEND;TZID=Europe/Madrid:20231026T133000
DTSTAMP:20260419T201646
CREATED:20231020T110708Z
LAST-MODIFIED:20240227T095821Z
UID:18796-1698327000-1698327000@acelerapymecoiiaocsevilla.com
SUMMARY:PRESENTACIÓN PROGRAMA ACELERA PYME "ACTUALIZACIÓN DIGITAL" EN MARCHENA
DESCRIPTION:Inscribirse aquí\n  \nEl próximo 26 de octubre\, en Marchena\, en el Salón de plenos en Sodemar tendrá lugar una cita empresarial que podría marcar un antes y un después en el rumbo de tu negocio. \nEl Colegio de Ingenieros de Andalucía Occidental de la mano de su gerente en Andalucía Occidental Luis Lanne-Lenne presentará ante la comunidad empresarial el programa Acelera Pyme\, una iniciativa que está causando una revolución en la forma en que las empresas se enfrentan al desafiante mundo digital. \nEste evento será más que una charla informativa ya que dará una oportunidad única para descubrir herramientas poderosas que pueden impulsar tu presencia on line y expandir tu alcance en el mercado. Así como el programa Acelera Pyme ha transformado las perspectivas de emprendedores en otras localidades\, ahora llega a Marchena con el propósito de ofrecer a las empresas locales las mismas oportunidades de crecimiento. \nEl objetivo central de esta presentación es dar a conocer todas las herramientas y recursos disponibles a través del programa Acelera Pyme para emprendedores\, pequeñas y medianas empresas\, así como autónomos de La Rinconada. En un mundo empresarial cada vez más digitalizado\, esta iniciativa proporcionará las claves necesarias para aprovechar al máximo las oportunidades en línea. \nAsegura la fecha en tu calendario: 26 de octubre a las 13:00 horas en el Salón de plenos en Sodemar\, Calle Albañiles\,7 Marchena\, Sevilla. No dejes pasar esta oportunidad de acelerar el éxito de tu negocio. ¡Te esperamos en un evento que promete abrir nuevas puertas digitales para tu empresa!
URL:https://acelerapymecoiiaocsevilla.com/eventos/presentacion-programa-acelera-pyme-actualizacion-digital-en-marchena/
LOCATION:Salón de Plenos Ayto. Marchena\, Calle Albañilería 7\, Marchena\, SEVILLA\, 41620\, España
END:VEVENT
BEGIN:VEVENT
DTSTART;TZID=Europe/Madrid:20231024T170000
DTEND;TZID=Europe/Madrid:20231024T170000
DTSTAMP:20260419T201646
CREATED:20231020T103605Z
LAST-MODIFIED:20240227T095643Z
UID:18784-1698166800-1698166800@acelerapymecoiiaocsevilla.com
SUMMARY:CANVA Y CAPCUT - HERRAMIENTAS DE IMAGEN Y VIDEOS QUE OPTIMIZAN TU MARCA
DESCRIPTION:Inscribirse aquí\nTenemos evento que estamos seguros de que impulsará la creatividad y la eficiencia de las pequeñas y medianas empresas de la región. El evento\, titulado “CANVA Y CAPCUT : Herramientas de imagen y videos que optimizan tu marca”\, contará con la participación de dos expertas en estas herramientas: Rosa Belloso y Laura Guerrero. \nLa jornada se llevará a cabo el 24 de octubre a las 17h en el Edificio Impúlsame de Mairena del Alcor\, y está diseñado para brindar a los emprendedores y propietarios de pymes las habilidades necesarias para aprovechar al máximo las herramientas populares de diseño gráfico y edición de video\, Canva y Cap Cut. \nRosa y Laura compartirán consejos y trucos para crear gráficos y diseños impresionantes de manera sencilla y efectiva. Los asistentes aprenderán a diseñar material promocional atractivo y profesional para sus negocios. Además enseñarán a los participantes cómo crear videos atractivos y cautivadores para promocionar sus productos o servicios con Cap Cut. Aprenderán a editar videos de manera eficiente y a utilizar efectos especiales para destacar en las redes sociales y otros canales de marketing. \nEl evento será una oportunidad única para aprender de expertos y conectarse con otros emprendedores locales. Además\, se proporcionará tiempo para preguntas y respuestas\, lo que permitirá a los asistentes aclarar cualquier duda o inquietud. \nLa asistencia al evento es gratuita\, pero el espacio es limitado\, por lo que se recomienda a los interesados que se registren con anticipación en en nuestra página web.  No pierdas la oportunidad de mejorar tus habilidades en diseño gráfico y edición de video. \nRecuerda: \n24 de octubre de 2023 \nA las 17:00 horas \nEn el Edificio Impúlsame de Mairena del Alcor. \n¡Te esperamos!
URL:https://acelerapymecoiiaocsevilla.com/eventos/canva-y-capcut-herramientas-de-imagen-y-videos-que-optimizan-tu-marca/
LOCATION:Edificio Impúlsame\, sala de formación\, C. los Herreros\, 33\, Mairena del Alcor\, Sevilla\, 41510\, España
END:VEVENT
BEGIN:VEVENT
DTSTART;TZID=Europe/Madrid:20231024T110000
DTEND;TZID=Europe/Madrid:20231024T110000
DTSTAMP:20260419T201646
CREATED:20231019T151122Z
LAST-MODIFIED:20240227T094745Z
UID:18768-1698145200-1698145200@acelerapymecoiiaocsevilla.com
SUMMARY:PRESENTACIÓN PROGRAMA ACELERA PYME "ACTUALIZACIÓN DIGITAL"  -  ASOCIACIÓN PARA EL DESARROLLO RURAL DE ANDALUCÍA - ARA
DESCRIPTION:Inscribirse aquí\n  \nDesde el Colegio Oficial de Ingenieros Industriales de Andalucía Occidental se va a organizar el próximo martes\, 24 de octubre\, la jornada de presentación del proyecto “Acelera Pyme: Actualización digital” a las 11:00 horas. Este evento marcará un antes y un después en el rumbo de los negocios rurales de Andalucía. \nEn colaboración con ARA\, esta jornada online está dirigida\, en un principio\, a los Grupos de Desarrollo Rural de Cádiz\, Córdoba\, Huelva y Sevilla puesto que estas cuatro provincias son las que forman parte del ámbito de actuación del Colegio Occidental de Andalucía. También está abierto a empresarios\, emprendedores y autónomos de los territorios rurales de estas cuatro provincias.\n\n\nLa presentación del proyecto correrá a cargo del gerente del Colegio de Ingenieros de Andalucía Occidental\, Luis Lanne-Lenne quien dará a conocer este programa concebido para la Digitalización y consiguiente Transformación de vuestra empresa y compartirá esta presentación con Ignacio Mª García Saura\, Gerente de ARA. \n\nEsta jornada programa tiene como objetivo ofrecer a las empresas rurales las herramientas necesarias para enfrentar los desafíos del mundo digital. No es solo una charla informativa\, sino una oportunidad única para descubrir herramientas poderosas que impulsarán la presencia online de los negocios rurales y expandirán su alcance en el mercado.\n\nAcelera Pyme\, que se extenderá por toda Andalucía\, ahora llega a Sevilla para brindar a las empresas locales las mismas oportunidades de crecimiento.\nAcelera Pyme es una iniciativa del Ministerio de Asuntos Económicos y Transformación Digital destinada a la transformación digital de las pymes. Proporciona metodologías innovadoras para optimizar el funcionamiento de los negocios\, especialmente a través de la incorporación de las TIC en sus procesos.\n\nAsegura la fecha en tu calendario: 24 de octubre\, a las 11:00 horas. No dejes pasar esta oportunidad de acelerar el éxito de tu negocio y abrir nuevas puertas digitales. ¡Te esperamos!\n\n 
URL:https://acelerapymecoiiaocsevilla.com/eventos/https-acelerapymecoiiaocandalucia-com-el-programa-acelera-pyme-llega-a-sevilla-para-cambiar-el-rumbo-de-tu-negocio/
LOCATION:Sede del COIIAOC\, Calle Dr. Antonio Cortés Lladó\, 6\, Sevilla\, Sevilla\, 41004\, España
END:VEVENT
BEGIN:VEVENT
DTSTART;TZID=Europe/Madrid:20231019T170000
DTEND;TZID=Europe/Madrid:20231019T170000
DTSTAMP:20260419T201646
CREATED:20240227T091057Z
LAST-MODIFIED:20240227T095334Z
UID:18741-1697734800-1697734800@acelerapymecoiiaocsevilla.com
SUMMARY:CANVA Y CAPCUT - Herramientas de imagen y videos que optimizan tu marca
DESCRIPTION:Inscribirse aquí\n  \nTenemos evento que seguramente impulsará la creatividad y la eficiencia de las pequeñas y medianas empresas de la región. El evento\, titulado “CANVA Y CAPCUT : Herramientas de imagen y videos que optimizan tu marca”\, contará con la participación de dos expertas en estas herramientas: Rosa Belloso y Laura Guerrero. \nLa jornada se llevará a cabo el 19 de octubre a las 5 de la tarde en el Edificio Impúlsame de Mairena del Alcor\, y está diseñado para brindar a los emprendedores y propietarios de pymes las habilidades necesarias para aprovechar al máximo las herramientas populares de diseño gráfico y edición de video\, Canva y Cap Cut. \nRosa y Laura compartirán consejos y trucos para crear gráficos y diseños impresionantes de manera sencilla y efectiva. Los asistentes aprenderán a diseñar material promocional atractivo y profesional para sus negocios. Además enseñarán a los participantes cómo crear videos atractivos y cautivadores para promocionar sus productos o servicios con Cap Cut. Aprenderán a editar videos de manera eficiente y a utilizar efectos especiales para destacar en las redes sociales y otros canales de marketing. \nEl evento será una oportunidad única para aprender de expertos y conectarse con otros emprendedores locales. Además\, se proporcionará tiempo para preguntas y respuestas\, lo que permitirá a los asistentes aclarar cualquier duda o inquietud. \nLa asistencia al evento es gratuita\, pero el espacio es limitado\, por lo que se recomienda a los interesados que se registren con anticipación en en nuestra página web.  No pierdas la oportunidad de mejorar tus habilidades en diseño gráfico y edición de video. \nRecuerda: \n19 de octubre de 2023 \nA las 17:00 horas \nEn el Edificio Impúlsame de Mairena del Alcor. \n¡Te esperamos!
URL:https://acelerapymecoiiaocsevilla.com/eventos/canva-y-capcut-herramientas-de-imagen-y-videos-que-optimizan-tu-marca-4/
LOCATION:Edificio Impúlsame\, sala de formación\, C. los Herreros\, 33\, Mairena del Alcor\, Sevilla\, 41510\, España
END:VEVENT
BEGIN:VEVENT
DTSTART;TZID=Europe/Madrid:20231011T103000
DTEND;TZID=Europe/Madrid:20231011T103000
DTSTAMP:20260419T201646
CREATED:20231003T110046Z
LAST-MODIFIED:20240227T095201Z
UID:18709-1697020200-1697020200@acelerapymecoiiaocsevilla.com
SUMMARY:CANVA Y CAPCUT HERRAMIENTAS DE DISEÑO Y VIDEO DIGITALES PARA EMPRESAS CON TIEMPO LIMITADO
DESCRIPTION:Inscribirse aquí\n  \nSi te encuentras en una carrera contrarreloj para mejorar la imagen de tu empresa y crear contenido visual llamativo\, ¡no te puedes perder el evento que tenemos preparado dirigido a autónomos\, pymes y empresarios! \nEl evento se llevará a cabo el miércoles 11 de octubre a las 10:30 de la mañana en la Casa de la Juventud de Barbate. Laura Gutiérrez\, será la encargada de dar todas las claves de estas dos herramientas tan idóneas para llevar al máximo nivel tus redes sociales: Canva y CAP CUT. Laura es experta en redes sociales y marketing y ayudará a todos los asistentes con sus dudas y sus problemas. \n¿Qué es Canva y Cup cut?\nCanva es una plataforma de diseño gráfico en línea que te permite crear gráficos impresionantes\, publicaciones en redes sociales\, folletos y más\, incluso si no eres un diseñador gráfico profesional. Laura te mostrará cómo sacar el máximo provecho de esta herramienta versátil y fácil de usar.\nAdemás en un mundo donde el contenido de video es fundamental\, CAP CUT te facilitará la edición de video. Laura te enseñará los trucos y consejos para crear videos impactantes para tu negocio\, todo en un tiempo limitado.\nEste evento es una oportunidad única para adquirir habilidades prácticas y valiosas que mejorarán la presencia en línea de tu negocio. No importa si eres nuevo en el mundo del diseño gráfico y la edición de video\, Laura te guiará paso a paso. \nLas plazas son limitadas\, así que asegúrate de reservar la tuya cuanto antes. ¡No pierdas la oportunidad de aprender de una experta y llevar tus habilidades de diseño y video al siguiente nivel! \nAcelera Pyme Coiiaoc te invita a unirte a nosotros en este emocionante evento en Barbate. ¡Esperamos verte allí y ayudarte a impulsar tu negocio con Canva y CAP CUT!
URL:https://acelerapymecoiiaocsevilla.com/eventos/canva-y-capcut-herramientas-de-diseno-y-video-digitales-para-empresas-con-tiempo-limitado/
LOCATION:Casa de la juventud de Barbate\, Avenida del Mar N.º 58 esquina calle Doctor Patricio Castro\, BARBATE\, Cádiz\, 11160\, España
END:VEVENT
BEGIN:VEVENT
DTSTART;TZID=Europe/Madrid:20231005T100000
DTEND;TZID=Europe/Madrid:20231005T100000
DTSTAMP:20260419T201646
CREATED:20230928T092747Z
LAST-MODIFIED:20240227T085927Z
UID:18692-1696500000-1696500000@acelerapymecoiiaocsevilla.com
SUMMARY:IMPULSA TU MARCA. WHATSAPP BUSINESS Y RRSS\, ESTRATEGIAS DE VANGUARDIA PARA TU EMPRESA.
DESCRIPTION:  \nInscribirse aquí\n  \n¡Atención a todos los dueños de negocios\, emprendedores y autónomos de Mairena del Alcor y alrededores! Si quieres llevar tu empresa al siguiente nivel en la era digital\, no puedes perderte el evento gratuito que Acelera Pyme Coiiaoc ha preparado especialmente para ti. \nEl título\, “Whatsapp Business y RRSS: Trucos para impulsar tu empresa”\, ya dice mucho\, ¿verdad? ¡Pero eso no es todo! Nuestras ponentes\, Susana Macías y Laura Guerrero\, vienen para desvelar todos esos secretos que harán que tu negocio se destaque en WhatsApp y en las redes sociales. \n¿Qué te espera en este evento? \n\nDomina Whatsapp Business: Susana y Laura\, expertas en la materia\, te mostrarán cómo sacarle el máximo partido a Whatsapp Business. Aprenderás a comunicarte de manera más efectiva con tus clientes\, atraer nuevos y mantener felices a los que ya tienes.\nRevoluciona tus Redes Sociales: Laura y Susana te llevará por un recorrido emocionante por el universo de las redes sociales. Desde la creación de contenido hasta la optimización de anuncios\, te darán las claves para brillar en plataformas como Facebook\, Instagram y Twitter.\n\nLa cita en el Edificio Impúlsame en su Sala de Formación\, Mairena del Alcor\, el próximo jueves 5 de octubre a las 10:00. ¡La entrada es gratuita\, pero las ideas y estrategias que obtendrás valen su peso en oro! \nSabemos que la competencia en el mundo empresarial es feroz\, pero con estos consejos en tu arsenal\, estarás un paso por delante. Marca esta fecha en tu calendario y prepárate para impulsar tu negocio hacia el éxito digital. \nAcelera Pyme Coiiaoc está comprometida en ayudar a las pequeñas empresas a triunfar en el mundo digital. Sigue nuestras redes sociales y visita nuestro sitio web para más detalles sobre el evento y futuras iniciativas. \n¡No dejes que tu negocio se quede atrás en la revolución digital! Te esperamos en “Whatsapp Business y RRSS: Trucos para impulsar tu empresa”. ¡No faltes!
URL:https://acelerapymecoiiaocsevilla.com/eventos/impulsa-tu-marca-whatsapp-business-y-rrss-estrategias-de-vanguardia-para-tu-empresa/
LOCATION:Edificio Impúlsame\, sala de formación\, C. los Herreros\, 33\, Mairena del Alcor\, Sevilla\, 41510\, España
ORGANIZER;CN="Colegio Ingenieros Industriales de Andaluc%C3%ADa Oriental":MAILTO:coiima@coiiaor.es
END:VEVENT
BEGIN:VEVENT
DTSTART;VALUE=DATE:20230928
DTEND;VALUE=DATE:20230929
DTSTAMP:20260419T201646
CREATED:20230920T081756Z
LAST-MODIFIED:20230920T154845Z
UID:18651-1695859200-1695945599@acelerapymecoiiaocsevilla.com
SUMMARY:PRESENTACIÓN: PROGRAMA ACELERA PYME “ACTUALIZACIÓN DIGITAL” LA RINCONADA
DESCRIPTION:Inscribirse aquí\n  \nEl próximo 28 de septiembre a las 9:00 horas\, en La Rinconada\, en el Centro Rinconada Impulsa se convertirá en el epicentro de una cita empresarial que podría marcar un antes y un después en el rumbo de tu negocio. \nEl Colegio de Ingenieros de Andalucía Occidental presentará ante la comunidad empresarial el programa Acelera Pyme\, una iniciativa que está causando una revolución en la forma en que las empresas se enfrentan al desafiante mundo digital. La presentación estará a cargo de Luis Lanne-Lenne\, el gerente del Colegio de Ingenieros de Andalucía Occidental. \nEste evento no se limitará a ser una charla informativa\, sino que promete ser una oportunidad única para descubrir herramientas poderosas que pueden impulsar tu presencia on line y expandir tu alcance en el mercado. Así como el programa Acelera Pyme ha transformado las perspectivas de emprendedores en otras localidades\, ahora llega a La Rinconada con el propósito de ofrecer a las empresas locales las mismas oportunidades de crecimiento. \nEl objetivo central de esta presentación es dar a conocer todas las herramientas y recursos disponibles a través del programa Acelera Pyme para emprendedores\, pequeñas y medianas empresas\, así como autónomos de La Rinconada. En un mundo empresarial cada vez más digitalizado\, esta iniciativa proporcionará las claves necesarias para aprovechar al máximo las oportunidades en línea. \nAsegura la fecha en tu calendario: 28 de septiembre a las 9:00 horas en el Centro Rinconada Impulsa\, San José de La Rinconada. No dejes pasar esta oportunidad de acelerar el éxito de tu negocio. ¡Te esperamos en un evento que promete abrir nuevas puertas digitales para tu empresa!
URL:https://acelerapymecoiiaocsevilla.com/eventos/presentacion-programa-acelera-pyme-la-rinconada/
LOCATION:Centro Rinconada Impulsa\, Avda. Vereda de Chapatales\, nº 4\, San José de la Rinconada - LA RINCONADA\, SEVILLA\, 41300\, España
END:VEVENT
BEGIN:VEVENT
DTSTART;TZID=Europe/Madrid:20230921T123000
DTEND;TZID=Europe/Madrid:20230921T123000
DTSTAMP:20260419T201646
CREATED:20230912T101301Z
LAST-MODIFIED:20230920T154819Z
UID:18623-1695299400-1695299400@acelerapymecoiiaocsevilla.com
SUMMARY:PRESENTACIÓN: PROGRAMA ACELERA PYME “ACTUALIZACIÓN DIGITAL” EN MAIRENA DEL ALCOR
DESCRIPTION:Inscribirse aquí\nEl próximo 21 de septiembre a las 12:30 horas en Mairena del Alcor\, tienes una cita que puede cambiar la trayectoria de tu negocio. El edificio Impúlsame\, en su sala de formación\, será el epicentro de una jornada que promete impulsar el crecimiento de las empresas locales. \nEl Colegio de Ingenieros de Andalucía Occidental presentará el programa Acelera Pyme\, una iniciativa que está revolucionando la forma en que las empresas se enfrentan al mundo digital. La presentación será llevada a cabo por: Luis Lanne-Lenne\, el gerente del Colegio de Ingenieros de Andalucía Occidental\, y el alcalde de Mairena del Alcor\, Juan Manuel López Dominguez. \nEste evento no es solo una charla informativa; es una oportunidad para descubrir herramientas poderosas destinadas a impulsar su presencia en línea y expandir su alcance. Así como el programa Acelera Pyme ha transformado las perspectivas de los emprendedores en otras localidades\, ahora llega a Mairena del Alcor para ofrecer las mismas oportunidades de crecimiento. \nEl objetivo central de esta presentación es dar a conocer todas las herramientas y recursos disponibles a través del programa Acelera Pyme para emprendedores\, pymes y autónomos de Mairena del Alcor. La digitalización es clave en el mundo empresarial actual\, y esta iniciativa proporcionará las claves para aprovechar al máximo las oportunidades on line. \nAsí que\, marca la fecha en el calendario: 21 de septiembre a las 12:30 horas en el edificio Impúlsame\, sala de formación de Mairena del Alcor. No te pierdas la oportunidad de acelerar tu éxito empresarial. ¡Te esperamos para un evento que promete abrir nuevas puertas digitales para tu negocio! \n 
URL:https://acelerapymecoiiaocsevilla.com/eventos/presentacion-programa-acelera-pyme-actualizacion-digital-en-mairena-del-alcor/
LOCATION:Edificio Impúlsame\, sala de formación\, C. los Herreros\, 33\, Mairena del Alcor\, Sevilla\, 41510\, España
END:VEVENT
BEGIN:VEVENT
DTSTART;TZID=Europe/Madrid:20230824T100000
DTEND;TZID=Europe/Madrid:20230824T100000
DTSTAMP:20260419T201646
CREATED:20230811T080738Z
LAST-MODIFIED:20230811T093000Z
UID:18557-1692871200-1692871200@acelerapymecoiiaocsevilla.com
SUMMARY:PREPARATE PARA LA VUELTA A LA RUTINA:  TIPS DE MARKETING PARA DIGITALIZAR TU  NEGOCIO Y NETWORKING
DESCRIPTION:Inscribirse aquí\nSi estás de vacaciones y tu cabeza no para de pensar en darle un giro a tu negocio cuando vuelvas ¡El evento que te tenemos preparado está hecho para ti! ¡Apunta! \nEl próximo día 24 de agosto en Sotogrande\, tienes una cita con María García\, emprendedora y experta en Marketing y redes sociales. En su ponencia\, llamada “Prepárate para la vuelta a la rutina: Tips para digitalizar tu negocio y networking” María dará algunas ideas de cómo mejorar las redes sociales de tu empresa para que sean atractivas y respondan las necesidades de tu cliente potencial. Además\, expondrá algunos ejemplos de campañas publicitarias que suelen ser llevadas a cabo en esta nueva temporada de vuelta a la rutina y hablará de las tendencias que funcionan actualmente en el mundo digital y que funcionarán en tu negocio si las aplicas desde ya. \nDespués de la ponencia tendremos un tiempo para hacer networking y que así puedas conocer a empresarios y autónomos\, hacer sinergias y pasar un buen rato entre compañeros. \n¡No te lo puedes perder si quieres cambiar la digitalización de tu empresa! \nRecuerda: \nDía 24 de agosto \n10:00 de la mañana \nEn Sotogrande en Fresco Marina (salón de eventos) Rivera del Marlín\, 20. Puerto de Sotogrande. \n¡Te esperamos!
URL:https://acelerapymecoiiaocsevilla.com/eventos/preparate-para-la-vuelta-a-la-rutina-tips-de-marketing-para-digitalizar-tu-negocio-y-networking/
LOCATION:Fresco Marina  (Salón de eventos)\, Rivera del Marlín\, 20\, Puerto de Sotogrande (San Roque)\, Cádiz\, 11310\, España
END:VEVENT
BEGIN:VEVENT
DTSTART;TZID=Europe/Madrid:20230706T190000
DTEND;TZID=Europe/Madrid:20230706T190000
DTSTAMP:20260419T201646
CREATED:20230705T123304Z
LAST-MODIFIED:20230706T085908Z
UID:18498-1688670000-1688670000@acelerapymecoiiaocsevilla.com
SUMMARY:NETWORKING EMPRESARIAL: JORNADA DE PRESENTACIÓN DEL PROGRAMA DE LA OFICINA ACELERA PYME ANDALUCÍA COIIAOC
DESCRIPTION:Inscribirse aquí\nEl próximo jueves 6 julio celebramos un encuentro empresarial en Sotogrande\, de la mano de María García\, de Comunicación Al Dente. Será un evento que congregará a numerosos empresarios de diferentes sectores\, residentes en la zona\, que tendrán la oportunidad de conocerse y hacer sinergias. \nAdemás\, tendremos ocasión de presentar la Oficina Acelera Pyme Andalucía COIIAOC\, que podrá ayudar a los empresarios no solo de Cádiz\, sino también del resto de Andalucía.
URL:https://acelerapymecoiiaocsevilla.com/eventos/jornada-de-presentacion-del-programa-de-la-oficina-acelera-pyme/
LOCATION:Salón Bahía LimónSotogrande. Bda. Pescadores\, 52 -San Roque(Cádiz)\, Salón Bahía Limón Sotogrande. Bda. Pescadores\, 52\, San Roque\, Cádiz\, España
END:VEVENT
END:VCALENDAR