BEGIN:VCALENDAR
VERSION:2.0
PRODID:-//Acelera Pymes COIIAOC Cádiz - ECPv6.15.15//NONSGML v1.0//EN
CALSCALE:GREGORIAN
METHOD:PUBLISH
X-ORIGINAL-URL:https://acelerapymecoiiaocsevilla.com
X-WR-CALDESC:Eventos para Acelera Pymes COIIAOC Cádiz
REFRESH-INTERVAL;VALUE=DURATION:PT1H
X-Robots-Tag:noindex
X-PUBLISHED-TTL:PT1H
BEGIN:VTIMEZONE
TZID:Europe/Madrid
BEGIN:DAYLIGHT
TZOFFSETFROM:+0100
TZOFFSETTO:+0200
TZNAME:CEST
DTSTART:20220327T010000
END:DAYLIGHT
BEGIN:STANDARD
TZOFFSETFROM:+0200
TZOFFSETTO:+0100
TZNAME:CET
DTSTART:20221030T010000
END:STANDARD
BEGIN:DAYLIGHT
TZOFFSETFROM:+0100
TZOFFSETTO:+0200
TZNAME:CEST
DTSTART:20230326T010000
END:DAYLIGHT
BEGIN:STANDARD
TZOFFSETFROM:+0200
TZOFFSETTO:+0100
TZNAME:CET
DTSTART:20231029T010000
END:STANDARD
BEGIN:DAYLIGHT
TZOFFSETFROM:+0100
TZOFFSETTO:+0200
TZNAME:CEST
DTSTART:20240331T010000
END:DAYLIGHT
BEGIN:STANDARD
TZOFFSETFROM:+0200
TZOFFSETTO:+0100
TZNAME:CET
DTSTART:20241027T010000
END:STANDARD
END:VTIMEZONE
BEGIN:VEVENT
DTSTART;TZID=Europe/Madrid:20230706T190000
DTEND;TZID=Europe/Madrid:20230706T190000
DTSTAMP:20260421T045107
CREATED:20230705T123304Z
LAST-MODIFIED:20230706T085908Z
UID:18498-1688670000-1688670000@acelerapymecoiiaocsevilla.com
SUMMARY:NETWORKING EMPRESARIAL: JORNADA DE PRESENTACIÓN DEL PROGRAMA DE LA OFICINA ACELERA PYME ANDALUCÍA COIIAOC
DESCRIPTION:Inscribirse aquí\nEl próximo jueves 6 julio celebramos un encuentro empresarial en Sotogrande\, de la mano de María García\, de Comunicación Al Dente. Será un evento que congregará a numerosos empresarios de diferentes sectores\, residentes en la zona\, que tendrán la oportunidad de conocerse y hacer sinergias. \nAdemás\, tendremos ocasión de presentar la Oficina Acelera Pyme Andalucía COIIAOC\, que podrá ayudar a los empresarios no solo de Cádiz\, sino también del resto de Andalucía.
URL:https://acelerapymecoiiaocsevilla.com/eventos/jornada-de-presentacion-del-programa-de-la-oficina-acelera-pyme/
LOCATION:Salón Bahía LimónSotogrande. Bda. Pescadores\, 52 -San Roque(Cádiz)\, Salón Bahía Limón Sotogrande. Bda. Pescadores\, 52\, San Roque\, Cádiz\, España
END:VEVENT
END:VCALENDAR