BEGIN:VCALENDAR
VERSION:2.0
PRODID:-//Acelera Pymes COIIAOC Cádiz - ECPv6.15.15//NONSGML v1.0//EN
CALSCALE:GREGORIAN
METHOD:PUBLISH
X-ORIGINAL-URL:https://acelerapymecoiiaocsevilla.com
X-WR-CALDESC:Eventos para Acelera Pymes COIIAOC Cádiz
REFRESH-INTERVAL;VALUE=DURATION:PT1H
X-Robots-Tag:noindex
X-PUBLISHED-TTL:PT1H
BEGIN:VTIMEZONE
TZID:Europe/Madrid
BEGIN:DAYLIGHT
TZOFFSETFROM:+0100
TZOFFSETTO:+0200
TZNAME:CEST
DTSTART:20220327T010000
END:DAYLIGHT
BEGIN:STANDARD
TZOFFSETFROM:+0200
TZOFFSETTO:+0100
TZNAME:CET
DTSTART:20221030T010000
END:STANDARD
BEGIN:DAYLIGHT
TZOFFSETFROM:+0100
TZOFFSETTO:+0200
TZNAME:CEST
DTSTART:20230326T010000
END:DAYLIGHT
BEGIN:STANDARD
TZOFFSETFROM:+0200
TZOFFSETTO:+0100
TZNAME:CET
DTSTART:20231029T010000
END:STANDARD
BEGIN:DAYLIGHT
TZOFFSETFROM:+0100
TZOFFSETTO:+0200
TZNAME:CEST
DTSTART:20240331T010000
END:DAYLIGHT
BEGIN:STANDARD
TZOFFSETFROM:+0200
TZOFFSETTO:+0100
TZNAME:CET
DTSTART:20241027T010000
END:STANDARD
END:VTIMEZONE
BEGIN:VEVENT
DTSTART;TZID=Europe/Madrid:20231213T123000
DTEND;TZID=Europe/Madrid:20231213T143000
DTSTAMP:20260420T194558
CREATED:20231205T112355Z
LAST-MODIFIED:20231205T112355Z
UID:19013-1702470600-1702477800@acelerapymecoiiaocsevilla.com
SUMMARY:"ELEVA TU NEGOCIO EN LA ERA DIGITAL: ESTRATEGIAS INNOVADORAS DE POSICIONAMIENTO EN LINKEDIN"
DESCRIPTION:Inscribirse aquí\nAcelera Pyme Coiiaoc se complace en presentar nuestro próximo evento dirigido a autónomos\, empresarios y pymes\, “Descubre el mundo del marketplace: Domina el arte de vender en Amazon”\, que se llevará a cabo el miércoles 13 de diciembre a las 17:00 horas en la sala de Formación del Edificio Impúlsame de Mairena del Alcor. \n¡Te presentamos nuestro próximo evento!  «Eleva tu negocio en la Era Digital: Estrategias innovadoras de posicionamiento en LinkedIn». El evento tendrá lugar el próximo miércoles 13 de diciembre en la Sala de reuniones del Círculo Empresarial de Networking (CEN) Avda. de la Innovación\, 2\, edificio CITEA. Jerez de la Frontera. \nLa jornada estará a cargo de Eduardo Marín: Ejecutivo\, asesor y consultor\, y formador de empresas\, y en colaboración con el Círculo Empresarial de Networking. Este evento es una oportunidad única para aprender estrategias innovadoras que te ayudarán a destacar y prosperar en la plataforma de negocios más grande del mundo: LinkedIn. \n¿Qué puedes esperar? \n\nConsejos prácticos de Eduardo Marín\, un experto en el campo.\nEstrategias de posicionamiento efectivas para destacar entre la multitud.\nSesión práctica para aplicar instantáneamente los conocimientos adquiridos.\n\n¿Qué necesitas traer? Se recomienda asistir con tu ordenador portátil o dispositivo\, ya que la sesión será práctica\, permitiéndote aplicar de inmediato las estrategias aprendidas en tu perfil de LinkedIn. \nDespués de la jornada habrá un espacio donde se dará oportunidad al networking para poder así establecer conexiones con otros empresarios y compartir ideas y sinergias. El aforo es limitado\, por eso lo mejor es que te asegures la plaza ¡Regístrate aquí! \nNo te pierdas esta oportunidad de mejorar tu presencia digital y llevar tu negocio al siguiente nivel. ¡Regístrate ahora y únete a nosotros en Jerez de la Frontera para una tarde de aprendizaje y networking!
URL:https://acelerapymecoiiaocsevilla.com/eventos/eleva-tu-negocio-en-la-era-digital-estrategias-innovadoras-de-posicionamiento-en-linkedin/
LOCATION:CEN\, Sala de reuniones del Círculo Empresarial de Networking (CEN) Avda. de la Innovación\, 2\, edificio CITEA.\, Jerez de la Frontera\, Cádiz\, España
END:VEVENT
BEGIN:VEVENT
DTSTART;TZID=Europe/Madrid:20231213T170000
DTEND;TZID=Europe/Madrid:20231213T170000
DTSTAMP:20260420T194558
CREATED:20231205T092907Z
LAST-MODIFIED:20240226T165325Z
UID:19006-1702486800-1702486800@acelerapymecoiiaocsevilla.com
SUMMARY:DESCUBRE EL MUNDO DEL MARKETPLACE: Domina el Arte de Vender en Amazon
DESCRIPTION:Inscribirse aquí\nAcelera Pyme Coiiaoc se complace en presentar nuestro próximo evento dirigido a autónomos\, empresarios y pymes\, “Descubre el mundo del marketplace: Domina el arte de vender en Amazon”\, que se llevará a cabo el miércoles 13 de diciembre a las 17:00 horas en la sala de Formación del Edificio Impúlsame de Mairena del Alcor. \nEn esta jornada única\, exploraremos las increíbles oportunidades que ofrece el marketplace\, centrándonos en la plataforma líder: Amazon. Dos destacadas expertas\, Susana Macías y Laura Guerrero\, compartirán su conocimiento y sus experiencias prácticas para ayudarte a entender los entresijos de vender en este gigante del comercio electrónico. \n¿Qué te espera en este envento? \n\nIntroducción al Marketplace: Comenzaremos con una visión general del mundo del marketplace\, destacando por qué es esencial para el crecimiento empresarial en la era digital.\nEstrategias para vender en Amazon: Susana Macías y Laura Guerrero\, expertas en comercio electrónico\, te guiarán a través de estrategias efectivas para destacar en la plataforma\, desde la configuración de tu tienda hasta la gestión de productos y la optimización de listados.\nSecretos del éxito en Amazon: Además compartirán consejos prácticos para aumentar la visibilidad de tus productos\, gestionar campañas publicitarias y construir una marca sólida en Amazon.\n\nDurante el evento y al acabar el mismo tendrás la oportunidad de hacer preguntas directas a nuestras ponentes y obtener claridad sobre cualquier aspecto relacionado con el comercio en línea y Amazon para que puedas aplicarlo cuanto antes a tu negocio y empezar así a crecer y expandirte. \n¿Por qué deberías asistir? \nSi deseas aprovechar al máximo las oportunidades que ofrece el marketplace y llevar tu negocio a nuevos horizontes\, este evento es para ti. Aprenderás estrategias probadas\, obtendrás información valiosa y conectarás con otros empresarios con ideas afines. \n¡Asegura tu lugar ahora para una tarde llena de conocimientos prácticos y oportunidades emocionantes! Mantente atento a nuestras redes sociales para más detalles y actualizaciones. Puedes inscribirte en el siguiente enlace
URL:https://acelerapymecoiiaocsevilla.com/eventos/descubre-el-mundo-del-marketplace-domina-el-arte-de-vender-en-amazon/
LOCATION:Edificio Impúlsame\, sala de formación\, C. los Herreros\, 33\, Mairena del Alcor\, Sevilla\, 41510\, España
END:VEVENT
END:VCALENDAR