BEGIN:VCALENDAR
VERSION:2.0
PRODID:-//Acelera Pymes COIIAOC Cádiz - ECPv6.15.15//NONSGML v1.0//EN
CALSCALE:GREGORIAN
METHOD:PUBLISH
X-ORIGINAL-URL:https://acelerapymecoiiaocsevilla.com
X-WR-CALDESC:Eventos para Acelera Pymes COIIAOC Cádiz
REFRESH-INTERVAL;VALUE=DURATION:PT1H
X-Robots-Tag:noindex
X-PUBLISHED-TTL:PT1H
BEGIN:VTIMEZONE
TZID:Europe/Madrid
BEGIN:DAYLIGHT
TZOFFSETFROM:+0100
TZOFFSETTO:+0200
TZNAME:CEST
DTSTART:20230326T010000
END:DAYLIGHT
BEGIN:STANDARD
TZOFFSETFROM:+0200
TZOFFSETTO:+0100
TZNAME:CET
DTSTART:20231029T010000
END:STANDARD
BEGIN:DAYLIGHT
TZOFFSETFROM:+0100
TZOFFSETTO:+0200
TZNAME:CEST
DTSTART:20240331T010000
END:DAYLIGHT
BEGIN:STANDARD
TZOFFSETFROM:+0200
TZOFFSETTO:+0100
TZNAME:CET
DTSTART:20241027T010000
END:STANDARD
BEGIN:DAYLIGHT
TZOFFSETFROM:+0100
TZOFFSETTO:+0200
TZNAME:CEST
DTSTART:20250330T010000
END:DAYLIGHT
BEGIN:STANDARD
TZOFFSETFROM:+0200
TZOFFSETTO:+0100
TZNAME:CET
DTSTART:20251026T010000
END:STANDARD
END:VTIMEZONE
BEGIN:VEVENT
DTSTART;TZID=Europe/Madrid:20240117T103000
DTEND;TZID=Europe/Madrid:20240117T123000
DTSTAMP:20260420T180250
CREATED:20240109T114231Z
LAST-MODIFIED:20240109T114231Z
UID:19058-1705487400-1705494600@acelerapymecoiiaocsevilla.com
SUMMARY:CANVA Y CAPCUT\, Herramientas de imagen y videos que optimizan tu marca.
DESCRIPTION:Inscribirse aquí\n\n\n¿Necesitas darle a la imagen de tu marca una presencia más profesional? Descubre cómo elevar tu marca con creatividad visual en nuestro próximo evento titulado: “Canva y CapCut\, herramientas de imagen y video que optimizan tu marca” que tendrá lugar el próximo miércoles 17 de enero a las 10:30 de la mañana en la Sede Thermomix – Avda. de España 109. \nLaura Guerrero y Rosa Belloso serán las guías en esta jornada\, compartiendo su experiencia en el uso de Canva y CapCut para potenciar la imagen y los videos de tu marca. Aprenderás de la mano de expertas: \n\nExplora la creatividad con Canva: Descubre cómo utilizar esta plataforma para crear diseños impactantes\, desde publicaciones en redes sociales hasta presentaciones profesionales. Aprovecha plantillas\, herramientas y recursos para destacar en cualquier proyecto.\nEdición de video con CapCut: Sumérgete en el mundo de la edición de video con las últimas técnicas de Cap Cut. Desde la importación de material hasta la aplicación de efectos y transiciones\, Laura y Rosa te enseñarán a crear contenido visualmente atractivo y cautivador.\nConsejos de expertos: Obtén los mejores consejos y trucos basados en la experiencia de estas profesionales en formación y creatividad digital. Descubre atajos\, técnicas eficientes y estrategias para mejorar tu flujo de trabajo.\n\nEste evento es ideal para emprendedores\, profesionales creativos y cualquier persona interesada en potenciar sus habilidades digitales. ¡No pierdas la oportunidad de aprender\, inspirarte y conectar con otros entusiastas de la creatividad! La entrada es gratuita\, pero las plazas son limitadas. Regístrate ahora y prepárate para optimizar tu marca con Canva y CapCut. \nAsí que si necesitas cambiar la imagen digital de tu negocio no dudes en asistir a nuestro evento sobre Canva y CapCut para darle a tu marca esa imagen profesional que necesita para subir al siguiente nivel.
URL:https://acelerapymecoiiaocsevilla.com/eventos/canva-y-capcut-herramientas-de-imagen-y-videos-que-optimizan-tu-marca-3/
LOCATION:Sede Thermomix\, Avda. de España\, 109\, DOS HERMANAS\, SEVILLA\, 41700\, España
END:VEVENT
BEGIN:VEVENT
DTSTART;TZID=Europe/Madrid:20240117T170000
DTEND;TZID=Europe/Madrid:20240117T170000
DTSTAMP:20260420T180250
CREATED:20240108T103947Z
LAST-MODIFIED:20240108T103947Z
UID:19047-1705510800-1705510800@acelerapymecoiiaocsevilla.com
SUMMARY:HERRAMIENTAS DIGITALES\, COMO TENER UNA EMPRESA COMERCIAL QUE FUNCIONE SIN TI
DESCRIPTION:Inscribirse aquí\n¡Potencia tu empresa comercial y logra que funcione sin complicaciones! Desde Acelera Pyme Coiiaoc queremos presentar nuestro próximo evento: “Herramientas digitales\, como tener una empresa comercial que funcione sin ti”. La jornada contará con la experiencia y conocimientos de Eduardo Cambil Molina\, un destacado experto en el ámbito empresarial digital\, como mentor de consejero en Action Coach y socio director de Alto Valor Añadido Consultores\, miembro actualmente. \nEl evento tendrá lugar en la Sala de Conferencias del Parque Empresarial PISA de Mairena del Aljarafe el Miércoles 17  de enero a las 17:00 horas. \n¿Qué puedes esperar de este evento? \n\nOptimización empresarial: Descubre cómo las herramientas digitales pueden automatizar procesos y mejorar la eficiencia operativa de tu empresa\, permitiéndote liberar tiempo valioso.\nGestión eficiente: Aprende a utilizar herramientas digitales que facilitan la gestión comercial\, desde el seguimiento de clientes hasta la administración de inventarios\, para que tu empresa funcione de manera más inteligente y efectiva.\nPresencia online: Eduardo Cambil Molina compartirá estrategias para mejorar la presencia online de tu empresa\, destacando la importancia de las plataformas digitales en el mundo comercial actual.\n\nEste evento es ideal para propietarios de empresas comerciales\, emprendedores y profesionales que buscan optimizar sus operaciones y destacar en el entorno digital. No te pierdas esta oportunidad de aprender\, conectarte con otros profesionales y llevar tu empresa al siguiente nivel. \nAsegura tu lugar ahora mismo y prepárate para una tarde llena de conocimientos prácticos. ¡Te esperamos en Mairena del Aljarafe para un evento que marcará la diferencia en tu negocio! \nPuedes apuntarte a nuestro evento para asistir presencialmente o de forma online ¡No tienes excusas! Te esperamos.
URL:https://acelerapymecoiiaocsevilla.com/eventos/herramientas-digitales-como-tener-una-empresa-comercial-que-funcione-sin-ti/
LOCATION:Calle Innovación n6\, Parque Empresarial PISA. Mairena del Aljarafe
END:VEVENT
BEGIN:VEVENT
DTSTART;TZID=Europe/Madrid:20240118T153000
DTEND;TZID=Europe/Madrid:20240118T153000
DTSTAMP:20260420T180250
CREATED:20240111T143555Z
LAST-MODIFIED:20240111T143555Z
UID:19068-1705591800-1705591800@acelerapymecoiiaocsevilla.com
SUMMARY:FACTURA ELECTRÓNICA\, Tu relación con la Administración Pública: simplificando trámites y agilizando procesos.
DESCRIPTION:Inscribirse aquí\n\n\nDescubre cómo simplificar trámites y agilizar procesos con nuestro próximo evento: “Factura electrónica. Tu relación con la administración pública”. Julia Iriarte\, experta en el campo\, compartirá conocimientos clave el jueves 18 de enero a las 15:30 en la Plaza de la Coracha. Edificio Guadalinfo\, Estepa\, Sevilla. \nLa factura electrónica ha revolucionado la relación de las empresas con la administración pública\, ofreciendo una vía eficiente y segura para el intercambio de documentos. ¿Por qué este evento es esencial para empresarios y emprendedores? Aquí algunas razones: \n\nEficiencia operativa: Descubre cómo la factura electrónica puede simplificar tus procesos administrativos\, reducir errores y ahorrar tiempo valioso.\nCumplimiento normativo: Julia Iriarte te guiará a través de los requisitos legales y normativas para asegurar que tu empresa cumple con las obligaciones fiscales y administrativas.\nAhorro de costos: Conoce cómo la factura electrónica puede ayudarte a reducir costos relacionados con la impresión y el almacenamiento de documentos físicos.\n\nEste evento es perfecto para propietarios de empresas\, autónomos y profesionales que buscan optimizar sus relaciones con la administración pública. Aprenderás los beneficios prácticos de adoptar la factura electrónica y cómo implementarla en tu negocio de manera efectiva. \n¡Asegura tu asistencia ahora! Regístrate para el evento presencial o en línea y prepárate para simplificar tu relación con la administración pública. Te esperamos para una tarde llena de conocimientos valiosos. ¡No te lo pierdas! \n\n\n\n    
URL:https://acelerapymecoiiaocsevilla.com/eventos/factura-electronica-tu-relacion-con-la-administracion-publica-simplificando-tramites-y-agilizando-procesos/
LOCATION:Espacio Guadalinfo\, Pza de la Coracha\, ESTEPA
END:VEVENT
BEGIN:VEVENT
DTSTART;VALUE=DATE:20240131
DTEND;VALUE=DATE:20240201
DTSTAMP:20260420T180250
CREATED:20240122T111017Z
LAST-MODIFIED:20240122T111017Z
UID:19112-1706659200-1706745599@acelerapymecoiiaocsevilla.com
SUMMARY:TIPS Y HERRAMIENTAS DEL MARKETING DIGITAL PARA EMPRESAS
DESCRIPTION:Inscribirse aquí\nEl mundo del marketing digital está en constante evolución\, y para destacar en la era digital\, es crucial comprender las últimas tendencias y herramientas efectivas. Por eso\, los autónomos\, pymes y empresarios tiene que estar al día de todos estos cambios y aplicarlos en el marketing de sus negocios. Por eso no te puedes perder nuestro último evento de enero titulado “Tips y Herramientas de Marketing Digital para Empresas”\, una jornada en la que Carlos Muñoz\, experto en marketing digital de Digitalketing\, compartirá sus conocimientos y estrategias\, además de enseñar trucos de marketing digital. \nEl evento tendrá lugar el miércoles 31 de enero a las 17:00 de la tarde en Mairena del Aljarafe\, en la sala de conferencias del Polígono PISA.  \n¡No te puedes perder este evento porque en él se darán! \n\nConsejos prácticos: Carlos Muñoz te guiará a través de consejos prácticos para optimizar tu estrategia de marketing digital y destacar en un mercado cada vez más competitivo.\nHerramientas innovadoras: Descubre las últimas herramientas digitales que pueden transformar tu enfoque de marketing y mejorar la eficiencia de tus campañas.\nCasos de Éxito: Aprende a través de ejemplos reales de empresas que han alcanzado el éxito implementando estrategias de marketing digital efectivas.\n\nNo pierdas la oportunidad de obtener información valiosa que puede marcar la diferencia en tu estrategia de marketing digital. La entrada es gratuita\, pero las plazas son limitadas. ¡Regístrate ahora y prepárate para llevar tu marketing digital al siguiente nivel! \nMantente actualizado sobre este evento y otros futuros siguiéndonos en nuestras redes sociales. ¡Te esperamos para una tarde llena de aprendizaje y crecimiento empresarial! \n¡Recuerda! \n\nMiércoles 31 enero a las 17:00 de la tarde\nSala de Conferencias del Polígono Pisa\, calle Innovación\, nº6 Mairena del Aljarafe.\n\n¡Te esperamos!
URL:https://acelerapymecoiiaocsevilla.com/eventos/tips-y-herramientas-del-marketing-digital-para-empresas/
LOCATION:Calle Innovación n6\, Parque Empresarial PISA. Mairena del Aljarafe
END:VEVENT
END:VCALENDAR