BEGIN:VCALENDAR
VERSION:2.0
PRODID:-//Acelera Pymes COIIAOC Cádiz - ECPv6.15.15//NONSGML v1.0//EN
CALSCALE:GREGORIAN
METHOD:PUBLISH
X-ORIGINAL-URL:https://acelerapymecoiiaocsevilla.com
X-WR-CALDESC:Eventos para Acelera Pymes COIIAOC Cádiz
REFRESH-INTERVAL;VALUE=DURATION:PT1H
X-Robots-Tag:noindex
X-PUBLISHED-TTL:PT1H
BEGIN:VTIMEZONE
TZID:Europe/Madrid
BEGIN:DAYLIGHT
TZOFFSETFROM:+0100
TZOFFSETTO:+0200
TZNAME:CEST
DTSTART:20230326T010000
END:DAYLIGHT
BEGIN:STANDARD
TZOFFSETFROM:+0200
TZOFFSETTO:+0100
TZNAME:CET
DTSTART:20231029T010000
END:STANDARD
BEGIN:DAYLIGHT
TZOFFSETFROM:+0100
TZOFFSETTO:+0200
TZNAME:CEST
DTSTART:20240331T010000
END:DAYLIGHT
BEGIN:STANDARD
TZOFFSETFROM:+0200
TZOFFSETTO:+0100
TZNAME:CET
DTSTART:20241027T010000
END:STANDARD
BEGIN:DAYLIGHT
TZOFFSETFROM:+0100
TZOFFSETTO:+0200
TZNAME:CEST
DTSTART:20250330T010000
END:DAYLIGHT
BEGIN:STANDARD
TZOFFSETFROM:+0200
TZOFFSETTO:+0100
TZNAME:CET
DTSTART:20251026T010000
END:STANDARD
END:VTIMEZONE
BEGIN:VEVENT
DTSTART;TZID=Europe/Madrid:20240304T150000
DTEND;TZID=Europe/Madrid:20240304T150000
DTSTAMP:20260420T163400
CREATED:20240226T102457Z
LAST-MODIFIED:20240226T102457Z
UID:19220-1709564400-1709564400@acelerapymecoiiaocsevilla.com
SUMMARY:CANVA Y CAPCUT\, Herramientas de imagen y videos que optimizan tu marca
DESCRIPTION:Inscribirse aquí\n¡Prepárate para potenciar tu marca con las herramientas más creativas! Queremos invitarte a nuestro evento “Canva y CapCut: Herramientas de imagen y videos que optimizan tu marca”\, una jornada llena de aprendizaje y creatividad que se llevará a cabo en la Sede Thermomix de Jerez de la Frontera. \nLaura Guerrero y Rosa Belloso de Vórtice Formación serán las guías en este viaje\, compartiendo su experiencia en el uso efectivo de Canva y CapCut. Estas herramientas no solo simplifican el diseño y la edición de videos\, sino que también elevan la presencia de tu marca. \n¿Qué puedes esperar de Rosa y Laura en estas jornadas? \n\nEn estas jornadas podrás descubrir cómo crear gráficos atractivos\, logotipos y materiales visuales de manera sencilla y efectiva con Canva los cuáles harán que la imagen de tu negocio o marca mejore y suba de nivel.\nTambién podrás descubrir cómo utilizar la herramienta más efectiva para editar tus videos en la actualidad: la aplicación CapCut con la que podrás editar videos de manera fácil pero profesional\, agregando efectos que cautivarán a tu audiencia y le darán a tu negocio o marca una imagen más profesional.\n\nEste evento es esencial para emprendedores\, empresarios y profesionales que desean destacar en el mundo digital o darle un giro a su negocio en el mundo digital. La entrada es gratuita\, pero las plazas son limitadas. ¡Regístrate ahora y únete a nosotros para una tarde de creatividad y crecimiento empresarial! Puedes asistir de manera presencial o a través de videoconferencia. \n 
URL:https://acelerapymecoiiaocsevilla.com/eventos/https-acelerapymecoiiaocandalucia-com-descubre-el-poder-creativo-de-canva-y-capcut-en-nuestro-proximo-evento-en-jerez-de-la-frontera/
LOCATION:Sede Thermomix\, Avda. de España\, 109\, DOS HERMANAS\, SEVILLA\, 41700\, España
END:VEVENT
BEGIN:VEVENT
DTSTART;TZID=Europe/Madrid:20240306T153000
DTEND;TZID=Europe/Madrid:20240306T153000
DTSTAMP:20260420T163400
CREATED:20240226T104652Z
LAST-MODIFIED:20240226T104652Z
UID:19229-1709739000-1709739000@acelerapymecoiiaocsevilla.com
SUMMARY:CREACIÓN Y GESTIÓN DE EVENTOS VIRTUALES PARA PROMOCIÓN Y VENTAS
DESCRIPTION:Inscribirse aquí\n¿Quieres ser un experto creando eventos virtuales para hacer promociones y ventas en tu negocio? Te invitamos a participar en nuestro próximo evento titulado “Creación y gestión de eventos virtuales para promoción y ventas”\, que se llevará a cabo el miércoles 6 de marzo a las 15:30 en la Sede Thermomix de Dos Hermanas. \nEn esta jornada\, Laura Guerrero y Rosa Belloso compartirán su experiencia y conocimientos sobre cómo aprovechar al máximo las plataformas virtuales para la creación de eventos impactantes. Descubre las estrategias clave para la promoción y venta de productos o servicios a través de eventos online. \nEn este evento destacaremos: \n\nDiseño de eventos virtuales atractivos: Aprende a captar la atención de tu audiencia con la creación de eventos virtuales visualmente atractivos y memorables.\nHerramientas tecnológicas para la gestión eficiente: Descubre las mejores herramientas y plataformas para la gestión efectiva de eventos online\, desde la planificación hasta la ejecución.\nEstrategias de promoción y ventas: Obtén consejos prácticos sobre cómo promocionar y vender productos o servicios durante eventos virtuales\, maximizando el impacto en tu audiencia.\n\nEste evento es esencial para emprendedores\, empresarios y profesionales que buscan explorar nuevas formas de conectar con su audiencia y potenciar sus estrategias de ventas. \n¡La entrada es gratuita\, pero las plazas son limitadas! Regístrate ahora y prepárate para llevar tus eventos virtuales al siguiente nivel. Puedes apuntarte aquí \nMantente conectado con nuestras redes sociales para obtener más detalles y actualizaciones sobre este evento y otras iniciativas emocionantes que tenemos preparadas para ti. ¡Te esperamos para una tarde llena de aprendizaje y crecimiento empresarial! \n 
URL:https://acelerapymecoiiaocsevilla.com/eventos/https-aeleva-tu-estrategia-virtual-con-eventos-impactantes-te-esperamos-en-nuestro-proximo-evento-en-dos-hermanas/
LOCATION:Sede Thermomix\, Avda. de España\, 109\, DOS HERMANAS\, SEVILLA\, 41700\, España
END:VEVENT
BEGIN:VEVENT
DTSTART;TZID=Europe/Madrid:20240307T173000
DTEND;TZID=Europe/Madrid:20240307T173000
DTSTAMP:20260420T163400
CREATED:20240229T114402Z
LAST-MODIFIED:20240229T114402Z
UID:19268-1709832600-1709832600@acelerapymecoiiaocsevilla.com
SUMMARY:MARKETING DIGITAL . Tus estrategias para triunfar en Internet
DESCRIPTION:Inscribirse aquí\n\n\n¿Quieres adentrarte en el mundo del Marketing Digital? Te invitamos a a sumergirte en este apasionante mundo con su nuestro próximo evento titulado: “Marketing Digital: Tus Estrategias para Triunfar en Internet”. Esta jornada de aprendizaje se llevará a cabo el jueves 7 de marzo a las 17:30 en la Biblioteca Pública de Utrera\, específicamente en la planta sótano. \nLas expertas en la materia\, Rosa Belloso y Laura Guerrero de Vórtice Formación\, serán las guías en este viaje de descubrimiento\, compartiendo sus conocimientos y estrategias para triunfar en el vasto universo de Internet. \nLos aspectos que se destacarán en este evento son:  \n\nEstrategias de Marketing Digital: Aprende las tácticas más efectivas para destacar en el entorno digital y llegar a tu audiencia de manera impactante.\nRedes Sociales y contenido atractivo: Descubre cómo aprovechar al máximo las redes sociales y crear contenido que atraiga y retenga a tu audiencia.\nPublicidad online: Sumérgete en el mundo de la publicidad online y conoce las claves para crear campañas exitosas que impulsen tu presencia en Internet.\n\nEste evento es esencial para emprendedores\, empresarios y profesionales que buscan potenciar su presencia online y triunfar en el competitivo mundo digital. \nLa entrada es gratuita\, pero las plazas son limitadas. ¡Regístrate ahora y únete a nosotros para una tarde de aprendizaje\, intercambio de ideas y crecimiento empresarial! \nMantente conectado a nuestras redes sociales para obtener más detalles y actualizaciones sobre este evento y otras emocionantes iniciativas que estamos preparando para ti. ¡Te esperamos para una jornada llena de inspiración y conocimiento! \n\n\n 
URL:https://acelerapymecoiiaocsevilla.com/eventos/descubre-las-claves-del-exito-online-en-el-proximo-evento-de-acelera-pyme-marketing-digital-tus-estrategias-para-triunfar-en-internet/
LOCATION:Biblioteca Pública Utrera – Planta Sótano\, Alvarez Quintero \, 39\, utrera
END:VEVENT
BEGIN:VEVENT
DTSTART;VALUE=DATE:20240312
DTEND;VALUE=DATE:20240313
DTSTAMP:20260420T163400
CREATED:20240305T092515Z
LAST-MODIFIED:20240305T092515Z
UID:19282-1710201600-1710287999@acelerapymecoiiaocsevilla.com
SUMMARY:Kit Digital: Resuelve dudas y aprovecha la bonificación
DESCRIPTION:Inscribirse aquí\n  \nTe invitamos a participar en nuestro próximo evento titulado “Kit Digital: Resuelve dudas y aprovecha la bonificación”. La cita es el martes 12 de marzo a las 9:30 de la mañana en el Centro Cultural Casa de las Monjas\, específicamente en la sala Dolores Abril. \n¿Qué puedes esperar de este evento único? \n🤔 Aclaración de dudas: Sumérgete en el fascinante mundo del Kit Digital y resuelve todas las dudas que puedas tener. Nuestros expertos estarán allí para guiarte y proporcionar respuestas claras. \n💡 Aprovecha las bonificaciones: Descubre cómo aprovechar al máximo las bonificaciones disponibles. Conoce los detalles sobre cómo aplicarlas a tu negocio y potenciar tu desarrollo digital. \n🔄 Actualización tecnológica: Mantente al tanto de las últimas novedades en tecnología y cómo el Kit Digital puede impulsar la eficiencia y la productividad de tu empresa. \nEste evento es esencial para empresarios\, emprendedores y profesionales que desean maximizar los beneficios del Kit Digital y mantenerse actualizados en el panorama tecnológico actual. \n¡La entrada es gratuita\, pero las plazas son limitadas! Regístrate ahora y únete a nosotros para una mañana llena de aprendizaje\, intercambio de ideas y oportunidades de crecimiento. \nMantente conectado a nuestras redes sociales para obtener más detalles y actualizaciones sobre este evento y otras emocionantes iniciativas que estamos preparando para ti. ¡Te esperamos para una jornada de conocimiento y crecimiento empresarial!
URL:https://acelerapymecoiiaocsevilla.com/eventos/kit-digital-resuelve-dudas-y-aprovecha-la-bonificacion/
LOCATION:Centro Cultural Casa de Las Monjas\, Sala dolores abril
END:VEVENT
BEGIN:VEVENT
DTSTART;VALUE=DATE:20240313
DTEND;VALUE=DATE:20240314
DTSTAMP:20260420T163400
CREATED:20240306T090023Z
LAST-MODIFIED:20240311T091230Z
UID:19289-1710288000-1710374399@acelerapymecoiiaocsevilla.com
SUMMARY:Microsoft 365 en el Mundo Empresarial: Casos de Éxito y Estrategias Inspiradoras
DESCRIPTION:Inscribirse aquí\n¿Sabes las posibilidades que te ofrece Microsoft 365 en tu empresa? Pues si aún no lo sabes traemos el evento que no puedes perderte “Microsoft 365 en el mundo empresarial: Casos de éxito y estrategias inspiradoras”. Este encuentro\, que promete ser una fuente de inspiración y aprendizaje\, contará con la ponencia de Miguel Rebollo\, un experto en la implementación exitosa de Microsoft 365 en entornos empresariales. \nEl evento tendrá lugar el próximo miércoles 13 de marzo a las 17:30 horas de la tarde en Mairena del Aljarafe. Concretamente en el Parque Empresarial PISA\, en la Sala de Conferencias situada en la Calle Innovación Nº6 \n¿Qué puedes esperar en este evento? \nMiguel Rebollo compartirá casos reales de éxito donde Microsoft 365 ha transformado la operatividad y eficiencia empresarial. Exploraremos estrategias innovadoras para aprovechar al máximo esta potente suite de herramientas que incluye Word\, Excel\, PowerPoint\, Teams y más. \nLos temas que Miguel tratará serán:  \n\nCasos de éxito: Descubre cómo empresas han optimizado sus procesos y comunicación con Microsoft 365.\nEstrategias inspiradoras: Durante la ponencia\, Miguel revelará estrategias clave para aprovechar todas las capacidades de esta suite\, elevando la productividad y colaboración en tu empresa.\nPreguntas y respuestas: La sesión incluirá una oportunidad para interactuar y resolver tus dudas directamente con Miguel.\n\nEste evento es esencial para propietarios de negocios\, emprendedores y profesionales que buscan llevar su empresa al siguiente nivel con tecnología de vanguardia. La entrada es gratuita\, pero las plazas son limitadas. ¡Regístrate ahora y prepárate para descubrir el potencial de Microsoft 365 en tu empresa! Puedes asistir de forma presencial o a través de videoconferencia ¡Apúntate ahora! \nMantente conectado a nuestras redes sociales para obtener más detalles y actualizaciones sobre este evento y otras emocionantes iniciativas que estamos preparando para ti. ¡Te esperamos para una tarde de inspiración y transformación empresarial! Porque la digitalización es posible y nosotros estamos aquí para ayudarte a conseguirla.
URL:https://acelerapymecoiiaocsevilla.com/eventos/microsoft-365-en-el-mundo-empresarial-casos-de-exito-y-estrategias-inspiradoras/
LOCATION:Calle Innovación n6\, Parque Empresarial PISA. Mairena del Aljarafe
END:VEVENT
BEGIN:VEVENT
DTSTART;TZID=Europe/Madrid:20240320T160000
DTEND;TZID=Europe/Madrid:20240320T160000
DTSTAMP:20260420T163400
CREATED:20240311T152339Z
LAST-MODIFIED:20240313T095208Z
UID:19301-1710950400-1710950400@acelerapymecoiiaocsevilla.com
SUMMARY:Facturación electrónica: Optimiza tu negocio\, simplifica\, ahorra y moderniza
DESCRIPTION:Inscribirse aquí\n  \n¿Harto de las facturas en papel? Descubre el futuro de la gestión financiera en nuestro próximo evento\, “Facturación electrónica: Optimiza tu negocio\, simplifica\, ahorra y moderniza”. Estefanía Lozano Olmedo\, te guiará a través de las claves para incorporar la facturación electrónica en tu empresa de manera eficiente. \nEl próximo miércoles 20 de marzo a las 16:00 horas de la tarde en la Casa de la Cultura\, Sala Gessa Arias\, Chiclana de la Frontera te esperamos para que puedas llevar a cabo ese cambio que tanto deseas en tu negocio a la hora de facturar. \n¿Por qué la facturación electrónica es crucial para tu negocio?\nLa facturación electrónica no es solo una tendencia; es una herramienta fundamental para la modernización de las empresas. Estefanía Lozano compartirá su experiencia y conocimientos sobre cómo esta práctica puede optimizar tu negocio\, simplificar procesos\, ahorrar tiempo y recursos\, y llevar tu emprendimiento al siguiente nivel. \nLo que Aprenderás: \n\nLos beneficios clave de la facturación electrónica para la eficiencia y productividad.\nCómo implementar la facturación electrónica de manera sencilla y efectiva en tu empresa.\nConsejos prácticos para aprovechar al máximo las ventajas fiscales y legales de esta tecnología.\n\nEste evento es esencial para emprendedores\, empresarios y profesionales que desean mantenerse a la vanguardia en la gestión financiera de sus negocios. \nLa entrada es gratuita\, pero las plazas son limitadas. ¡Regístrate ahora y prepárate para llevar la gestión de tu empresa al siguiente nivel con la facturación electrónica! \nMantente conectado a nuestras redes sociales para obtener más detalles y actualizaciones sobre este evento y otras iniciativas emocionantes que estamos preparando para ti. ¡Te esperamos para una jornada de aprendizaje y modernización empresarial en Chiclana de la Frontera! \nTe esperamos el próximo miércoles 20 de marzo en Chiclana para una tarde llena de mucho conocimiento sobre factura electrónica -.
URL:https://acelerapymecoiiaocsevilla.com/eventos/19301/
LOCATION:Casa de la Cultura (Sala Gessa Arias)\, Calle Nueva N.º 20\, Chiclana de la Frontera\, Cádiz\, España
END:VEVENT
END:VCALENDAR