BEGIN:VCALENDAR
VERSION:2.0
PRODID:-//Acelera Pymes COIIAOC Cádiz - ECPv6.15.15//NONSGML v1.0//EN
CALSCALE:GREGORIAN
METHOD:PUBLISH
X-WR-CALNAME:Acelera Pymes COIIAOC Cádiz
X-ORIGINAL-URL:https://acelerapymecoiiaocsevilla.com
X-WR-CALDESC:Eventos para Acelera Pymes COIIAOC Cádiz
REFRESH-INTERVAL;VALUE=DURATION:PT1H
X-Robots-Tag:noindex
X-PUBLISHED-TTL:PT1H
BEGIN:VTIMEZONE
TZID:Europe/Madrid
BEGIN:DAYLIGHT
TZOFFSETFROM:+0100
TZOFFSETTO:+0200
TZNAME:CEST
DTSTART:20230326T010000
END:DAYLIGHT
BEGIN:STANDARD
TZOFFSETFROM:+0200
TZOFFSETTO:+0100
TZNAME:CET
DTSTART:20231029T010000
END:STANDARD
BEGIN:DAYLIGHT
TZOFFSETFROM:+0100
TZOFFSETTO:+0200
TZNAME:CEST
DTSTART:20240331T010000
END:DAYLIGHT
BEGIN:STANDARD
TZOFFSETFROM:+0200
TZOFFSETTO:+0100
TZNAME:CET
DTSTART:20241027T010000
END:STANDARD
BEGIN:DAYLIGHT
TZOFFSETFROM:+0100
TZOFFSETTO:+0200
TZNAME:CEST
DTSTART:20250330T010000
END:DAYLIGHT
BEGIN:STANDARD
TZOFFSETFROM:+0200
TZOFFSETTO:+0100
TZNAME:CET
DTSTART:20251026T010000
END:STANDARD
END:VTIMEZONE
BEGIN:VEVENT
DTSTART;TZID=Europe/Madrid:20241104T100000
DTEND;TZID=Europe/Madrid:20241104T120000
DTSTAMP:20260420T015443
CREATED:20241023T052136Z
LAST-MODIFIED:20241023T052136Z
UID:19728-1730714400-1730721600@acelerapymecoiiaocsevilla.com
SUMMARY:Taller de competencias digitales y Redes Sociales
DESCRIPTION:Inscribirse aquí\nEl próximo lunes 4 de noviembre\, a las 10:00 de la mañana\, se llevará a cabo en Edificio Impúlsame (sala de formación) en Mairena del Alcor\, Sevilla\, un interesante Taller de Competencias Digitales y Redes Sociales. Este evento está pensado para empresarios\, emprendedores\, autónomos y profesionales que buscan mejorar su manejo de las herramientas digitales y sacar el máximo provecho de las redes sociales para impulsar sus proyectos. \nEl taller será impartido solo de forma presencial por dos expertas en marketing digital y creación de contenido\, Rosa Belloso y Laura Guerrero\, de Vórtice Formación. Ambas cuentan con una amplia trayectoria en el ámbito digital\, ayudando a empresas a mejorar su presencia online y a desarrollar estrategias que marquen la diferencia en un entorno cada vez más competitivo. \nDurante esta jornada\, los participantes aprenderán las competencias digitales clave para desenvolverse con seguridad en el entorno digital actual\, desde el manejo de plataformas hasta la optimización de procesos online. El taller estará centrado en ofrecer herramientas prácticas que se puedan aplicar directamente en la gestión diaria de redes sociales\, fundamentales para mejorar la visibilidad de cualquier marca o negocio. \nEntre los temas que se abordarán destacan: \n\nCómo crear contenido efectivo para captar la atención de tu audiencia y aumentar el engagement.\nEstrategias para la gestión eficiente de redes sociales\, como Facebook\, Instagram y LinkedIn.\nClaves para mejorar la visibilidad online de tu negocio.\nTécnicas para optimizar el uso de herramientas digitales y simplificar procesos.\n\nEste taller será 100% práctico\, por lo que no es necesario tener conocimientos avanzados. Tanto si estás comenzando en el mundo digital como si ya tienes experiencia\, saldrás con nuevas ideas\, habilidades y herramientas que te ayudarán a potenciar tu marca y conectar de forma más eficaz con tu público. \n¡No te lo pierdas! Te esperamos el 4 de noviembre a las 10:00 en el Edificio Impúlsame de Mairena del Alcor. \nLas oficinas Acelera Pyme puestas en marcha en toda España por Red.es\, entidad pública adscrita al Ministerio para la Transformación Digital y de la Función Pública a través de la Secretaria del Estado de Digitalización e Inteligencia Artificial\, cuentan en su segunda convocatoria 2022 con un importe de ayuda concedida de 11.830.851\,68€ siendo el importe de la ayuda máxima el 80% del presupuesto subvencionable . El beneficiario cofinanciará el porcentaje restante. Las actuaciones están financiadas con cargo al Programa Operativo de Crecimiento Inteligente\, Fondos Europeos de Desarrollo Regional (FEDER) del periodo de programación 2021-2027. \nY si tienes dudas o necesitas más información puedes ponerte en contacto con cualquiera de nuestras técnicas:\n\n\n\n\n\n\n\n\ncadizacelerapyme@coiiaoc.com  (Eva) \ncdgacelerapyme@coiiaoc.com (Vanesa) \nsevilla1acelerapyme@coiiaoc.com (Setefilla) \nsevilla2acelerapyme@coiiaoc.com (Matilde)
URL:https://acelerapymecoiiaocsevilla.com/eventos/taller-de-competencias-digitales-y-redes-sociales/
LOCATION:Edificio Impúlsame\, sala de formación\, C. los Herreros\, 33\, Mairena del Alcor\, Sevilla\, 41510\, España
END:VEVENT
BEGIN:VEVENT
DTSTART;TZID=Europe/Madrid:20241112T160000
DTEND;TZID=Europe/Madrid:20241112T170000
DTSTAMP:20260420T015443
CREATED:20241030T100112Z
LAST-MODIFIED:20241030T100112Z
UID:19752-1731427200-1731430800@acelerapymecoiiaocsevilla.com
SUMMARY:Inteligencia artificial: Crea contenido impactante
DESCRIPTION:Inscribirse aquí\nEn el entorno digital actual\, donde destacar es cada vez más difícil\, la inteligencia artificial (IA) se ha convertido en una herramienta fundamental para las empresas y emprendedores que desean crear contenido de calidad que conecte con su audiencia de forma auténtica y eficaz. Para ayudarte a descubrir cómo esta tecnología puede transformar tu estrategia de contenido\, Hemos organizado una jornada que no te puedes perder: “Inteligencia Artificial: Crea contenido impactante”\, el martes 12 de noviembre a las 16:00 horas en el Centro Cívico de Estepa\, Sevilla. \nEste evento contará con la experiencia de Rosa Belloso y Laura Guerrero\, formadoras y expertas en marketing digital de Vórtice Formación. Con una sólida trayectoria en el uso de herramientas digitales avanzadas\, Rosa y Laura guiarán a los asistentes en el fascinante mundo de la IA aplicada al marketing y la creación de contenido\, ofreciendo estrategias prácticas y adaptadas a todo tipo de empresas. \nDurante esta jornada\, los participantes podrán conocer y aplicar algunas de las herramientas más populares de inteligencia artificial en el campo de la comunicación y el marketing. Entre los temas que se abordarán destacan: \n\nAutomatización de contenido: Cómo utilizar IA para generar y programar contenido relevante y adaptado a tu público objetivo.\nOptimización de textos y visuales: Herramientas para mejorar la calidad de los textos\, diseños y materiales gráficos que impacten visualmente.\nInteligencia Artificial en redes sociales: Estrategias para incrementar la interacción y presencia en redes sociales mediante el uso de algoritmos y personalización de contenidos.\n\nEste taller está diseñado tanto para principiantes como para aquellos con experiencia en marketing digital que quieran descubrir las ventajas de la IA en sus negocios. No se requieren conocimientos previos\, solo el interés de aprender y explorar nuevas formas de potenciar tu marca. \nTe esperamos el 12 de noviembre en el Centro Cívico de Estepa para una tarde de innovación y aprendizaje que te permitirá llevar tu estrategia digital al siguiente nivel. ¡No te lo pierdas!
URL:https://acelerapymecoiiaocsevilla.com/eventos/inteligencia-artificial-crea-contenido-impactante-2/
LOCATION:Plaza de la Coracha Centro Cívico\, Plaza de la Coracha\, Estepa
END:VEVENT
BEGIN:VEVENT
DTSTART;TZID=Europe/Madrid:20241119T110000
DTEND;TZID=Europe/Madrid:20241119T130000
DTSTAMP:20260420T015443
CREATED:20241105T105325Z
LAST-MODIFIED:20241105T105325Z
UID:19766-1732014000-1732021200@acelerapymecoiiaocsevilla.com
SUMMARY:Canva y CapCut: Herramientas de imagen y video que optimizan tu marca
DESCRIPTION:Inscribirse aquí\nEn un entorno digital competitivo\, la imagen y el contenido en video son factores cruciales para captar la atención del público. Para ayudarte a aprovechar al máximo las oportunidades visuales\, Acelera Pyme organiza un evento titulado “Canva y CapCut: Herramientas de imagen y video que optimizan tu marca”. Este evento está dirigido tanto a empresarios\, emprendedores\, autónomos y profesionales que desean mejorar la presencia de su marca a través de contenido visual impactante y de fácil creación. \nEl taller se llevará a cabo el próximo martes 19 de noviembre a las 11:00 horas en la sede de Tupperware en Sevilla y estará a cargo de Laura Guerrero y Rosa Belloso\, de Vórtice Formación. Las cuales cuentan con una gran experiencia en el ámbito de la comunicación digital\, Laura y Rosa guiarán a los asistentes a través de las herramientas y técnicas esenciales para crear contenido atractivo y profesional utilizando Canva y CapCut. \nDurante esta jornada\, los participantes aprenderán a: \n\nCrear imágenes y gráficos que refuercen la identidad de marca\, gracias a las funcionalidades de diseño de Canva. Se explorarán opciones como plantillas personalizables\, diseños colaborativos\, y elementos gráficos que ayudarán a transmitir un mensaje visual claro y profesional.\nEditar y producir videos de forma ágil y efectiva con CapCut\, una herramienta intuitiva que permite realizar ediciones de alta calidad. Los asistentes descubrirán cómo aplicar transiciones\, efectos visuales\, y texto para hacer que los videos sean más dinámicos y atractivos.\n\nEsta jornada está diseñada para que los asistentes puedan aplicar lo aprendido de forma inmediata en sus redes sociales y otras plataformas digitales\, mejorando así la conexión con su audiencia y aumentando la visibilidad de su marca. No es necesario tener conocimientos previos\, ya que Laura y Rosa enseñarán desde lo más básico hasta los trucos avanzados para lograr resultados que capten la atención y fidelicen a los clientes. \n¡No te pierdas esta oportunidad para llevar tu marca al siguiente nivel con Canva y CapCut! \nLas oficinas Acelera Pyme puestas en marcha en toda España por Red.es\, entidad pública adscrita al Ministerio para la Transformación Digital y de la Función Pública a través de la Secretaria del Estado de Digitalización e Inteligencia Artificial\, cuentan en su segunda convocatoria 2022 con un importe de ayuda concedida de 11.830.851\,68€ siendo el importe de la ayuda máxima el 80% del presupuesto subvencionable . El beneficiario cofinanciará el porcentaje restante. Las actuaciones están financiadas con cargo al Programa Operativo de Crecimiento Inteligente\, Fondos Europeos de Desarrollo Regional (FEDER) del periodo de programación 2021-2027. \nY si tienes dudas o necesitas más información puedes ponerte en contacto con cualquiera de nuestras técnicas:\n\n\n\n\n\n\n\n\ncadizacelerapyme@coiiaoc.com  (Eva) \ncdgacelerapyme@coiiaoc.com (Vanesa) \nsevilla1acelerapyme@coiiaoc.com (Setefilla) \nsevilla2acelerapyme@coiiaoc.com (Matilde)
URL:https://acelerapymecoiiaocsevilla.com/eventos/canva-y-capcut-herramientas-de-imagen-y-video-que-optimizan-tu-marca-2/
LOCATION:Sede Tupperware\, Calle Jose María de Pereda\, 14\, Sevilla
END:VEVENT
BEGIN:VEVENT
DTSTART;TZID=Europe/Madrid:20241120T100000
DTEND;TZID=Europe/Madrid:20241120T120000
DTSTAMP:20260420T015443
CREATED:20241106T142535Z
LAST-MODIFIED:20241106T142535Z
UID:19774-1732096800-1732104000@acelerapymecoiiaocsevilla.com
SUMMARY:Nociones básicas para usar la plataforma digital de contratación del sector público
DESCRIPTION:Inscribirse aquí\nPara muchos empresarios\, autónomos y profesionales\, el acceso a contratos en el sector público es una excelente oportunidad de crecimiento. Sin embargo\, navegar las plataformas de contratación digital puede ser un reto\, especialmente si no tienes experiencia en este tipo de herramientas. Con esto en mente\, Acelera Pyme presenta un evento esencial para quienes buscan optimizar su gestión en el entorno de las plataformas digitales de contratación pública. \nNociones básicas para usar la plataforma digital de contratación del sector público \n📅 Fecha: Miércoles\, 20 de noviembre\n🕙 Hora: 10:00 de la mañana\n📍 Lugar: Centro de Iniciativas Juveniles BOX\, Chiclana de la Frontera \nEste evento está diseñado para ofrecerte un recorrido completo por el funcionamiento de la plataforma digital de contratación del sector público. Podrás aprender los pasos clave para acceder\, gestionar y aprovechar las oportunidades de licitaciones\, simplificando así un proceso que para muchos representa una barrera en su crecimiento profesional. \nDurante el evento\, se abordarán las nociones fundamentales de la plataforma\, como: \n\nRegistro y configuración: Cómo crear una cuenta en la plataforma y configurarla correctamente para recibir notificaciones de las licitaciones relevantes a tu sector.\nBúsqueda de oportunidades: Herramientas de filtrado y búsqueda avanzadas para encontrar oportunidades de contratación en el sector público que se adapten a tu perfil o actividad.\nPresentación de propuestas: Paso a paso sobre cómo enviar propuestas\, adjuntar documentación y asegurarte de que cumples con todos los requisitos necesarios para competir en el proceso de licitación.\n\nEste evento es ideal tanto para quienes se acercan por primera vez a la contratación pública como para aquellos que deseen actualizar sus conocimientos y mejorar su eficiencia en este proceso. Además de las sesiones informativas\, tendrás la oportunidad de interactuar y hacer preguntas en un espacio orientado a resolver tus dudas y ofrecer soluciones. \nSi te interesa ampliar tus oportunidades de negocio y aprovechar las ventajas del sector público\, ¡no te pierdas este evento clave de Acelera Pyme! Te esperamos el 20 de noviembre para aprender\, conectar y avanzar en el uso de herramientas que pueden marcar la diferencia en el futuro de tu empresa. \nLas oficinas Acelera Pyme puestas en marcha en toda España por Red.es\, entidad pública adscrita al Ministerio para la Transformación Digital y de la Función Pública a través de la Secretaria del Estado de Digitalización e Inteligencia Artificial\, cuentan en su segunda convocatoria 2022 con un importe de ayuda concedida de 11.830.851\,68€ siendo el importe de la ayuda máxima el 80% del presupuesto subvencionable . El beneficiario cofinanciará el porcentaje restante. Las actuaciones están financiadas con cargo al Programa Operativo de Crecimiento Inteligente\, Fondos Europeos de Desarrollo Regional (FEDER) del periodo de programación 2021-2027. \nY si tienes dudas o necesitas más información puedes ponerte en contacto con cualquiera de nuestras técnicas:\n\n\n\n\n\n\n\n\ncadizacelerapyme@coiiaoc.com  (Eva) \ncdgacelerapyme@coiiaoc.com (Vanesa) \nsevilla1acelerapyme@coiiaoc.com (Setefilla) \nsevilla2acelerapyme@coiiaoc.com (Matilde)
URL:https://acelerapymecoiiaocsevilla.com/eventos/nociones-basicas-para-usar-la-plataforma-digital-de-contratacion-del-sector-publico/
LOCATION:Centro de iniciativas juveniles BOX\, Calle Severo Ochoa S/N\, Chiclana de la Frontera\, España
END:VEVENT
BEGIN:VEVENT
DTSTART;TZID=Europe/Madrid:20241121T170000
DTEND;TZID=Europe/Madrid:20241121T190000
DTSTAMP:20260420T015443
CREATED:20241112T130309Z
LAST-MODIFIED:20241112T130309Z
UID:19782-1732208400-1732215600@acelerapymecoiiaocsevilla.com
SUMMARY:FACTURA ELECTRÓNICA
DESCRIPTION:Inscribirse aquí\nEn un contexto en el que la digitalización avanza a pasos agigantados\, y donde los cambios regulatorios son clave para adaptarse al entorno económico actual\, el próximo jueves 21 de noviembre a las 17:00 horas Acelera Pyme organiza un evento online esencial para todas las empresas y autónomos que deseen comprender y adaptarse a la nueva normativa de facturación electrónica en España. \nLa jornada\, titulada “Factura Electrónica: La obligatoriedad según el Real Decreto 1007/2023 del 28 de octubre”\, estará a cargo de Esperanza Sánchez Solís\, experta en legislación fiscal y procedimientos administrativos. Durante esta ponencia\, se analizarán los detalles de esta nueva legislación que regula la emisión de facturas electrónicas\, la cual tendrá un impacto significativo en cómo operan las empresas y profesionales en sus transacciones con clientes\, proveedores y administraciones públicas. \nEste evento está diseñado para ofrecer claridad y orientación práctica sobre los siguientes puntos clave: \n\nObligatoriedad y alcance: Conocerás a quiénes afecta esta regulación\, desde grandes empresas hasta autónomos\, y cómo impactará el flujo de trabajo administrativo y financiero.\nAdaptación de sistemas: Descubrirás las soluciones tecnológicas y herramientas disponibles para implementar la factura electrónica de forma rápida y eficiente\, garantizando el cumplimiento de la normativa.\nVentajas y desafíos: Analizaremos cómo la factura electrónica puede optimizar el control de los procesos financieros\, además de los retos que supone el cambio a un sistema digital para empresas de todos los tamaños.\n\nEsta jornada se presenta como una oportunidad ideal para resolver todas las dudas sobre esta nueva obligación y entender el valor que puede aportar a las empresas en términos de eficiencia y transparencia. \nFecha: Jueves 21 de noviembre\nHora: 17:00 (Online) \n¡No te pierdas esta sesión informativa clave! \nLas oficinas Acelera Pyme puestas en marcha en toda España por Red.es\, entidad pública adscrita al Ministerio para la Transformación Digital y de la Función Pública a través de la Secretaria del Estado de Digitalización e Inteligencia Artificial\, cuentan en su segunda convocatoria 2022 con un importe de ayuda concedida de 11.830.851\,68€ siendo el importe de la ayuda máxima el 80% del presupuesto subvencionable . El beneficiario cofinanciará el porcentaje restante. Las actuaciones están financiadas con cargo al Programa Operativo de Crecimiento Inteligente\, Fondos Europeos de Desarrollo Regional (FEDER) del periodo de programación 2021-2027. \nY si tienes dudas o necesitas más información puedes ponerte en contacto con cualquiera de nuestras técnicas:\n\n\n\n\n\n\n\n\ncadizacelerapyme@coiiaoc.com  (Eva) \ncdgacelerapyme@coiiaoc.com (Vanesa) \nsevilla1acelerapyme@coiiaoc.com (Setefilla) \nsevilla2acelerapyme@coiiaoc.com (Matilde)
URL:https://acelerapymecoiiaocsevilla.com/eventos/factura-electronica/
LOCATION:ONLINE
CATEGORIES:Cursos,Jornadas
END:VEVENT
BEGIN:VEVENT
DTSTART;TZID=Europe/Madrid:20241128T100000
DTEND;TZID=Europe/Madrid:20241128T120000
DTSTAMP:20260420T015443
CREATED:20241113T094927Z
LAST-MODIFIED:20241113T094927Z
UID:19796-1732788000-1732795200@acelerapymecoiiaocsevilla.com
SUMMARY:Todo lo que necesitas saber sobre la factura electrónica
DESCRIPTION:Inscribirse aquí\nAcelera Pyme te invita a un nuevo evento enfocado en uno de los cambios más importantes para empresas y autónomos en el ámbito de la facturación: la transición a la factura electrónica. Este taller\, titulado «Todo lo que necesitas saber sobre la factura electrónica»\, se celebrará el próximo jueves 28 de noviembre a las 10:00 am en el CADE de Huelva. Contará con la participación de Lucía Parejo\, quien se encargará de guiar a los asistentes en los aspectos clave de este nuevo modelo de facturación. \nLa entrada en vigor de la normativa que obliga a gran parte de las empresas a implementar la factura electrónica supone un desafío\, pero también una oportunidad para mejorar la eficiencia y transparencia en los procesos financieros. Durante esta jornada\, los asistentes podrán entender en profundidad la nueva normativa\, los plazos de aplicación y los beneficios asociados a la digitalización de facturas\, así como las herramientas disponibles para implementar este cambio de manera efectiva y sencilla. \nTemas que se abordarán en la jornada: \n\nAspectos legales de la factura electrónica: normativa vigente y plazos para adaptarse.\nBeneficios de la factura electrónica para mejorar la gestión financiera y reducir errores.\nHerramientas y software disponibles para facilitar la emisión de facturas electrónicas.\nConsejos prácticos y pasos para migrar de la facturación en papel a la facturación digital.\n\nEl evento está dirigido a empresarios\, autónomos y cualquier profesional que desee conocer el impacto de la factura electrónica en su actividad diaria y aprender a adaptarse a esta nueva exigencia legal de forma rápida y eficaz. Además\, los asistentes tendrán la oportunidad de resolver dudas y compartir inquietudes sobre este proceso de digitalización en un ambiente de aprendizaje práctico y accesible. \nNo pierdas esta oportunidad de avanzar en la digitalización de tu negocio. ¡Te esperamos el 28 de noviembre en el CADE de Huelva para ayudarte a dar el siguiente paso hacia la gestión empresarial del futuro! \nLas oficinas Acelera Pyme puestas en marcha en toda España por Red.es\, entidad pública adscrita al Ministerio para la Transformación Digital y de la Función Pública a través de la Secretaria del Estado de Digitalización e Inteligencia Artificial\, cuentan en su segunda convocatoria 2022 con un importe de ayuda concedida de 11.830.851\,68€ siendo el importe de la ayuda máxima el 80% del presupuesto subvencionable . El beneficiario cofinanciará el porcentaje restante. Las actuaciones están financiadas con cargo al Programa Operativo de Crecimiento Inteligente\, Fondos Europeos de Desarrollo Regional (FEDER) del periodo de programación 2021-2027. \nY si tienes dudas o necesitas más información puedes ponerte en contacto con cualquiera de nuestras técnicas:\n\n\n\n\n\n\n\n\ncadizacelerapyme@coiiaoc.com \ncdgacelerapyme@coiiaoc.com (Vanesa) \nsevilla1acelerapyme@coiiaoc.com (Setefilla) \nsevilla2acelerapyme@coiiaoc.com (Matilde)
URL:https://acelerapymecoiiaocsevilla.com/eventos/todo-lo-que-necesitas-saber-sobre-la-factura-electronica/
LOCATION:CADE HUELVA\, Avd\, Villa de Madrid\, 17\, local A\, Huelva\, Huelva\, España
END:VEVENT
BEGIN:VEVENT
DTSTART;TZID=Europe/Madrid:20241128T170000
DTEND;TZID=Europe/Madrid:20241128T190000
DTSTAMP:20260420T015443
CREATED:20241114T132114Z
LAST-MODIFIED:20241114T132114Z
UID:19804-1732813200-1732820400@acelerapymecoiiaocsevilla.com
SUMMARY:Tecnología al alcance de todos\, sin ser ingeniero
DESCRIPTION:Inscribirse aquí\nLa digitalización avanza rápidamente y transforma la forma en que gestionamos negocios\, nos comunicamos y accedemos a la información. Conscientes de esta realidad\, Acelera Pyme presenta un evento diseñado para hacer que la tecnología sea accesible para todos\, sin importar el nivel de experiencia técnica. Bajo el título «Tecnología al alcance de todos\, sin ser ingeniero»\, esta jornada está dirigida a empresarios\, autónomos y cualquier profesional que desee comprender y aprovechar las herramientas tecnológicas más relevantes en la actualidad. \nEl evento se celebrará el próximo jueves 28 de noviembre a las 17:00 en el Centro de Iniciativas Juveniles BOX en Chiclana de la Frontera. La jornada cubrirá cuatro áreas fundamentales para optimizar el rendimiento de cualquier empresa o proyecto en el ámbito digital: iCloud\, ciberseguridad\, inteligencia artificial y Martech. \nTemas principales que se abordarán: \n\niCloud y almacenamiento en la nube: Exploraremos los beneficios y funcionalidades del almacenamiento en la nube\, desde la gestión y acceso a documentos de manera segura hasta la colaboración en tiempo real. Aprenderás cómo esta herramienta puede mejorar la eficiencia y accesibilidad de tu trabajo diario.\nCiberseguridad básica: En la era digital\, proteger la información es esencial. Conocerás las medidas básicas para mantener tus datos y dispositivos seguros\, así como técnicas preventivas para evitar amenazas y ataques cibernéticos.\nInteligencia Artificial (IA): La IA es una herramienta poderosa para optimizar tareas y personalizar la experiencia del cliente. Descubre aplicaciones prácticas de la IA que pueden ayudarte a mejorar procesos y tomar decisiones más informadas.\nMartech: Exploraremos el concepto de “marketing technology” y cómo integrar herramientas tecnológicas en tus estrategias de marketing\, desde la automatización hasta el análisis de datos para alcanzar a tu audiencia de manera efectiva.\n\nEste evento está diseñado para todos aquellos que quieren potenciar su empresa o marca utilizando herramientas tecnológicas de vanguardia\, sin la necesidad de ser un experto en informática o ingeniería. Con un enfoque práctico y accesible\, se ofrecerán consejos\, estrategias y aplicaciones que podrás aplicar de inmediato para optimizar tu negocio y adaptarlo a las demandas de la economía digital actual. \n¡No pierdas la oportunidad de dar un paso hacia el futuro! Te esperamos el 28 de noviembre en Chiclana de la Frontera para una tarde de aprendizaje y transformación digital. \n  \nLas oficinas Acelera Pyme puestas en marcha en toda España por Red.es\, entidad pública adscrita al Ministerio para la Transformación Digital y de la Función Pública a través de la Secretaria del Estado de Digitalización e Inteligencia Artificial\, cuentan en su segunda convocatoria 2022 con un importe de ayuda concedida de 11.830.851\,68€ siendo el importe de la ayuda máxima el 80% del presupuesto subvencionable . El beneficiario cofinanciará el porcentaje restante. Las actuaciones están financiadas con cargo al Programa Operativo de Crecimiento Inteligente\, Fondos Europeos de Desarrollo Regional (FEDER) del periodo de programación 2021-2027. \nY si tienes dudas o necesitas más información puedes ponerte en contacto con cualquiera de nuestras técnicas:\n\n\n\n\n\n\n\n\ncadizacelerapyme@coiiaoc.com \ncdgacelerapyme@coiiaoc.com (Vanesa) \nsevilla1acelerapyme@coiiaoc.com (Setefilla) \nsevilla2acelerapyme@coiiaoc.com (Matilde)
URL:https://acelerapymecoiiaocsevilla.com/eventos/tecnologia-al-alcance-de-todos-sin-ser-ingeniero/
LOCATION:Centro de iniciativas juveniles BOX\, Calle Severo Ochoa S/N\, Chiclana de la Frontera\, España
END:VEVENT
END:VCALENDAR